BEGIN:VCALENDAR
VERSION:2.0
PRODID:-//Buggybuddys guide for families in Perth - ECPv6.15.11//NONSGML v1.0//EN
CALSCALE:GREGORIAN
METHOD:PUBLISH
X-ORIGINAL-URL:https://buggybuddys.com.au
X-WR-CALDESC:Events for Buggybuddys guide for families in Perth
REFRESH-INTERVAL;VALUE=DURATION:PT1H
X-Robots-Tag:noindex
X-PUBLISHED-TTL:PT1H
BEGIN:VTIMEZONE
TZID:Australia/Perth
BEGIN:STANDARD
TZOFFSETFROM:+0800
TZOFFSETTO:+0800
TZNAME:AWST
DTSTART:20250101T000000
END:STANDARD
END:VTIMEZONE
BEGIN:VEVENT
DTSTART;TZID=Australia/Perth:20260528T180000
DTEND;TZID=Australia/Perth:20260528T190000
DTSTAMP:20260425T233416
CREATED:20260113T140316Z
LAST-MODIFIED:20260113T140316Z
UID:10072508-1779991200-1779994800@buggybuddys.com.au
SUMMARY:Poetry Club
DESCRIPTION:4th Thursday of the Month\n5.45pm arrival for 6.00pm start \nThe Victoria Park Poetry Club is calling all local poets to come and share the beauty of the written word through discussion\, writing opportunities and sharing your own creations.\nThe session will be facilitated by Mimma Tornatora\, local poet\, facilitator & teacher.\nGatherings occur monthly\, on the fourth Thursday of each month. \nBYO writing materials & drink bottle. \n  \n\n\n\n\n\nBook Online
URL:https://buggybuddys.com.au/perth-event/poetry-club/2026-05-28/
CATEGORIES:Free,Library Events,Teens
ATTACH;FMTTYPE=image/jpeg:https://buggybuddys.com.au/wp-content/uploads/2026/01/Poetry-Club.jpg
END:VEVENT
BEGIN:VEVENT
DTSTART;TZID=Australia/Perth:20260625T180000
DTEND;TZID=Australia/Perth:20260625T190000
DTSTAMP:20260425T233416
CREATED:20260113T140316Z
LAST-MODIFIED:20260113T140316Z
UID:10072509-1782410400-1782414000@buggybuddys.com.au
SUMMARY:Poetry Club
DESCRIPTION:4th Thursday of the Month\n5.45pm arrival for 6.00pm start \nThe Victoria Park Poetry Club is calling all local poets to come and share the beauty of the written word through discussion\, writing opportunities and sharing your own creations.\nThe session will be facilitated by Mimma Tornatora\, local poet\, facilitator & teacher.\nGatherings occur monthly\, on the fourth Thursday of each month. \nBYO writing materials & drink bottle. \n  \n\n\n\n\n\nBook Online
URL:https://buggybuddys.com.au/perth-event/poetry-club/2026-06-25/
CATEGORIES:Free,Library Events,Teens
ATTACH;FMTTYPE=image/jpeg:https://buggybuddys.com.au/wp-content/uploads/2026/01/Poetry-Club.jpg
END:VEVENT
BEGIN:VEVENT
DTSTART;TZID=Australia/Perth:20260723T180000
DTEND;TZID=Australia/Perth:20260723T190000
DTSTAMP:20260425T233416
CREATED:20260113T140316Z
LAST-MODIFIED:20260113T140316Z
UID:10072510-1784829600-1784833200@buggybuddys.com.au
SUMMARY:Poetry Club
DESCRIPTION:4th Thursday of the Month\n5.45pm arrival for 6.00pm start \nThe Victoria Park Poetry Club is calling all local poets to come and share the beauty of the written word through discussion\, writing opportunities and sharing your own creations.\nThe session will be facilitated by Mimma Tornatora\, local poet\, facilitator & teacher.\nGatherings occur monthly\, on the fourth Thursday of each month. \nBYO writing materials & drink bottle. \n  \n\n\n\n\n\nBook Online
URL:https://buggybuddys.com.au/perth-event/poetry-club/2026-07-23/
CATEGORIES:Free,Library Events,Teens
ATTACH;FMTTYPE=image/jpeg:https://buggybuddys.com.au/wp-content/uploads/2026/01/Poetry-Club.jpg
END:VEVENT
BEGIN:VEVENT
DTSTART;TZID=Australia/Perth:20260827T180000
DTEND;TZID=Australia/Perth:20260827T190000
DTSTAMP:20260425T233416
CREATED:20260113T140316Z
LAST-MODIFIED:20260113T140316Z
UID:10072511-1787853600-1787857200@buggybuddys.com.au
SUMMARY:Poetry Club
DESCRIPTION:4th Thursday of the Month\n5.45pm arrival for 6.00pm start \nThe Victoria Park Poetry Club is calling all local poets to come and share the beauty of the written word through discussion\, writing opportunities and sharing your own creations.\nThe session will be facilitated by Mimma Tornatora\, local poet\, facilitator & teacher.\nGatherings occur monthly\, on the fourth Thursday of each month. \nBYO writing materials & drink bottle. \n  \n\n\n\n\n\nBook Online
URL:https://buggybuddys.com.au/perth-event/poetry-club/2026-08-27/
CATEGORIES:Free,Library Events,Teens
ATTACH;FMTTYPE=image/jpeg:https://buggybuddys.com.au/wp-content/uploads/2026/01/Poetry-Club.jpg
END:VEVENT
BEGIN:VEVENT
DTSTART;TZID=Australia/Perth:20260924T180000
DTEND;TZID=Australia/Perth:20260924T190000
DTSTAMP:20260425T233416
CREATED:20260113T140316Z
LAST-MODIFIED:20260113T140316Z
UID:10072512-1790272800-1790276400@buggybuddys.com.au
SUMMARY:Poetry Club
DESCRIPTION:4th Thursday of the Month\n5.45pm arrival for 6.00pm start \nThe Victoria Park Poetry Club is calling all local poets to come and share the beauty of the written word through discussion\, writing opportunities and sharing your own creations.\nThe session will be facilitated by Mimma Tornatora\, local poet\, facilitator & teacher.\nGatherings occur monthly\, on the fourth Thursday of each month. \nBYO writing materials & drink bottle. \n  \n\n\n\n\n\nBook Online
URL:https://buggybuddys.com.au/perth-event/poetry-club/2026-09-24/
CATEGORIES:Free,Library Events,Teens
ATTACH;FMTTYPE=image/jpeg:https://buggybuddys.com.au/wp-content/uploads/2026/01/Poetry-Club.jpg
END:VEVENT
BEGIN:VEVENT
DTSTART;TZID=Australia/Perth:20261022T180000
DTEND;TZID=Australia/Perth:20261022T190000
DTSTAMP:20260425T233416
CREATED:20260113T140316Z
LAST-MODIFIED:20260113T140316Z
UID:10072513-1792692000-1792695600@buggybuddys.com.au
SUMMARY:Poetry Club
DESCRIPTION:4th Thursday of the Month\n5.45pm arrival for 6.00pm start \nThe Victoria Park Poetry Club is calling all local poets to come and share the beauty of the written word through discussion\, writing opportunities and sharing your own creations.\nThe session will be facilitated by Mimma Tornatora\, local poet\, facilitator & teacher.\nGatherings occur monthly\, on the fourth Thursday of each month. \nBYO writing materials & drink bottle. \n  \n\n\n\n\n\nBook Online
URL:https://buggybuddys.com.au/perth-event/poetry-club/2026-10-22/
CATEGORIES:Free,Library Events,Teens
ATTACH;FMTTYPE=image/jpeg:https://buggybuddys.com.au/wp-content/uploads/2026/01/Poetry-Club.jpg
END:VEVENT
BEGIN:VEVENT
DTSTART;TZID=Australia/Perth:20261126T180000
DTEND;TZID=Australia/Perth:20261126T190000
DTSTAMP:20260425T233416
CREATED:20260113T140316Z
LAST-MODIFIED:20260113T140316Z
UID:10072514-1795716000-1795719600@buggybuddys.com.au
SUMMARY:Poetry Club
DESCRIPTION:4th Thursday of the Month\n5.45pm arrival for 6.00pm start \nThe Victoria Park Poetry Club is calling all local poets to come and share the beauty of the written word through discussion\, writing opportunities and sharing your own creations.\nThe session will be facilitated by Mimma Tornatora\, local poet\, facilitator & teacher.\nGatherings occur monthly\, on the fourth Thursday of each month. \nBYO writing materials & drink bottle. \n  \n\n\n\n\n\nBook Online
URL:https://buggybuddys.com.au/perth-event/poetry-club/2026-11-26/
CATEGORIES:Free,Library Events,Teens
ATTACH;FMTTYPE=image/jpeg:https://buggybuddys.com.au/wp-content/uploads/2026/01/Poetry-Club.jpg
END:VEVENT
END:VCALENDAR