BEGIN:VCALENDAR
VERSION:2.0
PRODID:-//Buggybuddys guide for families in Perth - ECPv6.15.11//NONSGML v1.0//EN
CALSCALE:GREGORIAN
METHOD:PUBLISH
X-ORIGINAL-URL:https://buggybuddys.com.au
X-WR-CALDESC:Events for Buggybuddys guide for families in Perth
REFRESH-INTERVAL;VALUE=DURATION:PT1H
X-Robots-Tag:noindex
X-PUBLISHED-TTL:PT1H
BEGIN:VTIMEZONE
TZID:Australia/Perth
BEGIN:STANDARD
TZOFFSETFROM:+0800
TZOFFSETTO:+0800
TZNAME:AWST
DTSTART:20250101T000000
END:STANDARD
END:VTIMEZONE
BEGIN:VEVENT
DTSTART;TZID=Australia/Perth:20260515T103000
DTEND;TZID=Australia/Perth:20260515T113000
DTSTAMP:20260424T175344
CREATED:20260113T133509Z
LAST-MODIFIED:20260113T133509Z
UID:10072504-1778841000-1778844600@buggybuddys.com.au
SUMMARY:Cloth Nappy Q&A’s and Workshops
DESCRIPTION:Join us at the Library with The Nappy Guru to learn all about modern cloth nappies from birth to toilet training. Get familiar with different styles of nappies\, learn how to care for them\, chat to like-minded parents and get expert support. \nThe workshop will include: \n\nWhat you need to get started with cloth nappies\nTouch and feel various styles and brands of cloth nappies\nPractice fitting nappies on demo dolls\nLearn how to effectively wash and care for cloth nappies\nTalk to like-minded parents\nGet support and tips\n\nQ&A (no booking required): \nFriday 15 May 2026 | 10.30am -12.30pm (After Baby Rhymetime) | Free \nWorkshops (booking required) \nSaturday 21 February 2026  10.00am-12.00pm  \nBook Online \nPlus\, learn about our nappy rebate at the workshop and how you can get money back through purchasing\, hiring or repairing cloth nappies.
URL:https://buggybuddys.com.au/perth-event/cloth-nappy-qas-and-workshops/2026-05-15/
LOCATION:Victoria Park Library\, 27 Sussex Street\, East Victoria Park\, WA\, 6101\, Australia
CATEGORIES:Free,Parenting Workshop
ATTACH;FMTTYPE=image/jpeg:https://buggybuddys.com.au/wp-content/uploads/2026/01/Cloth-Nappy-QAs-and-Workshops.jpg
GEO:-31.9847413;115.8998445
X-APPLE-STRUCTURED-LOCATION;VALUE=URI;X-ADDRESS=Victoria Park Library 27 Sussex Street East Victoria Park WA 6101 Australia;X-APPLE-RADIUS=500;X-TITLE=27 Sussex Street:geo:115.8998445,-31.9847413
END:VEVENT
END:VCALENDAR