BEGIN:VCALENDAR
VERSION:2.0
PRODID:-//Buggybuddys guide for families in Perth - ECPv6.15.11//NONSGML v1.0//EN
CALSCALE:GREGORIAN
METHOD:PUBLISH
X-WR-CALNAME:Buggybuddys guide for families in Perth
X-ORIGINAL-URL:https://buggybuddys.com.au
X-WR-CALDESC:Events for Buggybuddys guide for families in Perth
REFRESH-INTERVAL;VALUE=DURATION:PT1H
X-Robots-Tag:noindex
X-PUBLISHED-TTL:PT1H
BEGIN:VTIMEZONE
TZID:Australia/Perth
BEGIN:STANDARD
TZOFFSETFROM:+0800
TZOFFSETTO:+0800
TZNAME:AWST
DTSTART:20250101T000000
END:STANDARD
END:VTIMEZONE
BEGIN:VEVENT
DTSTART;TZID=Australia/Perth:20260509T080000
DTEND;TZID=Australia/Perth:20260509T120000
DTSTAMP:20260420T000757
CREATED:20260418T130806Z
LAST-MODIFIED:20260418T130806Z
UID:10077688-1778313600-1778328000@buggybuddys.com.au
SUMMARY:Peace Park Charity Markets
DESCRIPTION:A selection of all things old\, new\, handcrafted and thrifted; there is something for all. \n\nLovers of all things handcrafted and unique are sure to enjoy the displays and exhibits of wares for sale.
URL:https://buggybuddys.com.au/perth-event/peace-park-charity-markets/2026-05-09/
LOCATION:Peace Park\, South Street\, York\, WA\, Australia
CATEGORIES:Charity Event,Community Event,Markets
ATTACH;FMTTYPE=image/jpeg:https://buggybuddys.com.au/wp-content/uploads/2026/04/Peace-Park-Charity-Markets.jpg
GEO:-31.8909779;116.7660746
X-APPLE-STRUCTURED-LOCATION;VALUE=URI;X-ADDRESS=Peace Park South Street York WA Australia;X-APPLE-RADIUS=500;X-TITLE=South Street:geo:116.7660746,-31.8909779
END:VEVENT
BEGIN:VEVENT
DTSTART;TZID=Australia/Perth:20260613T080000
DTEND;TZID=Australia/Perth:20260613T120000
DTSTAMP:20260420T000757
CREATED:20260418T130806Z
LAST-MODIFIED:20260418T130806Z
UID:10077689-1781337600-1781352000@buggybuddys.com.au
SUMMARY:Peace Park Charity Markets
DESCRIPTION:A selection of all things old\, new\, handcrafted and thrifted; there is something for all. \n\nLovers of all things handcrafted and unique are sure to enjoy the displays and exhibits of wares for sale.
URL:https://buggybuddys.com.au/perth-event/peace-park-charity-markets/2026-06-13/
LOCATION:Peace Park\, South Street\, York\, WA\, Australia
CATEGORIES:Charity Event,Community Event,Markets
ATTACH;FMTTYPE=image/jpeg:https://buggybuddys.com.au/wp-content/uploads/2026/04/Peace-Park-Charity-Markets.jpg
GEO:-31.8909779;116.7660746
X-APPLE-STRUCTURED-LOCATION;VALUE=URI;X-ADDRESS=Peace Park South Street York WA Australia;X-APPLE-RADIUS=500;X-TITLE=South Street:geo:116.7660746,-31.8909779
END:VEVENT
BEGIN:VEVENT
DTSTART;TZID=Australia/Perth:20260711T080000
DTEND;TZID=Australia/Perth:20260711T120000
DTSTAMP:20260420T000757
CREATED:20260418T130806Z
LAST-MODIFIED:20260418T130806Z
UID:10077690-1783756800-1783771200@buggybuddys.com.au
SUMMARY:Peace Park Charity Markets
DESCRIPTION:A selection of all things old\, new\, handcrafted and thrifted; there is something for all. \n\nLovers of all things handcrafted and unique are sure to enjoy the displays and exhibits of wares for sale.
URL:https://buggybuddys.com.au/perth-event/peace-park-charity-markets/2026-07-11/
LOCATION:Peace Park\, South Street\, York\, WA\, Australia
CATEGORIES:Charity Event,Community Event,Markets
ATTACH;FMTTYPE=image/jpeg:https://buggybuddys.com.au/wp-content/uploads/2026/04/Peace-Park-Charity-Markets.jpg
GEO:-31.8909779;116.7660746
X-APPLE-STRUCTURED-LOCATION;VALUE=URI;X-ADDRESS=Peace Park South Street York WA Australia;X-APPLE-RADIUS=500;X-TITLE=South Street:geo:116.7660746,-31.8909779
END:VEVENT
BEGIN:VEVENT
DTSTART;TZID=Australia/Perth:20260808T080000
DTEND;TZID=Australia/Perth:20260808T120000
DTSTAMP:20260420T000757
CREATED:20260418T130806Z
LAST-MODIFIED:20260418T130806Z
UID:10077691-1786176000-1786190400@buggybuddys.com.au
SUMMARY:Peace Park Charity Markets
DESCRIPTION:A selection of all things old\, new\, handcrafted and thrifted; there is something for all. \n\nLovers of all things handcrafted and unique are sure to enjoy the displays and exhibits of wares for sale.
URL:https://buggybuddys.com.au/perth-event/peace-park-charity-markets/2026-08-08/
LOCATION:Peace Park\, South Street\, York\, WA\, Australia
CATEGORIES:Charity Event,Community Event,Markets
ATTACH;FMTTYPE=image/jpeg:https://buggybuddys.com.au/wp-content/uploads/2026/04/Peace-Park-Charity-Markets.jpg
GEO:-31.8909779;116.7660746
X-APPLE-STRUCTURED-LOCATION;VALUE=URI;X-ADDRESS=Peace Park South Street York WA Australia;X-APPLE-RADIUS=500;X-TITLE=South Street:geo:116.7660746,-31.8909779
END:VEVENT
BEGIN:VEVENT
DTSTART;TZID=Australia/Perth:20260912T080000
DTEND;TZID=Australia/Perth:20260912T120000
DTSTAMP:20260420T000757
CREATED:20260418T130806Z
LAST-MODIFIED:20260418T130806Z
UID:10077692-1789200000-1789214400@buggybuddys.com.au
SUMMARY:Peace Park Charity Markets
DESCRIPTION:A selection of all things old\, new\, handcrafted and thrifted; there is something for all. \n\nLovers of all things handcrafted and unique are sure to enjoy the displays and exhibits of wares for sale.
URL:https://buggybuddys.com.au/perth-event/peace-park-charity-markets/2026-09-12/
LOCATION:Peace Park\, South Street\, York\, WA\, Australia
CATEGORIES:Charity Event,Community Event,Markets
ATTACH;FMTTYPE=image/jpeg:https://buggybuddys.com.au/wp-content/uploads/2026/04/Peace-Park-Charity-Markets.jpg
GEO:-31.8909779;116.7660746
X-APPLE-STRUCTURED-LOCATION;VALUE=URI;X-ADDRESS=Peace Park South Street York WA Australia;X-APPLE-RADIUS=500;X-TITLE=South Street:geo:116.7660746,-31.8909779
END:VEVENT
BEGIN:VEVENT
DTSTART;TZID=Australia/Perth:20261010T080000
DTEND;TZID=Australia/Perth:20261010T120000
DTSTAMP:20260420T000757
CREATED:20260418T130806Z
LAST-MODIFIED:20260418T130806Z
UID:10077693-1791619200-1791633600@buggybuddys.com.au
SUMMARY:Peace Park Charity Markets
DESCRIPTION:A selection of all things old\, new\, handcrafted and thrifted; there is something for all. \n\nLovers of all things handcrafted and unique are sure to enjoy the displays and exhibits of wares for sale.
URL:https://buggybuddys.com.au/perth-event/peace-park-charity-markets/2026-10-10/
LOCATION:Peace Park\, South Street\, York\, WA\, Australia
CATEGORIES:Charity Event,Community Event,Markets
ATTACH;FMTTYPE=image/jpeg:https://buggybuddys.com.au/wp-content/uploads/2026/04/Peace-Park-Charity-Markets.jpg
GEO:-31.8909779;116.7660746
X-APPLE-STRUCTURED-LOCATION;VALUE=URI;X-ADDRESS=Peace Park South Street York WA Australia;X-APPLE-RADIUS=500;X-TITLE=South Street:geo:116.7660746,-31.8909779
END:VEVENT
BEGIN:VEVENT
DTSTART;TZID=Australia/Perth:20261114T080000
DTEND;TZID=Australia/Perth:20261114T120000
DTSTAMP:20260420T000757
CREATED:20260418T130806Z
LAST-MODIFIED:20260418T130806Z
UID:10077694-1794643200-1794657600@buggybuddys.com.au
SUMMARY:Peace Park Charity Markets
DESCRIPTION:A selection of all things old\, new\, handcrafted and thrifted; there is something for all. \n\nLovers of all things handcrafted and unique are sure to enjoy the displays and exhibits of wares for sale.
URL:https://buggybuddys.com.au/perth-event/peace-park-charity-markets/2026-11-14/
LOCATION:Peace Park\, South Street\, York\, WA\, Australia
CATEGORIES:Charity Event,Community Event,Markets
ATTACH;FMTTYPE=image/jpeg:https://buggybuddys.com.au/wp-content/uploads/2026/04/Peace-Park-Charity-Markets.jpg
GEO:-31.8909779;116.7660746
X-APPLE-STRUCTURED-LOCATION;VALUE=URI;X-ADDRESS=Peace Park South Street York WA Australia;X-APPLE-RADIUS=500;X-TITLE=South Street:geo:116.7660746,-31.8909779
END:VEVENT
BEGIN:VEVENT
DTSTART;TZID=Australia/Perth:20261212T080000
DTEND;TZID=Australia/Perth:20261212T120000
DTSTAMP:20260420T000758
CREATED:20260418T130806Z
LAST-MODIFIED:20260418T130806Z
UID:10077695-1797062400-1797076800@buggybuddys.com.au
SUMMARY:Peace Park Charity Markets
DESCRIPTION:A selection of all things old\, new\, handcrafted and thrifted; there is something for all. \n\nLovers of all things handcrafted and unique are sure to enjoy the displays and exhibits of wares for sale.
URL:https://buggybuddys.com.au/perth-event/peace-park-charity-markets/2026-12-12/
LOCATION:Peace Park\, South Street\, York\, WA\, Australia
CATEGORIES:Charity Event,Community Event,Markets
ATTACH;FMTTYPE=image/jpeg:https://buggybuddys.com.au/wp-content/uploads/2026/04/Peace-Park-Charity-Markets.jpg
GEO:-31.8909779;116.7660746
X-APPLE-STRUCTURED-LOCATION;VALUE=URI;X-ADDRESS=Peace Park South Street York WA Australia;X-APPLE-RADIUS=500;X-TITLE=South Street:geo:116.7660746,-31.8909779
END:VEVENT
END:VCALENDAR