BEGIN:VCALENDAR
VERSION:2.0
PRODID:-//Buggybuddys guide for families in Perth - ECPv6.15.11//NONSGML v1.0//EN
CALSCALE:GREGORIAN
METHOD:PUBLISH
X-WR-CALNAME:Buggybuddys guide for families in Perth
X-ORIGINAL-URL:https://buggybuddys.com.au
X-WR-CALDESC:Events for Buggybuddys guide for families in Perth
REFRESH-INTERVAL;VALUE=DURATION:PT1H
X-Robots-Tag:noindex
X-PUBLISHED-TTL:PT1H
BEGIN:VTIMEZONE
TZID:Australia/Perth
BEGIN:STANDARD
TZOFFSETFROM:+0800
TZOFFSETTO:+0800
TZNAME:AWST
DTSTART:20250101T000000
END:STANDARD
END:VTIMEZONE
BEGIN:VEVENT
DTSTART;TZID=Australia/Perth:20260507T163000
DTEND;TZID=Australia/Perth:20260507T200000
DTSTAMP:20260426T011011
CREATED:20260121T140203Z
LAST-MODIFIED:20260121T140203Z
UID:10072912-1778171400-1778184000@buggybuddys.com.au
SUMMARY:Amberton Beach Fortnightly Twilight Markets
DESCRIPTION:Join us and ‘Stockland Amberton Beach’ for a series of twilight markets and food trucks at Amberton Beach.There will be live music and lots of amazing international cuisines to try.Bring your picnic blankets or chairs\, and let the kids enjoy the Lighthouse Playground right next door.There will be a few market stalls each fortnight to browse as well as a great lineup of food trucks!Live Music presented courtesy of Stockland Amberton Beach. 
URL:https://buggybuddys.com.au/perth-event/amberton-beach-fortnightly-twilight-markets/2026-05-07/
LOCATION:Amberton Beach Lighthouse Park\, Idyllic View\, Eglinton\, WA\, 6034\, Australia
CATEGORIES:Community Event,Free,Markets
ATTACH;FMTTYPE=image/jpeg:https://buggybuddys.com.au/wp-content/uploads/2026/01/Amberton-Beach-Fortnightly-Twilight-Markets.jpg
END:VEVENT
BEGIN:VEVENT
DTSTART;TZID=Australia/Perth:20260521T163000
DTEND;TZID=Australia/Perth:20260521T200000
DTSTAMP:20260426T011011
CREATED:20260121T140203Z
LAST-MODIFIED:20260121T140203Z
UID:10072913-1779381000-1779393600@buggybuddys.com.au
SUMMARY:Amberton Beach Fortnightly Twilight Markets
DESCRIPTION:Join us and ‘Stockland Amberton Beach’ for a series of twilight markets and food trucks at Amberton Beach.There will be live music and lots of amazing international cuisines to try.Bring your picnic blankets or chairs\, and let the kids enjoy the Lighthouse Playground right next door.There will be a few market stalls each fortnight to browse as well as a great lineup of food trucks!Live Music presented courtesy of Stockland Amberton Beach. 
URL:https://buggybuddys.com.au/perth-event/amberton-beach-fortnightly-twilight-markets/2026-05-21/
LOCATION:Amberton Beach Lighthouse Park\, Idyllic View\, Eglinton\, WA\, 6034\, Australia
CATEGORIES:Community Event,Free,Markets
ATTACH;FMTTYPE=image/jpeg:https://buggybuddys.com.au/wp-content/uploads/2026/01/Amberton-Beach-Fortnightly-Twilight-Markets.jpg
END:VEVENT
END:VCALENDAR