BEGIN:VCALENDAR
VERSION:2.0
PRODID:-//Buggybuddys guide for families in Perth - ECPv6.15.11//NONSGML v1.0//EN
CALSCALE:GREGORIAN
METHOD:PUBLISH
X-WR-CALNAME:Buggybuddys guide for families in Perth
X-ORIGINAL-URL:https://buggybuddys.com.au
X-WR-CALDESC:Events for Buggybuddys guide for families in Perth
REFRESH-INTERVAL;VALUE=DURATION:PT1H
X-Robots-Tag:noindex
X-PUBLISHED-TTL:PT1H
BEGIN:VTIMEZONE
TZID:Australia/Perth
BEGIN:STANDARD
TZOFFSETFROM:+0800
TZOFFSETTO:+0800
TZNAME:AWST
DTSTART:20240101T000000
END:STANDARD
END:VTIMEZONE
BEGIN:VEVENT
DTSTART;VALUE=DATE:20251220
DTEND;VALUE=DATE:20251221
DTSTAMP:20260426T081537
CREATED:20251119T033123Z
LAST-MODIFIED:20251119T033123Z
UID:10068377-1766188800-1766275199@buggybuddys.com.au
SUMMARY:Mandurah Christmas Lights Trail
DESCRIPTION:Experience the festive magic at the Mandurah Christmas Lights Trail brought to you by the City of Mandurah. \n\n\n\n\n\n\nFrom 28th November 2025 to 4th January 2026\, explore the City Centre and Mandurah Ocean Marina\, where stunning light displays will transform the streets into a dazzling holiday wonderland. \n\n\n\n\n\n\nThe Christmas Lights Trail features beautiful light installations across multiple locations\, including the southern precinct at Kwillena Gabi Pool\, the vibrant Boardwalk and Mandjar Square\, and the picturesque Mandurah Ocean Marina. Each location is uniquely decorated\, creating a magical atmosphere for all to enjoy. \n\n\n\n\n\n\nWith 35 stunning light installations shining across land and water\, the trail will take you on a magical journey through the City Centre\, Eastern Foreshore and Mandurah Ocean Marina.\nExperience augmented reality magic — scan the QR code along the trail to view Santa’s workshop come to life before your eyes! Every night brings something new\, with a vibrant line-up of free entertainment\, activities and festive fun for all ages.
URL:https://buggybuddys.com.au/perth-event/mandurah-christmas-lights-trail/2025-12-20/
LOCATION:WA
CATEGORIES:Christmas
ATTACH;FMTTYPE=image/webp:https://buggybuddys.com.au/wp-content/uploads/2025/11/Mandurah-Christmas-Lights-Trail-Event_1100x1100.webp
END:VEVENT
BEGIN:VEVENT
DTSTART;VALUE=DATE:20251220
DTEND;VALUE=DATE:20251221
DTSTAMP:20260426T081537
CREATED:20251116T122804Z
LAST-MODIFIED:20251116T122804Z
UID:10068261-1766188800-1766275199@buggybuddys.com.au
SUMMARY:Summer Reading Quest
DESCRIPTION:Calling all Adventurers! Get ready for a monster reading quest! \n  \nSummer Reading Quest is back\, from 1 December 2025 to 31 January 2026. \nThere are two levels for the Summer Reading Quest: \n  \n  \nSummer Steps Card \n\nAges 0 – 5 years \n\n\nChoose a fun activity to complete day. \n\n\nTick them off as you step through the month.\n\n\nWhen you have 30 ticks\, bring this to your local library branch to collect a prize.\n\n  \nSummer Reading Log & Side Quests \n  \nReading Logs: \n\nAges 5+ \nRead indoors\, outdoors\, upside down\, in bed\, under a tree\, in a laundry basket\, standing one foot! Read anywhere\, any way. Just READ.\nRecord your reading in the Reading Log.If you run out of space\, ask at your local library for more pages.\n\n  \nSide Quest:  \n\nAges 5+ \nComplete the Side Quest Adventures.\nTick off your Side Quest as you complete them.\nCollect a stamp from your library for every 5 quests completed.\nWhen you have 4 stamps\, collect a prize from your local library.\n\n  \nCollect your Summer Steps Card or Reading Log from: \n\nFalcon Library\nLakelands Library\nMandurah Library\n\n  \nThis is a state-wide reading quest. \n  \nRegister your Summer Steps Card or Reading logs online at https://www.summerreadingquest.net/   \nby Sunday\, 15 February 2026 for the chance to win monstrously good prizes!
URL:https://buggybuddys.com.au/perth-event/summer-reading-quest/2025-12-20/
LOCATION:WA
CATEGORIES:Free,Library Events,School Holiday Events
ATTACH;FMTTYPE=image/png:https://buggybuddys.com.au/wp-content/uploads/2025/11/Summer-Reading-Quest.png
END:VEVENT
BEGIN:VEVENT
DTSTART;VALUE=DATE:20251220
DTEND;VALUE=DATE:20251221
DTSTAMP:20260426T081537
CREATED:20251106T031201Z
LAST-MODIFIED:20260221T103805Z
UID:10067506-1766188800-1766275199@buggybuddys.com.au
SUMMARY:BODY WORLDS: The Anatomy of Happiness 
DESCRIPTION:BODY WORLDS: The Anatomy of Happiness arrives in Perth for the first time—after captivating 57 million visitors in 170 cities. Explore real human specimens\, interactive features like the Anatomical Mirror\, and discover how joy transforms the body. A powerful\, inspiring journey through anatomy\, emotion\, and health that will change how you see yourself—inside and out. Get your tickets today for BODY WORLDS: The Anatomy of Happiness in Perth! \nBOOK NOW  \n  \n\n\n  \n\n \n\n \n \n\n\n \n \n\nView this post on Instagram\n\n \n\n\n \n \n \n\n\n \n \n\n\n \n \n \n\n\n\n \n \n\n  \nA post shared by Buggybuddys for Kids in Perth (@buggybuddys_kids_in_perth) \n\n\n 
URL:https://buggybuddys.com.au/perth-event/body-worlds-the-anatomy-of-happiness/2025-12-20/
LOCATION:Northbridge Centre\, 30 Beaufort Street\, Perth
CATEGORIES:Exhibition,School Holiday Events
ATTACH;FMTTYPE=image/avif:https://buggybuddys.com.au/wp-content/uploads/2025/11/1ab63c14-149c-11f0-945a-f65f346f445e.avif
END:VEVENT
BEGIN:VEVENT
DTSTART;VALUE=DATE:20251220
DTEND;VALUE=DATE:20251221
DTSTAMP:20260426T081537
CREATED:20251106T030417Z
LAST-MODIFIED:20251106T030418Z
UID:10067452-1766188800-1766275199@buggybuddys.com.au
SUMMARY:Dinos Alive: An Immersive Experience
DESCRIPTION:Go back millions of years to a land ruled by giants! This immersive experience in Perth brings you face-to-face with the fearsome and spectacular dinosaurs that dominated the animal world for 140 million years. From the turkey-sized Velociraptors to the mighty T-Rex\, interact with life-sized\, moving animatronics of a large variety of species\, and see these magnificent creatures in their natural Jurassic habitat. Step into another world and learn something new in an experience that’s fun for the whole family! Get your tickets now for Dinos Alive in Perth! \nBOOK NOW \nBuggybuddys Review\nDinos Alive: An Immersive Experience \n \n 
URL:https://buggybuddys.com.au/perth-event/dinos-alive-an-immersive-experience/2025-12-20/
LOCATION:Northbridge Centre\, 30 Beaufort Street\, Perth
CATEGORIES:Exhibition,School Holiday Events
ATTACH;FMTTYPE=image/avif:https://buggybuddys.com.au/wp-content/uploads/2025/11/35b083a0-5806-11f0-8e58-aa7917a928b9.avif
END:VEVENT
BEGIN:VEVENT
DTSTART;VALUE=DATE:20251220
DTEND;VALUE=DATE:20251221
DTSTAMP:20260426T081537
CREATED:20251103T061538Z
LAST-MODIFIED:20251103T061538Z
UID:10067138-1766188800-1766275199@buggybuddys.com.au
SUMMARY:Santa's Christmas Village
DESCRIPTION:Step inside the magic of Santa’s Christmas Village – all indoors at the Perth Convention & Exhibition Centre! \nDiscover Perth’s ultimate Christmas celebration — a dazzling\, family-friendly wonderland bursting with festive fun\, live entertainment\, and hands-on Christmas activities your little ones will remember forever.\nWatch PAW Patrol LIVE on stage\, Meet Santa\, Sing with Reindeers\, decorate your own gingerbread cookies\, find your way out of the Holly Jolly Maze\, craft sparkling baubles\, and MORE! With over 20+ magical attractions and experiences\, there’s no better place in Perth to celebrate the joy of Christmas. \n \nFind out more
URL:https://buggybuddys.com.au/perth-event/santas-christmas-village/2025-12-20/
LOCATION:Perth Convention and Exhibition Centre\, 21 Mounts Bay Road\, Perth\, WA\, 6000\, Australia
CATEGORIES:Christmas,School Holiday Events
ATTACH;FMTTYPE=image/jpeg:https://buggybuddys.com.au/wp-content/uploads/2025/11/566301287_122102742651067042_4789817461132411970_n.jpg
GEO:-31.956944;115.853611
X-APPLE-STRUCTURED-LOCATION;VALUE=URI;X-ADDRESS=Perth Convention and Exhibition Centre 21 Mounts Bay Road Perth WA 6000 Australia;X-APPLE-RADIUS=500;X-TITLE=21 Mounts Bay Road:geo:115.853611,-31.956944
END:VEVENT
BEGIN:VEVENT
DTSTART;TZID=Australia/Perth:20251219T190000
DTEND;TZID=Australia/Perth:20251219T233000
DTSTAMP:20260426T081537
CREATED:20251105T045258Z
LAST-MODIFIED:20251105T045258Z
UID:10067281-1766170800-1766187000@buggybuddys.com.au
SUMMARY:City of Joondalup Christmas Lights Trail
DESCRIPTION:Wander through the sparkling Christmas Lights Trail in and soak up the festive atmosphere in the heart of Joondalup. \nStarting from Monday 10 November Santa’s little helpers will start bringing festive fun to the following locations: \n\nCorner Boas Avenue & McLarty Avenue \nCorner Boas Avenue & Grand Boulevard\nCentral Walk & Boas Avenue\nCentra Walk \nCentral Walk & Reid Promenade\nCorner Reid Promenade & Davidson Terrace\nCorner Boas Avenue & Davidson Terrace\nJoondalup Library & Library Lawn\n\nPlease see Christmas Trail map below for locations around the City centre.\nChristmas Trail Map
URL:https://buggybuddys.com.au/perth-event/city-of-joondalup-christmas-lights-trail/2025-12-19/
LOCATION:WA
CATEGORIES:Christmas
ATTACH;FMTTYPE=image/jpeg:https://buggybuddys.com.au/wp-content/uploads/2025/11/Christmas-Uptown1-scaled.jpg
END:VEVENT
BEGIN:VEVENT
DTSTART;TZID=Australia/Perth:20251219T183000
DTEND;TZID=Australia/Perth:20251219T203000
DTSTAMP:20260426T081537
CREATED:20251121T150819Z
LAST-MODIFIED:20251121T150819Z
UID:10068419-1766169000-1766176200@buggybuddys.com.au
SUMMARY:Family Christmas Movie Night @ AH Bracks Library
DESCRIPTION:Pop on your PJs and head to the library\, Buddy’s in town! \nBring the family to the library for movie night and watch Elf\, the hilarious holiday classic full of laughs and festive fun. \nYou bring the comfy vibes\, we’ll bring the popcorn and squeezy juices! PJs are optional… but honestly\, why wouldn’t you? \nThis film is rated G and recommended for ages 8+ by Common Sense Media \nPlease be advised that children under the age of 13 years are to be accompanied by an adult at this activity. \nIf you are unwell or cannot attend\, please contact the library as soon as you are able to allow someone else to take your place. \nBook this event
URL:https://buggybuddys.com.au/perth-event/family-christmas-movie-night-ah-bracks-library/
LOCATION:AH Bracks Library + Creative Space\, 431 Canning Highway (cnr of Stock Road)\, Melville\, WA\, 6156\, Australia
CATEGORIES:Christmas,Family Event,Free,Library Events,Movies
ATTACH;FMTTYPE=image/jpeg:https://buggybuddys.com.au/wp-content/uploads/2025/11/Family-Christmas-Movie-Night-@-AH-Bracks-Library.jpg
GEO:-32.0342729;115.793618
X-APPLE-STRUCTURED-LOCATION;VALUE=URI;X-ADDRESS=AH Bracks Library + Creative Space 431 Canning Highway (cnr of Stock Road) Melville WA 6156 Australia;X-APPLE-RADIUS=500;X-TITLE=431 Canning Highway (cnr of Stock Road):geo:115.793618,-32.0342729
END:VEVENT
BEGIN:VEVENT
DTSTART;TZID=Australia/Perth:20251219T183000
DTEND;TZID=Australia/Perth:20251219T193000
DTSTAMP:20260426T081537
CREATED:20251105T104030Z
LAST-MODIFIED:20251106T024630Z
UID:10067394-1766169000-1766172600@buggybuddys.com.au
SUMMARY:Candlelight: A Night of Christmas Classics
DESCRIPTION:Candlelight concerts bring the magic of a live\, multi-sensory musical experience to awe-inspiring locations like never seen before in Perth. Get your tickets now to discover the music of A Night of Christmas Classics at Perth Town Hall under the gentle glow of candlelight. \nProgramme \n\nIt’s Beginning to Look a Lot Like Christmas\nWhite Christmas\nHave Yourself a Merry Little Christmas\nSanta Claus is Coming to Town\nFrosty the Snowman\nJingle Bells\nThe Christmas Song\nLast Christmas\nHappy Xmas (War is Over)\nFeliz Navidad\nO Holy Night\nAll I Want for Christmas Is You\n\nDates \n18th\, 19th\, 20th and 23rd December  \nGeneral Info\nVenue: Perth Town Hall\nDates and times: select your dates/times directly in the ticket selector\n⏳ Duration: 60 minutes. Doors open 30 minutes before the show and close 5 minutes prior to the start. Late arrivals will not be permitted\nAge requirement: 8 years old or older. Anyone under the age of 16 must be accompanied by an adult \n  \nBOOK NOW
URL:https://buggybuddys.com.au/perth-event/candlelight-a-night-of-christmas-classics/2025-12-19/
LOCATION:Perth Town Hall\, 601 Hay Street\, Perth\, WA\, 6000\, Australia
CATEGORIES:Christmas,Christmas Carols,Theatre & Shows
ATTACH;FMTTYPE=image/avif:https://buggybuddys.com.au/wp-content/uploads/2025/11/5762e8cc-3f96-11f0-ac4c-f2a5a70dd2a9.avif
GEO:-31.9525739;115.8610488
X-APPLE-STRUCTURED-LOCATION;VALUE=URI;X-ADDRESS=Perth Town Hall 601 Hay Street Perth WA 6000 Australia;X-APPLE-RADIUS=500;X-TITLE=601 Hay Street:geo:115.8610488,-31.9525739
END:VEVENT
BEGIN:VEVENT
DTSTART;TZID=Australia/Perth:20251219T180000
DTEND;TZID=Australia/Perth:20251219T233000
DTSTAMP:20260426T081537
CREATED:20251103T035351Z
LAST-MODIFIED:20251103T035352Z
UID:10067111-1766167200-1766187000@buggybuddys.com.au
SUMMARY:Rio Tinto Christmas Lights Trail
DESCRIPTION:The city’s favourite Christmas tradition returns! Explore 22 dazzling light installations across Perth\, enjoy roving performers\, and soak up the festive atmosphere with family and friends.\nDate: 28 November – 28 December\nTimes: Nightly\, from 6pm\nLocation: Across the city \nFind out more visitperth.com/events/christmas-lights-trail
URL:https://buggybuddys.com.au/perth-event/rio-tinto-christmas-lights-trail/2025-12-19/
LOCATION:City of Perth\, 27 St Georges Tce\, Perth\, WA\, 6000\, Australia
CATEGORIES:Christmas
ATTACH;FMTTYPE=image/jpeg:https://buggybuddys.com.au/wp-content/uploads/2025/11/Christmas-Lights-Trail-Perth-City-DEC-2021-254-1.jpg
GEO:-31.95687;115.86071
X-APPLE-STRUCTURED-LOCATION;VALUE=URI;X-ADDRESS=City of Perth 27 St Georges Tce Perth WA 6000 Australia;X-APPLE-RADIUS=500;X-TITLE=27 St Georges Tce:geo:115.86071,-31.95687
END:VEVENT
END:VCALENDAR