BEGIN:VCALENDAR
VERSION:2.0
PRODID:-//Buggybuddys guide for families in Perth - ECPv6.15.11//NONSGML v1.0//EN
CALSCALE:GREGORIAN
METHOD:PUBLISH
X-WR-CALNAME:Buggybuddys guide for families in Perth
X-ORIGINAL-URL:https://buggybuddys.com.au
X-WR-CALDESC:Events for Buggybuddys guide for families in Perth
REFRESH-INTERVAL;VALUE=DURATION:PT1H
X-Robots-Tag:noindex
X-PUBLISHED-TTL:PT1H
BEGIN:VTIMEZONE
TZID:Australia/Perth
BEGIN:STANDARD
TZOFFSETFROM:+0800
TZOFFSETTO:+0800
TZNAME:AWST
DTSTART:20250101T000000
END:STANDARD
END:VTIMEZONE
BEGIN:VEVENT
DTSTART;TZID=Australia/Perth:20260419T133000
DTEND;TZID=Australia/Perth:20260426T153000
DTSTAMP:20260425T230353
CREATED:20260327T140229Z
LAST-MODIFIED:20260327T140229Z
UID:10076048-1776605400-1777217400@buggybuddys.com.au
SUMMARY:Sunday Social Games
DESCRIPTION:Come along to a cozy afternoon gathering to unwind\, connect and enjoy classic board games and card games. It’s the perfect mix of friendly competition and relaxed conversation\, making Sunday feel special. \nThis is a free event for ages 16+. Bookings not required. \nMary Davies Library and Community Centre has two ACROD parking bays (Nancy Alley)\, accessible toilet and lift access to first floor. If you have any specific needs or require accommodations in order to comfortably attend this event\, such as visual aids\, a quiet space\, or accessible seating\, please let us know.  \nRegister now
URL:https://buggybuddys.com.au/perth-event/sunday-social-games/
LOCATION:Mary Davies Library and Community Centre\, 17 Settlers Avenue\, Baldivis\, WA\, 6171\, Australia
CATEGORIES:Community Event,Family Event,Free,Social,Teens
ATTACH;FMTTYPE=image/jpeg:https://buggybuddys.com.au/wp-content/uploads/2026/03/Sunday-Social-Games.jpg
GEO:-32.3320365;115.8137104
X-APPLE-STRUCTURED-LOCATION;VALUE=URI;X-ADDRESS=Mary Davies Library and Community Centre 17 Settlers Avenue Baldivis WA 6171 Australia;X-APPLE-RADIUS=500;X-TITLE=17 Settlers Avenue:geo:115.8137104,-32.3320365
END:VEVENT
BEGIN:VEVENT
DTSTART;TZID=Australia/Perth:20260422T113000
DTEND;TZID=Australia/Perth:20260701T123000
DTSTAMP:20260425T230353
CREATED:20260422T124959Z
LAST-MODIFIED:20260422T124959Z
UID:10077748-1776857400-1782909000@buggybuddys.com.au
SUMMARY:Term 2 - FREE Mums Who Move - WED - 11 Week Series
DESCRIPTION:Join us for a free 11-week series every Wednesday to get moving with other awesome Mums!\n\n\nCalling all mums in Kwinana! \nJoin us for Kwinana Mums Who Move – a FREE group exercise program for all mums interested in: \n \n\nPost-natal training\nImproving your general fitness\, well being and energy\nMeeting other Kwinana Mums\nCreating healthy habits for yourself and your child\n\nAll while you can bring your baby/child with you! \n \n11 Week Series Dates: \n\nWednesday 22 April 2026\nWednesday 29 April 2026\nWednesday 6 May 2026\nWednesday 13 May 2026\nWednesday 20 May 2026\nWednesday 27 May 2026\nWednesday 3 June 2026\nWednesday 10 June 2026\nWednesday 17 June 2026\nWednesday 24 June 2026\nWednesday 1 July 2026\n\nRegistrations for the entire 11 week program are essential. Walk-ins not permitted. \n \nTime: 11.30AM – 12.30PM \nLocation: Thomas Kelly Pavilion \nNote: All participants will be required to complete a pre-exercise screening prior to participating in the program. \nPlease complete the Pre-Exercise Health & Activity Survey here as well as the Baseline survey found here. \nPlease note\, these must both be completed prior to participating.
URL:https://buggybuddys.com.au/perth-event/term-2-free-mums-who-move-wed-11-week-series/
LOCATION:Thomas Kelly Pavillion\, Rowson Place\, Medina\, WA\, 6167\, Australia
CATEGORIES:Health
ATTACH;FMTTYPE=image/jpeg:https://buggybuddys.com.au/wp-content/uploads/2026/04/44055a57a8d4b1ca6d04ee7e7d81f126.jpg
END:VEVENT
BEGIN:VEVENT
DTSTART;TZID=Australia/Perth:20260424T180000
DTEND;TZID=Australia/Perth:20260427T180000
DTSTAMP:20260425T230353
CREATED:20260309T141250Z
LAST-MODIFIED:20260309T141250Z
UID:10075201-1777053600-1777312800@buggybuddys.com.au
SUMMARY:York Heritage Weekend 2026 - Save the Date
DESCRIPTION:Save the date! – A packed Heritage Weekend for the whole family to enjoy.\nMore details and program coming soon.
URL:https://buggybuddys.com.au/perth-event/york-heritage-weekend-2026-save-the-date/
LOCATION:WA
CATEGORIES:Community Event,Family Event
ATTACH;FMTTYPE=image/jpeg:https://buggybuddys.com.au/wp-content/uploads/2026/03/York-Heritage-Weekend-2026-Save-the-Date.jpg
END:VEVENT
BEGIN:VEVENT
DTSTART;VALUE=DATE:20260425
DTEND;VALUE=DATE:20260426
DTSTAMP:20260425T230353
CREATED:20260312T133452Z
LAST-MODIFIED:20260312T133452Z
UID:10075286-1777075200-1777161599@buggybuddys.com.au
SUMMARY:BOUNTY Exhibition
DESCRIPTION:A trove of printmaking in all its forms\, celebrating the value of creativity and community connection. \nHosted by the Vic Park Printmaking Collective\, a volunteer-run creative community gem for all who seek belonging through exploration\, experimentation and expression in printmaking. \nDate: 14 – 26 April \nTime: 10am-2.30pm Monday\, 10am-4pm Tuesday-Friday\, and 9am-3pm Saturday-Sunday. Closed public holidays. \nLocation: Victoria Park Centre for the Arts\, 12 Kent Street\, East Victoria Park \nCost: Free – no booking required \nThis exhibition is part of our 2026 Arts Season program. Click here for more information about Arts Season. 
URL:https://buggybuddys.com.au/perth-event/bounty-exhibition/2026-04-25/
LOCATION:Victoria Park Centre for the Arts\, 12 Kent Street\, East Victoria Park\, WA\, 6101\, Australia
CATEGORIES:Exhibition,Free
ATTACH;FMTTYPE=image/jpeg:https://buggybuddys.com.au/wp-content/uploads/2026/03/BOUNTY-Exhibition.jpg
GEO:-31.98224;115.90019
X-APPLE-STRUCTURED-LOCATION;VALUE=URI;X-ADDRESS=Victoria Park Centre for the Arts 12 Kent Street East Victoria Park WA 6101 Australia;X-APPLE-RADIUS=500;X-TITLE=12 Kent Street:geo:115.90019,-31.98224
END:VEVENT
BEGIN:VEVENT
DTSTART;VALUE=DATE:20260425
DTEND;VALUE=DATE:20260426
DTSTAMP:20260425T230353
CREATED:20260321T131230Z
LAST-MODIFIED:20260422T064655Z
UID:10075573-1777075200-1777161599@buggybuddys.com.au
SUMMARY:Youth Week 2026
DESCRIPTION:Youth Week is the biggest celebration of young people in Western Australia. \nThe year’s theme is “Strength in Our Stories”\, which captures everyone’s diverse experiences and upbringing and how it shapes us into the people we are today.  \nGrab your crew and join our free events to celebrate young people and their positive contributions to our community. Connect with others\, find your groove\, challenge and express yourself with new skills\, and engage with services across the City. \nThere are also plenty of events to enjoy during the school holidays\, as well as a new YA Book Club at South Perth Library. You can also check out our brand-new Youth Space at Manning Library. \nGet involved in SPYN\nAre you aged 10-25 and have ideas about activities for young people or want to share your voice? Become a member of the South Perth Youth Network today. \nSPYN members will be available during Youth Week events so don’t be shy and have a chat to learn about the opportunities available.  \nFind events
URL:https://buggybuddys.com.au/perth-event/youth-week-2026/2026-04-25/
LOCATION:WA
CATEGORIES:Free,School Holiday Events,Youth Week
ATTACH;FMTTYPE=image/jpeg:https://buggybuddys.com.au/wp-content/uploads/2026/03/Youth-Week-2026-scaled.jpg
END:VEVENT
BEGIN:VEVENT
DTSTART;VALUE=DATE:20260425
DTEND;VALUE=DATE:20260426
DTSTAMP:20260425T230353
CREATED:20260418T130033Z
LAST-MODIFIED:20260418T130033Z
UID:10077345-1777075200-1777161599@buggybuddys.com.au
SUMMARY:Tiny Doors of York 2026
DESCRIPTION:Maps available from the York Visitor Centre\, or download. \nLocation: Various locations around York \nDownload Tiny Doors Trail Map Here
URL:https://buggybuddys.com.au/perth-event/tiny-doors-of-york-2026/2026-04-25/
LOCATION:WA
CATEGORIES:Family Event,Free,Walk
ATTACH;FMTTYPE=image/jpeg:https://buggybuddys.com.au/wp-content/uploads/2026/04/Tiny-Doors-of-York-2026.jpg
ORGANIZER;CN="Shire of York":MAILTO:info@york.wa.gov.au
END:VEVENT
BEGIN:VEVENT
DTSTART;TZID=Australia/Perth:20260425T043000
DTEND;TZID=Australia/Perth:20260425T053000
DTSTAMP:20260425T230353
CREATED:20260406T125113Z
LAST-MODIFIED:20260406T125113Z
UID:10076359-1777091400-1777095000@buggybuddys.com.au
SUMMARY:Broome ANZAC Day March
DESCRIPTION:Date: April 25\, 2026 \n\n\n \n\n\nTime: 4:45 AM – 5:15 AM \n\n\n \n\n\nLocation: Weld Street Broome
URL:https://buggybuddys.com.au/perth-event/broome-anzac-day-march/
LOCATION:WA
CATEGORIES:Anzac
END:VEVENT
BEGIN:VEVENT
DTSTART;TZID=Australia/Perth:20260425T043000
DTEND;TZID=Australia/Perth:20260425T100000
DTSTAMP:20260425T230353
CREATED:20260408T070447Z
LAST-MODIFIED:20260408T070447Z
UID:10076754-1777091400-1777111200@buggybuddys.com.au
SUMMARY:Denmark Anzac Day Events
DESCRIPTION:Dawn Service\n\n\nDate: April 25\, 2026 \n\n\nTime: 4:45 AM – 6:15 AM\n\n\nLocation: Denmark War Memorial Highway 1 Denmark W.A. 6333 \n\n\n \n\n\n\n\nGunfire Breakfast\n\n\nDate: April 25\, 2026 \n\n\n\n\nTime: 5:55:00 \n\n\n\n\nLocation: Denmark RSL Hall 54 Strickland St Denmark W.A. 6333 \n\n\n \n\n\n\n\nANZAC Day March\n\n\nDate: April 25\, 2026 \n\n\n\n\nTime: 9:35:00 \n\n\n\n\nLocation: Denmark RSL Hall to Denmark War Memorial
URL:https://buggybuddys.com.au/perth-event/denmark-anzac-day-events/
LOCATION:WA
CATEGORIES:Anzac
ATTACH;FMTTYPE=image/jpeg:https://buggybuddys.com.au/wp-content/uploads/2026/04/australia-anzac-day.jpg
END:VEVENT
BEGIN:VEVENT
DTSTART;TZID=Australia/Perth:20260425T043000
DTEND;TZID=Australia/Perth:20260425T110000
DTSTAMP:20260425T230353
CREATED:20260409T133115Z
LAST-MODIFIED:20260409T133115Z
UID:10076765-1777091400-1777114800@buggybuddys.com.au
SUMMARY:Karridale-Augusta Anzac Day Events
DESCRIPTION:Dawn Service\n\n\nDate: April 25\, 2026 \n\n\n\n\nTime: 4:30 AM – 8:00 AM \n\n\n\n\nLocation: RSL Park Augusta \n\n\n \n\n\n\n\nGunfire Breakfast\n\n\nDate: April 25\, 2026 \n\n\n\n\nTime: 7:00 AM – 9:00 AM \n\n\n\n\nLocation: Augusta Bowling Club Allnut Tce Augusta. \n\n\n \n\n\n\n\nANZAC Day March\n\n\nDate: April 25\, 2026 \n\n\n\n\nTime: 10:30 AM – 10:45 AM \n\n\n\n\nLocation: RSL Park Augusta
URL:https://buggybuddys.com.au/perth-event/karridale-augusta-anzac-day-events/
LOCATION:WA
CATEGORIES:Anzac
END:VEVENT
BEGIN:VEVENT
DTSTART;TZID=Australia/Perth:20260425T050000
DTEND;TZID=Australia/Perth:20260425T060000
DTSTAMP:20260425T230353
CREATED:20260406T123108Z
LAST-MODIFIED:20260406T123108Z
UID:10076357-1777093200-1777096800@buggybuddys.com.au
SUMMARY:Broome Dawn Service
DESCRIPTION:Date: April 25\, 2026 \n\n\n\n\nTime: 5:15 AM – 6:15 AM \n\n\n\n\nLocation: Bedford Park Broome
URL:https://buggybuddys.com.au/perth-event/broome-dawn-service/
LOCATION:WA
CATEGORIES:Anzac
ATTACH;FMTTYPE=image/jpeg:https://buggybuddys.com.au/wp-content/uploads/2026/04/broome-wa-war-memorial.jpg
END:VEVENT
BEGIN:VEVENT
DTSTART;TZID=Australia/Perth:20260425T050000
DTEND;TZID=Australia/Perth:20260425T100000
DTSTAMP:20260425T230353
CREATED:20260408T050019Z
LAST-MODIFIED:20260408T050019Z
UID:10076748-1777093200-1777111200@buggybuddys.com.au
SUMMARY:City of Mandurah Anzac Day Events
DESCRIPTION:Dawn Service\n\n\nDate: April 25\, 2026 \n\n\n\n\nTime: 5:00 AM – 6:00 PM \n\n\n\n\nLocation: War Memorial Leighton Place Halls Head \n\n\n \n\n\n\n\nGunfire Breakfast\n\n\nDate: April 25\, 2026  \n\n\n\n\nTime: 7:00 AM – 9:00 AM \n\n\n\n\nLocation: War Memorial Leighton Place Halls Head \n\n\n \n\n\n\n\nANZAC Day March\n\n\nDate: April 25\, 2026 \n\n\nTime: 10:00 AM – 10:00 AM\n\n\nLocation: War Memorial Halls Head
URL:https://buggybuddys.com.au/perth-event/city-of-mandurah-anzac-day-events/
LOCATION:WA
CATEGORIES:Anzac
END:VEVENT
BEGIN:VEVENT
DTSTART;TZID=Australia/Perth:20260425T050000
DTEND;TZID=Australia/Perth:20260425T120000
DTSTAMP:20260425T230353
CREATED:20260408T064244Z
LAST-MODIFIED:20260408T064244Z
UID:10076752-1777093200-1777118400@buggybuddys.com.au
SUMMARY:Coolgardie Anzac Day Events
DESCRIPTION:Dawn Service\n\n\nDate: April 25\, 2026 \n\n\n\n\nTime: 5:00 AM – 6:30 AM \n\n\n\n\nLocation: Coolgardie Memorial Garden and Coolgardie RSL Sub Branch \n\n\n \n\n\n\n\nGunfire Breakfast\n\n\nDate: April 25\, 2026 \n\n\n\n\nTime: 7:00 AM – 12:00 PM \n\n\n\n\nLocation: Coolgardie RSL Sub Branch
URL:https://buggybuddys.com.au/perth-event/coolgardie-anzac-day-events/
LOCATION:WA
CATEGORIES:Anzac
ATTACH;FMTTYPE=image/jpeg:https://buggybuddys.com.au/wp-content/uploads/2026/04/coolgardie-anzac-day-2026.jpg
END:VEVENT
BEGIN:VEVENT
DTSTART;TZID=Australia/Perth:20260425T050000
DTEND;TZID=Australia/Perth:20260425T120000
DTSTAMP:20260425T230353
CREATED:20260411T033250Z
LAST-MODIFIED:20260411T033250Z
UID:10076780-1777093200-1777118400@buggybuddys.com.au
SUMMARY:Quinns Rocks Anzac Day Events
DESCRIPTION:Dawn Service\n\n\nDate: April 25\, 2026 \n\n\n\n\nTime: 5:00 AM – 12:00 PM \n\n\n\n\nLocation: Quinns Rocks Sportsman Club \n\n\n \n\n\n\n\nGunfire Breakfast\n\n\nDate: April 25\, 2026 \n\n\n\n\nTime: 8:00 AM – 10:00 AM \n\n\n\n\nLocation: Quinns Rocks Sportsman Club
URL:https://buggybuddys.com.au/perth-event/quinns-rocks-anzac-day-events/
LOCATION:WA
CATEGORIES:Anzac
ATTACH;FMTTYPE=image/png:https://buggybuddys.com.au/wp-content/uploads/2026/04/quinns-rocks-wa-anzac-day-2026-war-memorial.png
END:VEVENT
BEGIN:VEVENT
DTSTART;TZID=Australia/Perth:20260425T050000
DTEND;TZID=Australia/Perth:20260425T130000
DTSTAMP:20260425T230353
CREATED:20260408T081237Z
LAST-MODIFIED:20260408T081237Z
UID:10076761-1777093200-1777122000@buggybuddys.com.au
SUMMARY:Joondalup Anzac Day Events
DESCRIPTION:Dawn Service\n\n\nDate: April 25\, 2026 \n\n\n\n\nTime: 5:00 AM – 6:45 AM \n\n\n\n\nLocation: Ocean Reef Sea Sports Club \n\n\n \n\n\n\n\nGunfire Breakfast\n\n\nDate: April 25\, 2026 \n\n\n\n\nTime: 5:45 AM – 1:00 PM \n\n\n\n\nLocation: Ocean Reef Sea Sports Club
URL:https://buggybuddys.com.au/perth-event/joondalup-anzac-day-events/
LOCATION:WA
CATEGORIES:Anzac
END:VEVENT
BEGIN:VEVENT
DTSTART;TZID=Australia/Perth:20260425T053000
DTEND;TZID=Australia/Perth:20260425T060000
DTSTAMP:20260425T230353
CREATED:20260406T133300Z
LAST-MODIFIED:20260406T133300Z
UID:10076362-1777095000-1777096800@buggybuddys.com.au
SUMMARY:Bullsbrook ANZAC Day March
DESCRIPTION:Date: April 25\, 2026  \n\n\n\n\nTime: 5:45 AM – 6:00 AM \n\n\n\n\nLocation: 6 Hurd Rd Bullsbrook WA 6084
URL:https://buggybuddys.com.au/perth-event/bullsbrook-anzac-day-march/
LOCATION:Bullsbrook War Memorial\, Hurd Rd\, Bullsbrook\, WA\, 6084\, Australia
CATEGORIES:Anzac
ATTACH;FMTTYPE=image/jpeg:https://buggybuddys.com.au/wp-content/uploads/2026/04/bullsbrook-war-memorial-anzac-day.jpg
END:VEVENT
BEGIN:VEVENT
DTSTART;TZID=Australia/Perth:20260425T053000
DTEND;TZID=Australia/Perth:20260425T063000
DTSTAMP:20260425T230353
CREATED:20260320T083926Z
LAST-MODIFIED:20260320T083926Z
UID:10075509-1777095000-1777098600@buggybuddys.com.au
SUMMARY:ANZAC Day Dawn Service - North Beach
DESCRIPTION:A traditional ANZAC Day Dawn Service open to all of our community\, families\, serving and ex serving veterans commencing at 5.30am with screens showing vision of our military history. The service will include a March On by veterans and proudly supported by Cadet Units. \nFollowing the laying ofwWreaths there will be a gunfire breakfast at the North Beach Bowling Club.
URL:https://buggybuddys.com.au/perth-event/anzac-day-dawn-service-north-beach/
LOCATION:North Beach RSL Sub-Branch\, Kitchener St\, North Beach\, WA\, 6020\, Australia
CATEGORIES:Anzac
ATTACH;FMTTYPE=image/jpeg:https://buggybuddys.com.au/wp-content/uploads/2026/03/ANZAC-Day-Dawn-Service-North-Beach.jpeg
END:VEVENT
BEGIN:VEVENT
DTSTART;TZID=Australia/Perth:20260425T053000
DTEND;TZID=Australia/Perth:20260425T063000
DTSTAMP:20260425T230353
CREATED:20260330T145749Z
LAST-MODIFIED:20260330T145749Z
UID:10076071-1777095000-1777098600@buggybuddys.com.au
SUMMARY:Albany Dawn Service
DESCRIPTION:Date: April 25\, 2026 \n\n\n\n\nTime: 5:30 AM – 6:15 AM \n\n\n\n\nLocation: Mt Clarence Albany Entertainment Centre and Anzac Peace Park \nAnzac Day events in WA are proudly supported by Lotterywest. If you are seeking more information on Anzac Day events email events@rslwa.org.au or call (08) 9287 3799.
URL:https://buggybuddys.com.au/perth-event/albany-dawn-service/
LOCATION:WA
CATEGORIES:Anzac
ATTACH;FMTTYPE=image/webp:https://buggybuddys.com.au/wp-content/uploads/2026/03/Albany-RSL-Anzac-Day.webp
END:VEVENT
BEGIN:VEVENT
DTSTART;TZID=Australia/Perth:20260425T053000
DTEND;TZID=Australia/Perth:20260425T063000
DTSTAMP:20260425T230353
CREATED:20260405T140435Z
LAST-MODIFIED:20260405T140435Z
UID:10076343-1777095000-1777098600@buggybuddys.com.au
SUMMARY:Armadale ANZAC Day March
DESCRIPTION:Date: April 25\, 2026 \n\n\nTime: 5:50 AM – 6:00 AM\n\n\nLocation: Memorial Park Armadale
URL:https://buggybuddys.com.au/perth-event/armadale-anzac-day-march/
LOCATION:Memorial Park Armadale\, Orchard Ave & Jull St\, Armadale\, WA\, 6112\, Australia
CATEGORIES:Anzac
END:VEVENT
BEGIN:VEVENT
DTSTART;TZID=Australia/Perth:20260425T053000
DTEND;TZID=Australia/Perth:20260425T063000
DTSTAMP:20260425T230353
CREATED:20260406T065844Z
LAST-MODIFIED:20260406T065844Z
UID:10076350-1777095000-1777098600@buggybuddys.com.au
SUMMARY:Boyup Brook Dawn Service
DESCRIPTION:Date: April 25\, 2026 \n\n\n\n\nTime: 5:45 AM – 6:30 AM \n\n\n\n\nLocation: Boyup Brook War Memorial \nAnzac Day events in WA are proudly supported by Lotterywest. If you are seeking more information on Anzac Day events email events@rslwa.org.au or call (08) 9287 3799.
URL:https://buggybuddys.com.au/perth-event/boyup-brook-dawn-service/
LOCATION:WA
CATEGORIES:Anzac
ATTACH;FMTTYPE=image/png:https://buggybuddys.com.au/wp-content/uploads/2026/04/Boyup-Brook-Anzac-Service.png
END:VEVENT
BEGIN:VEVENT
DTSTART;TZID=Australia/Perth:20260425T053000
DTEND;TZID=Australia/Perth:20260425T063000
DTSTAMP:20260425T230353
CREATED:20260406T075453Z
LAST-MODIFIED:20260406T075453Z
UID:10076355-1777095000-1777098600@buggybuddys.com.au
SUMMARY:Brookton Dawn Service
DESCRIPTION:Date: April 25\, 2026 \n\n\n\n\nTime: 5:45 AM – 6:30 AM \n\n\n\n\nLocation: Memorial Park Brookton
URL:https://buggybuddys.com.au/perth-event/brookton-dawn-service/
LOCATION:Memorial Park\, Brookton\, Brookton Hwy\, Brookton\, WA\, 6306\, Australia
CATEGORIES:Anzac
ATTACH;FMTTYPE=image/jpeg:https://buggybuddys.com.au/wp-content/uploads/2026/04/brookton-anzac-day.jpg
END:VEVENT
BEGIN:VEVENT
DTSTART;TZID=Australia/Perth:20260425T053000
DTEND;TZID=Australia/Perth:20260425T063000
DTSTAMP:20260425T230353
CREATED:20260406T131427Z
LAST-MODIFIED:20260406T131427Z
UID:10076360-1777095000-1777098600@buggybuddys.com.au
SUMMARY:Bullsbrook Dawn Service
DESCRIPTION:Date: April 25\, 2026 \n\n\n\n\nTime: 5:30 AM – 6:30 AM \n\n\n\n\nLocation: 6 Hurd Rd Bullsbrook WA 6084
URL:https://buggybuddys.com.au/perth-event/bullsbrook-dawn-service/
LOCATION:Bullsbrook War Memorial\, Hurd Rd\, Bullsbrook\, WA\, 6084\, Australia
CATEGORIES:Anzac
END:VEVENT
BEGIN:VEVENT
DTSTART;TZID=Australia/Perth:20260425T053000
DTEND;TZID=Australia/Perth:20260425T063000
DTSTAMP:20260425T230353
CREATED:20260406T141329Z
LAST-MODIFIED:20260406T141329Z
UID:10076366-1777095000-1777098600@buggybuddys.com.au
SUMMARY:Busselton Dawn Service
DESCRIPTION:Date: April 25\, 2026 \n\n\n\n\nTime: 5:50 AM – 6:30 AM \n\n\n\n\nLocation: Busselton War Memorial -Rotary Park of Remembrance
URL:https://buggybuddys.com.au/perth-event/busselton-dawn-service/
LOCATION:Busselton War Memorial\, Albert St\, Busselton\, WA\, 6280\, Australia
CATEGORIES:Anzac
ATTACH;FMTTYPE=image/jpeg:https://buggybuddys.com.au/wp-content/uploads/2026/04/Busselton-Rotary-Park-Of-Remembrance-War.jpg
END:VEVENT
BEGIN:VEVENT
DTSTART;TZID=Australia/Perth:20260425T053000
DTEND;TZID=Australia/Perth:20260425T070000
DTSTAMP:20260425T230353
CREATED:20260329T142119Z
LAST-MODIFIED:20260329T142119Z
UID:10076058-1777095000-1777100400@buggybuddys.com.au
SUMMARY:Anzac Day 2026: Dawn Service
DESCRIPTION:This Anzac Day\, join thousands of Western Australians at Kings Park & Botanic Gardens to commemorate and recognise all who have served in wars\, conflicts\, and military operations – “At the going down of the sun and in the morning\, we will remember them”. \n‍ \nAt first light\, Australians of all ages and backgrounds will come together to listen to inspiring words\, sing\, and pause in silence to reflect and remember the sacrifices made by our brave service men and women. The Dawn service is open to all who wish to attend\, share the sunrise\, and commemorate on Anzac Day. \n‍ \n– Western Australia’s central Dawn Service held at the State War Memorial in Kings Park \n– Public transport strongly advised\, no parking available at Kings Park \n– Large LED screens and speakers \n– Open to all who wish to commemorate and recognise service. \n‍ \nRoad blocks will be in place and no public parking available at Kings Park. We encourage attendees to take public transport and utilise the Transperth Journey\Planner. \n‍ \nMore details coming soon.
URL:https://buggybuddys.com.au/perth-event/anzac-day-2026-dawn-service/
LOCATION:State War Memorial\, Kings Park\, Kings Park\, WA\, 6005\, Australia
CATEGORIES:Anzac
ATTACH;FMTTYPE=image/png:https://buggybuddys.com.au/wp-content/uploads/2026/03/Anzac-Day-2026-Dawn-Service.png
END:VEVENT
BEGIN:VEVENT
DTSTART;TZID=Australia/Perth:20260425T053000
DTEND;TZID=Australia/Perth:20260425T070000
DTSTAMP:20260425T230353
CREATED:20260406T063204Z
LAST-MODIFIED:20260406T063204Z
UID:10076347-1777095000-1777100400@buggybuddys.com.au
SUMMARY:Boulder Dawn Service
DESCRIPTION:Date: April 25\, 2026 \n\n\n \n\n\nTime: 5:30 AM – 7:00 AM \n\n\n \n\n\nLocation: LOOPLINE PARK BOULDER
URL:https://buggybuddys.com.au/perth-event/boulder-dawn-service/
LOCATION:Loopline Park\, 3405 Hamilton St\, Boulder\, WA\, 6432\, Australia
CATEGORIES:Anzac
ATTACH;FMTTYPE=image/jpeg:https://buggybuddys.com.au/wp-content/uploads/2026/04/Loopline-Park-Boulder-ANZAC-Day.jpg
END:VEVENT
BEGIN:VEVENT
DTSTART;TZID=Australia/Perth:20260425T053000
DTEND;TZID=Australia/Perth:20260425T070000
DTSTAMP:20260425T230353
CREATED:20260406T070500Z
LAST-MODIFIED:20260406T070500Z
UID:10076351-1777095000-1777100400@buggybuddys.com.au
SUMMARY:Boyup Brook Gunfire Breakfast
DESCRIPTION:Date: April 25\, 2026 \n\n\n \n\n\nTime: 5:45 AM – 7:03 AM \n\n\n \n\n\nLocation: Boyup Brook Council Chambers
URL:https://buggybuddys.com.au/perth-event/boyup-brook-gunfire-breakfast/
LOCATION:Boyup Brook Council Chambers\, 55 Abel St\, Boyup Brook\, WA\, 6244\, Australia
CATEGORIES:Anzac
ATTACH;FMTTYPE=image/jpeg:https://buggybuddys.com.au/wp-content/uploads/2026/04/boyup-brook-war-memorial.jpg
END:VEVENT
BEGIN:VEVENT
DTSTART;TZID=Australia/Perth:20260425T053000
DTEND;TZID=Australia/Perth:20260425T070000
DTSTAMP:20260425T230353
CREATED:20260409T125151Z
LAST-MODIFIED:20260409T125151Z
UID:10076763-1777095000-1777100400@buggybuddys.com.au
SUMMARY:Kalamunda Anzac Day Events
DESCRIPTION:ANZAC Commemorative March\n\n\nDate: April 18\, 2026 \n\n\n\n\nTime: 10:30 AM \n\n\nLocation: Memorial Walk Stirk Park\n\nAssemble from 10:30 (Memorial Walk Stirk Park). Form up 10:45\, step off at 11am. Road Closures in place from 10:45. Service starts approximately 11:20 immediately after the march. March travelling from Memorial Walk Stirk Park\, up Canning Rd to Kalamunda War Memorial\, Kostera Oval where the service is located. Fellowship after the service at the Kalamunda RSL. \n\n\n\n\n\nDawn Service\n\n\nDate: April 25\, 2026 \n\n\n\n\nTime: 5:30 AM – 6:15 AM \n\n\n\n\nLocation: Kalamunda War Memorial\, Canning Rd adjacent to the Agricultural Hall/Kostera Oval \n\n\n \n\n\n\n\nGunfire Breakfast\n\n\nDate: April 25\, 2026 \n\n\n\n\nTime: 6:15 AM – 7:00 AM \n\n\n\n\nLocation: Kalamunda War Memorial\, Canning Rd adjacent to the Agricultural Hall/Kostera Oval
URL:https://buggybuddys.com.au/perth-event/kalamunda-anzac-day-events/2026-04-25/
LOCATION:WA
CATEGORIES:Anzac
END:VEVENT
BEGIN:VEVENT
DTSTART;TZID=Australia/Perth:20260425T053000
DTEND;TZID=Australia/Perth:20260425T073000
DTSTAMP:20260425T230353
CREATED:20260405T135156Z
LAST-MODIFIED:20260405T135156Z
UID:10076342-1777095000-1777102200@buggybuddys.com.au
SUMMARY:Armadale Dawn Service
DESCRIPTION:Date: April 25\, 2026 \n\n\n\n\nTime: 5:30 AM – 7:30 AM \n\n\n\n\nLocation: Memorial Park Armadale WA 6112 \nAnzac Day events in WA are proudly supported by Lotterywest. If you are seeking more information on Anzac Day events email events@rslwa.org.au or call (08) 9287 3799.
URL:https://buggybuddys.com.au/perth-event/armadale-dawn-service/
LOCATION:Memorial Park Armadale\, Orchard Ave & Jull St\, Armadale\, WA\, 6112\, Australia
CATEGORIES:Anzac
ATTACH;FMTTYPE=image/jpeg:https://buggybuddys.com.au/wp-content/uploads/2026/04/Armadale-War-Memorial.jpg
END:VEVENT
BEGIN:VEVENT
DTSTART;TZID=Australia/Perth:20260425T053000
DTEND;TZID=Australia/Perth:20260425T083000
DTSTAMP:20260425T230353
CREATED:20260411T042043Z
LAST-MODIFIED:20260411T042043Z
UID:10076787-1777095000-1777105800@buggybuddys.com.au
SUMMARY:Wanneroo Anzac Day Events
DESCRIPTION:Dawn Service\n\n\nDate: April 25\, 2026 \n\n\n\n\nTime: 5:45 AM – 6:45 AM \n\n\n\n\nLocation: Memorial Park Civic Drive Wanneroo WA 6065 \n\n\n \n\n\n\n\nGunfire Breakfast\n\n\nDate: April 25\, 2026 \n\n\n\n\nTime: 7:00 AM – 8:30 AM \n\n\n\n\nLocation: Civic Drive Wanneroo WA 6065 (in car park next to Memorial Park) \n\n\n \n\n\n\n\nANZAC Day March\n\n\nDate: April 25\, 2026 \n\n\n\n\nTime: 6:55 AM – 7:15 AM \n\n\n\n\nLocation: Memorial Park Civic Drive Wanneroo
URL:https://buggybuddys.com.au/perth-event/wanneroo-anzac-day-events/
LOCATION:WA
CATEGORIES:Anzac
END:VEVENT
BEGIN:VEVENT
DTSTART;TZID=Australia/Perth:20260425T053000
DTEND;TZID=Australia/Perth:20260425T090000
DTSTAMP:20260425T230353
CREATED:20260408T043928Z
LAST-MODIFIED:20260408T043928Z
UID:10076746-1777095000-1777107600@buggybuddys.com.au
SUMMARY:City of Belmont Anzac Day Events
DESCRIPTION:Dawn Service\n\n\nDate: April 25\, 2026 \n\n\n\n\nTime: 5:45 AM – 7:00 AM \n\n\n\n\nLocation: War Memorial Faulkner Park \n\n\n \n\n\n\n\nGunfire Breakfast\n\n\nDate: April 25\, 2026 \n\n\n\n\nTime: 7:30 AM – 9:00 AM \n\n\nLocation: Belmont RSL Sub-Branch\n \n\n\n\n\nANZAC Day March\n\n\nDate: April 25\, 2026 \n\n\n\n\nTime: 5:45 AM – 7:00 AM \n\n\n\n\nLocation: Part of Dawn Service
URL:https://buggybuddys.com.au/perth-event/city-of-belmont-anzac-day-events/
LOCATION:WA
CATEGORIES:Anzac
END:VEVENT
BEGIN:VEVENT
DTSTART;TZID=Australia/Perth:20260425T053000
DTEND;TZID=Australia/Perth:20260425T090000
DTSTAMP:20260425T230353
CREATED:20260408T072928Z
LAST-MODIFIED:20260408T072928Z
UID:10076757-1777095000-1777107600@buggybuddys.com.au
SUMMARY:Ellenbrook Anzac Day Events
DESCRIPTION:Dawn Service\n\n\nDate: April 25\, 2026 \n\n\n\n\nTime: 5:30 PM – 7:00 AM \n\n\n\n\nLocation: Ellenbrook District Open Space \n\n\n \n\n\n\n\nGunfire Breakfast\n\n\nDate: April 25\, 2026 \n\n\n\n\nTime: 7:00 AM – 9:00 AM \n\n\n\n\nLocation: Ellenbrook District Open Space
URL:https://buggybuddys.com.au/perth-event/ellenbrook-anzac-day-events/
LOCATION:WA
CATEGORIES:Anzac
ATTACH;FMTTYPE=image/jpeg:https://buggybuddys.com.au/wp-content/uploads/2026/04/australia-anzac-day.jpg
END:VEVENT
END:VCALENDAR