BEGIN:VCALENDAR
VERSION:2.0
PRODID:-//Buggybuddys guide for families in Perth - ECPv6.15.11//NONSGML v1.0//EN
CALSCALE:GREGORIAN
METHOD:PUBLISH
X-WR-CALNAME:Buggybuddys guide for families in Perth
X-ORIGINAL-URL:https://buggybuddys.com.au
X-WR-CALDESC:Events for Buggybuddys guide for families in Perth
REFRESH-INTERVAL;VALUE=DURATION:PT1H
X-Robots-Tag:noindex
X-PUBLISHED-TTL:PT1H
BEGIN:VTIMEZONE
TZID:Australia/Perth
BEGIN:STANDARD
TZOFFSETFROM:+0800
TZOFFSETTO:+0800
TZNAME:AWST
DTSTART:20250101T000000
END:STANDARD
END:VTIMEZONE
BEGIN:VEVENT
DTSTART;TZID=Australia/Perth:20260130T130000
DTEND;TZID=Australia/Perth:20260130T150000
DTSTAMP:20260421T014356
CREATED:20251210T140016Z
LAST-MODIFIED:20251210T140016Z
UID:10068732-1769778000-1769785200@buggybuddys.com.au
SUMMARY:Back to School Pool Party!
DESCRIPTION:Finish off the holidays with a splash! Dive into the school year with our epic pool party – games\, music and good vibes.\n\n\nThe Zone Youth Space – City of Kwinana\n\nBack to School Pool Party is one of the January 2026 School Holiday activities that the Zone Youth Space is running for the Youth of Kwinana. \n\nThis is a free event for young people aged 12yrs-17yrs old\nThe event is for young people living in the City of Kwinana.\nOnly 1 ticket per young person-No holds\n\n1 excursion each week per youth. \nNo limit for Zone activities.
URL:https://buggybuddys.com.au/perth-event/back-to-school-pool-party/
LOCATION:Zone Youth Space\, Cnr Gilmore Ave and Darius Dr\, Kwinana\, WA\, 6167\, Australia
CATEGORIES:School Holiday Events
ATTACH;FMTTYPE=image/jpeg:https://buggybuddys.com.au/wp-content/uploads/2025/12/f8d7e77fd761b415979343e39a709add.jpg
END:VEVENT
BEGIN:VEVENT
DTSTART;TZID=Australia/Perth:20260129T150000
DTEND;TZID=Australia/Perth:20260129T170000
DTSTAMP:20260421T014356
CREATED:20251210T142259Z
LAST-MODIFIED:20251210T142259Z
UID:10068749-1769698800-1769706000@buggybuddys.com.au
SUMMARY:Intro to Adventure - Dungeons and Dragons for Beginners
DESCRIPTION:New to D&D? Learn the basics\, create your hero\, and dive into a world of fantasy\, dice\, and epic quests – no experience needed!\n\n\nThe Zone Youth Space – City of Kwinana\n\nIntro to Adventure is one of the January 2026 School Holiday activities\, that the Zone Youth Space is running for the Youth of Kwinana. \n\nThis is a free event for young people aged 12yrs-17yrs old\nThis event is for young people living in the City of Kwinana.\n\n1 excursion each week per youth. \nNo limit for Zone activities.
URL:https://buggybuddys.com.au/perth-event/intro-to-adventure-dungeons-and-dragons-for-beginners/
LOCATION:Zone Youth Space\, Cnr Gilmore Ave and Darius Dr\, Kwinana\, WA\, 6167\, Australia
CATEGORIES:School Holiday Events
ATTACH;FMTTYPE=image/jpeg:https://buggybuddys.com.au/wp-content/uploads/2025/12/9a680adea212cf2485ffb2bdb7a487d2.jpg
END:VEVENT
BEGIN:VEVENT
DTSTART;TZID=Australia/Perth:20260128T150000
DTEND;TZID=Australia/Perth:20260128T170000
DTSTAMP:20260421T014356
CREATED:20251210T141058Z
LAST-MODIFIED:20251210T141058Z
UID:10068741-1769612400-1769619600@buggybuddys.com.au
SUMMARY:Beginner Beats Workshop
DESCRIPTION:Come and learn how to write a beat.\n\n\nThe Zone Youth Space – City of Kwinana\n\nBeginner Beats Workshop is one of the January 2026 School Holiday activities\, that the Zone Youth Space is running for the Youth of Kwinana. \n\nThis is a free event for young people aged 12yrs-17yrs old\nThis event is for young people living in the City of Kwinana.\n\n1 excursion each week per youth. \nNo limit for Zone activities.
URL:https://buggybuddys.com.au/perth-event/beginner-beats-workshop/
LOCATION:Zone Youth Space\, Cnr Gilmore Ave and Darius Dr\, Kwinana\, WA\, 6167\, Australia
CATEGORIES:Workshop
ATTACH;FMTTYPE=image/jpeg:https://buggybuddys.com.au/wp-content/uploads/2025/12/06270a2e5ba87e6810c635d48d4a55b2.jpg
END:VEVENT
BEGIN:VEVENT
DTSTART;TZID=Australia/Perth:20260127T111500
DTEND;TZID=Australia/Perth:20260127T134500
DTSTAMP:20260421T014356
CREATED:20251210T135831Z
LAST-MODIFIED:20251210T135831Z
UID:10068730-1769512500-1769521500@buggybuddys.com.au
SUMMARY:Perth Aqua Park
DESCRIPTION:Dive into the fun at Perth Aqua Park! Join us for inflatable slides and good vibes – cool off at the ultimate outdoor water park.\n\n\nThe Zone Youth Space – City of Kwinana\n\nPerth Aqua Park is one of the January 2026 School Holiday activities that the Zone Youth Space is running for the Youth of Kwinana. \n\nThis is a free event for young people aged 12yrs-17yrs old\nThe event is for young people living in the City of Kwinana.\nOnly 1 ticket per young person-No holds\n\n1 excursion each week per youth. \nNo limit for Zone activities.
URL:https://buggybuddys.com.au/perth-event/perth-aqua-park/
LOCATION:Zone Youth Space\, Cnr Gilmore Ave and Darius Dr\, Kwinana\, WA\, 6167\, Australia
CATEGORIES:School Holiday Events
ATTACH;FMTTYPE=image/jpeg:https://buggybuddys.com.au/wp-content/uploads/2025/12/1d4707d95d118816ea3578b1d73e9f3a.jpg
END:VEVENT
BEGIN:VEVENT
DTSTART;TZID=Australia/Perth:20260123T150000
DTEND;TZID=Australia/Perth:20260123T170000
DTSTAMP:20260421T014356
CREATED:20251210T141019Z
LAST-MODIFIED:20251210T141019Z
UID:10068740-1769180400-1769187600@buggybuddys.com.au
SUMMARY:Master Chef
DESCRIPTION:Come and create a simple but tasty dish.\n\n\nThe Zone Youth Space – City of Kwinana\n\nMaster Chef is one of the January 2026 School Holiday activities that the Zone Youth Space is running for the Youth of Kwinana. \n\nThis is a free event for young people aged 12yrs-17yrs old\nThe event is for young people living in the City of Kwinana.\nOnly 1 ticket per young person-No holds\n\n1 excursion each week per youth. \nNo limit for Zone activities.
URL:https://buggybuddys.com.au/perth-event/master-chef-2/
LOCATION:Zone Youth Space\, Cnr Gilmore Ave and Darius Dr\, Kwinana\, WA\, 6167\, Australia
CATEGORIES:School Holiday Events
ATTACH;FMTTYPE=image/jpeg:https://buggybuddys.com.au/wp-content/uploads/2025/12/84aeed84639ea17df5949b732e6701ab.jpg
END:VEVENT
BEGIN:VEVENT
DTSTART;TZID=Australia/Perth:20260121T090000
DTEND;TZID=Australia/Perth:20260121T130000
DTSTAMP:20260421T014356
CREATED:20251210T142146Z
LAST-MODIFIED:20251210T142146Z
UID:10068748-1768986000-1769000400@buggybuddys.com.au
SUMMARY:Good Sammy's Depot Treasure Trove
DESCRIPTION:Join us for a trip to Good Sammy’s depot in Canning Vale! Hunt for vintage gems\, bargains\, and hidden op-shop treasure.\n\n\nThe Zone Youth Space – City of Kwinana\n \nGood Sammy Depo Treasure Trove is one of the Januray 2026 School Holiday activities that the Zone Youth Space is running for the Youth of Kwinana. \n• This is a free event for young people aged 12yrs-17yrs old \n• This event is for young people living in the City of Kwinana. \n• Only 1 ticket per young person-No holds \n1 excursion each week per youth. \nNo limit for Zone activities.
URL:https://buggybuddys.com.au/perth-event/good-sammys-depot-treasure-trove/
LOCATION:Zone Youth Space\, Cnr Gilmore Ave and Darius Dr\, Kwinana\, WA\, 6167\, Australia
CATEGORIES:School Holiday Events
ATTACH;FMTTYPE=image/jpeg:https://buggybuddys.com.au/wp-content/uploads/2025/12/ec1a61dfacb0aa894c4e65ccee001b4d.jpg
END:VEVENT
BEGIN:VEVENT
DTSTART;TZID=Australia/Perth:20260120T103000
DTEND;TZID=Australia/Perth:20260120T140000
DTSTAMP:20260421T014356
CREATED:20251210T135616Z
LAST-MODIFIED:20251210T135616Z
UID:10068727-1768905000-1768917600@buggybuddys.com.au
SUMMARY:Zone Bowling Bonanza
DESCRIPTION:Think you’ve got game? Prove it on the lanes! Compete for top score or just have fun! Strikes win bragging rights!\n\n\nThe Zone Youth Space – City of Kwinana\n\nBowling is one of the January 2026 School Holiday activities that the Zone Youth Space is running for the Youth of Kwinana. \n\nThis is a free event for young people aged 12yrs-17yrs old\nThe event is for young people living in the City of Kwinana.\n\n1 excursion each week per youth. \nNo limit for Zone activities.
URL:https://buggybuddys.com.au/perth-event/zone-bowling-bonanza/
LOCATION:Zone Youth Space\, Cnr Gilmore Ave and Darius Dr\, Kwinana\, WA\, 6167\, Australia
CATEGORIES:School Holiday Events
ATTACH;FMTTYPE=image/jpeg:https://buggybuddys.com.au/wp-content/uploads/2025/12/3063b1deaaaf1be24b3a3b6d922fe6d5.jpg
END:VEVENT
BEGIN:VEVENT
DTSTART;TZID=Australia/Perth:20260119T150000
DTEND;TZID=Australia/Perth:20260119T170000
DTSTAMP:20260421T014356
CREATED:20251210T140624Z
LAST-MODIFIED:20251210T140624Z
UID:10068739-1768834800-1768842000@buggybuddys.com.au
SUMMARY:West Oz Wildlife
DESCRIPTION:West Oz Wildlife is coming to Zone! Get up close with awesome Aussie animals – snakes\, lizards and more. Don’t miss it!\n\n\nThe Zone Youth Space – City of Kwinana\n \nWest Oz Wlidlife is one of the January 2026 School Holiday activities that the Zone Youth Space is running for the Youth of Kwinana. \n• This is a free event for young people aged 12yrs-17yrs old \n• This event is for young people living in the City of Kwinana. \n• Only 1 ticket per young person-No holds \n1 excursion each week per youth. \nNo limit for Zone activities.
URL:https://buggybuddys.com.au/perth-event/west-oz-wildlife/
LOCATION:Zone Youth Space\, Cnr Gilmore Ave and Darius Dr\, Kwinana\, WA\, 6167\, Australia
CATEGORIES:School Holiday Events
ATTACH;FMTTYPE=image/jpeg:https://buggybuddys.com.au/wp-content/uploads/2025/12/651b5f8f7d7fe4edc6929cdbf91f6769.jpg
END:VEVENT
BEGIN:VEVENT
DTSTART;TZID=Australia/Perth:20260116T150000
DTEND;TZID=Australia/Perth:20260116T170000
DTSTAMP:20260421T014356
CREATED:20251210T142001Z
LAST-MODIFIED:20251210T142001Z
UID:10068747-1768575600-1768582800@buggybuddys.com.au
SUMMARY:Art Lab 1-Tote Bags
DESCRIPTION:Come and design your own tote bag.\n\n\nThe Zone Youth Space – City of Kwinana\n\nPamper Day is one of the January 2026 School Holiday activities that the Zone Youth Space is running for the Youth of Kwinana. \n• This is a free event for young people aged 12yrs-17yrs old \n• This event is for young people living in the City of Kwinana. \n• Only 1 ticket per young person-No holds \n1 excursion each week per youth. \nNo limit for Zone activities.
URL:https://buggybuddys.com.au/perth-event/art-lab-1-tote-bags/
LOCATION:Zone Youth Space\, Cnr Gilmore Ave and Darius Dr\, Kwinana\, WA\, 6167\, Australia
CATEGORIES:Craft
ATTACH;FMTTYPE=image/jpeg:https://buggybuddys.com.au/wp-content/uploads/2025/12/2042c66045eeb323f937a2c5e5504c3c.jpg
END:VEVENT
BEGIN:VEVENT
DTSTART;TZID=Australia/Perth:20260115T150000
DTEND;TZID=Australia/Perth:20260115T170000
DTSTAMP:20260421T014356
CREATED:20251210T141901Z
LAST-MODIFIED:20251210T141901Z
UID:10068746-1768489200-1768496400@buggybuddys.com.au
SUMMARY:Obstacle Course and Time Trial Challenge
DESCRIPTION:Think you’re fast? Build it. Race it. Beat it. Create your own obstacle course and challenge your mates to the ultimate test!\n\n\nThe Zone Youth Space – City of Kwinana\n\nObstacle Course and Time Trial Challenge is one of the January 2026 School Holiday activities that the Zone Youth Space is running for the Youth of Kwinana. \n\nThis is a free event for young people aged 12yrs-17yrs old\nThe event is for young people living in the City of Kwinana.\nOnly 1 ticket per young person-No holds\n\n1 excursion each week per youth. \nNo limit for Zone activities.
URL:https://buggybuddys.com.au/perth-event/obstacle-course-and-time-trial-challenge/
LOCATION:Zone Youth Space\, Cnr Gilmore Ave and Darius Dr\, Kwinana\, WA\, 6167\, Australia
CATEGORIES:School Holiday Events
ATTACH;FMTTYPE=image/jpeg:https://buggybuddys.com.au/wp-content/uploads/2025/12/c0e97bffc763d2eba5fcf35cfe36d0cc.jpg
END:VEVENT
BEGIN:VEVENT
DTSTART;TZID=Australia/Perth:20260114T130000
DTEND;TZID=Australia/Perth:20260114T154500
DTSTAMP:20260421T014356
CREATED:20251210T135453Z
LAST-MODIFIED:20251210T135453Z
UID:10068725-1768395600-1768405500@buggybuddys.com.au
SUMMARY:Laser Tag
DESCRIPTION:We are heading to Lazer Blaze! Join us as we team up and battle to get the highest score.\n\n\nThe Zone Youth Space – City of Kwinana\n\nLazer Tag is one of the January 2026 School Holiday activities that the Zone Youth Space is running for the Youth of Kwinana. \n\nThis is a free event for young people aged 12yrs-17yrs old\nThis event is for young people living in the City of Kwinana.\nOnly 1 ticket per young person-No holds\n\n1 excursion each week per youth. \nNo limit for Zone activities.
URL:https://buggybuddys.com.au/perth-event/laser-tag/
LOCATION:Zone Youth Space\, Cnr Gilmore Ave and Darius Dr\, Kwinana\, WA\, 6167\, Australia
CATEGORIES:School Holiday Events
ATTACH;FMTTYPE=image/jpeg:https://buggybuddys.com.au/wp-content/uploads/2025/12/0d8006d35a9cdb09221132e0df9f14d8.jpg
END:VEVENT
BEGIN:VEVENT
DTSTART;TZID=Australia/Perth:20260113T110000
DTEND;TZID=Australia/Perth:20260113T140000
DTSTAMP:20260421T014356
CREATED:20251210T135532Z
LAST-MODIFIED:20251210T135532Z
UID:10068726-1768302000-1768312800@buggybuddys.com.au
SUMMARY:Mini Golf
DESCRIPTION:Join us for an afternoon of mini golf\, putting our way around the course at Holey Moley\n\n\nThe Zone Youth Space – City of Kwinana\n\nMini Golf is one of the January 2026 School Holiday activities that the Zone Youth Space is running for the Youth of Kwinana. \n\nThis is a free event for young people aged 12yrs-17yrs old\nThis event is for young people living in the City of Kwinana.\nOnly 1 ticket per young person-No holds\n\n1 excursion each week per youth. \nNo limit for Zone activities.
URL:https://buggybuddys.com.au/perth-event/mini-golf/
LOCATION:Zone Youth Space\, Cnr Gilmore Ave and Darius Dr\, Kwinana\, WA\, 6167\, Australia
CATEGORIES:School Holiday Events
ATTACH;FMTTYPE=image/jpeg:https://buggybuddys.com.au/wp-content/uploads/2025/12/aedc0646deecbb109ba6cc96b91507ae.jpg
END:VEVENT
BEGIN:VEVENT
DTSTART;TZID=Australia/Perth:20260112T113000
DTEND;TZID=Australia/Perth:20260112T143000
DTSTAMP:20260421T014356
CREATED:20251210T135707Z
LAST-MODIFIED:20251210T135707Z
UID:10068728-1768217400-1768228200@buggybuddys.com.au
SUMMARY:Rebound
DESCRIPTION:Come and join us we twist\, turn and bounce at Rebound!\n\n\nThe Zone Youth Space – City of Kwinana\n \nRebound is one of the January 2026 School Holiday activities that the Zone Youth Space is running for the Youth of Kwinana. \n• This is a free event for young people aged 12yrs-17yrs old \n• This event is for young people living in the City of Kwinana. \n• Only 1 ticket per young person-No holds \n1 excursion each week per youth. \nNo limit for Zone activities.
URL:https://buggybuddys.com.au/perth-event/rebound/
LOCATION:Zone Youth Space\, Cnr Gilmore Ave and Darius Dr\, Kwinana\, WA\, 6167\, Australia
CATEGORIES:School Holiday Events
ATTACH;FMTTYPE=image/jpeg:https://buggybuddys.com.au/wp-content/uploads/2025/12/efe7ba64f3100a11308936fd715ade66.jpg
END:VEVENT
BEGIN:VEVENT
DTSTART;TZID=Australia/Perth:20260109T150000
DTEND;TZID=Australia/Perth:20260109T170000
DTSTAMP:20260421T014356
CREATED:20251210T140248Z
LAST-MODIFIED:20251210T140248Z
UID:10068734-1767970800-1767978000@buggybuddys.com.au
SUMMARY:Mario Kart Tournament
DESCRIPTION:Join us for an afternoon of fast paced action! Test your skills\, challenge your friends\, and connect with other gamers!\n\n\nThe Zone Youth Space – City of Kwinana\n\nMario Kart Tournament is one of the January 2026 School Holiday activities that the Zone Youth Space is running for the Youth of Kwinana. \n\nThis is a free event for young people aged 12yrs-17yrs old\nThe event is for young people living in the City of Kwinana.\nOnly 1 ticket per young person-No holds\n\n1 excursion each week per youth. \nNo limit for Zone activities.
URL:https://buggybuddys.com.au/perth-event/mario-kart-tournament/
LOCATION:Zone Youth Space\, Cnr Gilmore Ave and Darius Dr\, Kwinana\, WA\, 6167\, Australia
CATEGORIES:School Holiday Events
ATTACH;FMTTYPE=image/jpeg:https://buggybuddys.com.au/wp-content/uploads/2025/12/b59e5da987c71433acd1d5e1cc2696cd.jpg
END:VEVENT
BEGIN:VEVENT
DTSTART;TZID=Australia/Perth:20260108T150000
DTEND;TZID=Australia/Perth:20260108T170000
DTSTAMP:20260421T014356
CREATED:20251210T140203Z
LAST-MODIFIED:20251210T140203Z
UID:10068733-1767884400-1767891600@buggybuddys.com.au
SUMMARY:Pamper Day
DESCRIPTION:Come and enjoy an afternoon of self-care and good vibes.\n\n\nThe Zone Youth Space – City of Kwinana\n\nPamper Day is one of the January 2026 School Holiday activities that the Zone Youth Space is running for the Youth of Kwinana. \n• This is a free event for young people aged 12yrs-17yrs old \n• This event is for young people living in the City of Kwinana. \n• Only 1 ticket per young person-No holds \n1 excursion each week per youth. \nNo limit for Zone activities.
URL:https://buggybuddys.com.au/perth-event/pamper-day/
LOCATION:Zone Youth Space\, Cnr Gilmore Ave and Darius Dr\, Kwinana\, WA\, 6167\, Australia
CATEGORIES:School Holiday Events
ATTACH;FMTTYPE=image/jpeg:https://buggybuddys.com.au/wp-content/uploads/2025/12/44f601dc262dbbfca92ad512fe416fa9.jpg
END:VEVENT
BEGIN:VEVENT
DTSTART;TZID=Australia/Perth:20260105T120000
DTEND;TZID=Australia/Perth:20260105T150000
DTSTAMP:20260421T014356
CREATED:20251210T135925Z
LAST-MODIFIED:20251210T135925Z
UID:10068731-1767614400-1767625200@buggybuddys.com.au
SUMMARY:Indoor Rock Climbing
DESCRIPTION:Challenge yourself\, have fun and climb to new heights! No experience needed – join us and let’s hit the wall!\n\n\nThe Zone Youth Space – City of Kwinana\n\nIndoor Rock Climbing is one of the January 2026 School Holiday activities that the Zone Youth Space is running for the Youth of Kwinana. \n\nThis is a free event for young people aged 12yrs-17yrs old\nThis event is for young people living in the City of Kwinana.\nOnly 1 ticket per young person-No holds\n\n1 excursion each week per youth. \nNo limit for Zone activities.
URL:https://buggybuddys.com.au/perth-event/indoor-rock-climbing/
LOCATION:Zone Youth Space\, Cnr Gilmore Ave and Darius Dr\, Kwinana\, WA\, 6167\, Australia
CATEGORIES:School Holiday Events
ATTACH;FMTTYPE=image/jpeg:https://buggybuddys.com.au/wp-content/uploads/2025/12/c9107d1be45023a9c1639f36cf3ec28d.jpg
END:VEVENT
END:VCALENDAR