BEGIN:VCALENDAR
VERSION:2.0
PRODID:-//Buggybuddys guide for families in Perth - ECPv6.15.11//NONSGML v1.0//EN
CALSCALE:GREGORIAN
METHOD:PUBLISH
X-ORIGINAL-URL:https://buggybuddys.com.au
X-WR-CALDESC:Events for Buggybuddys guide for families in Perth
REFRESH-INTERVAL;VALUE=DURATION:PT1H
X-Robots-Tag:noindex
X-PUBLISHED-TTL:PT1H
BEGIN:VTIMEZONE
TZID:Australia/Perth
BEGIN:STANDARD
TZOFFSETFROM:+0800
TZOFFSETTO:+0800
TZNAME:AWST
DTSTART:20250101T000000
END:STANDARD
END:VTIMEZONE
BEGIN:VEVENT
DTSTART;TZID=Australia/Perth:20260529T170000
DTEND;TZID=Australia/Perth:20260529T180000
DTSTAMP:20260426T014703
CREATED:20260401T145059Z
LAST-MODIFIED:20260401T145059Z
UID:10076155-1780074000-1780077600@buggybuddys.com.au
SUMMARY:Supporting Your Teenager
DESCRIPTION:Join us as we explore the importance of teenage friendships\, social identity\, peer groups and online dating – giving parents tips.\n\n\nJoin us as we explore the importance of teenage friendships\, social identity\, peer groups and online dating – giving parents tips on how to best approach areas of concern\, provide support and guidance in a challenging and changing world. \n \nNo matter what kind of peer influence your teenager faces\, he or she must learn how to balance the value of going along with the crowd (connection) against the importance of making good decisions (independence). \n \nYour role is to always ensure your teenager knows that he or she is loved and valued as an individual at home and that you are always there for guidance and support.
URL:https://buggybuddys.com.au/perth-event/supporting-your-teenager/
LOCATION:Homestead Park Centre\, 14 Glenbrook Road\, Thornlie\, WA\, 6108\, Australia
CATEGORIES:Parenting Workshop
ATTACH;FMTTYPE=image/jpeg:https://buggybuddys.com.au/wp-content/uploads/2026/04/9225e9caeb7dd329959ba9bc7803fe00.jpg
END:VEVENT
END:VCALENDAR