BEGIN:VCALENDAR
VERSION:2.0
PRODID:-//Buggybuddys guide for families in Perth - ECPv6.15.11//NONSGML v1.0//EN
CALSCALE:GREGORIAN
METHOD:PUBLISH
X-ORIGINAL-URL:https://buggybuddys.com.au
X-WR-CALDESC:Events for Buggybuddys guide for families in Perth
REFRESH-INTERVAL;VALUE=DURATION:PT1H
X-Robots-Tag:noindex
X-PUBLISHED-TTL:PT1H
BEGIN:VTIMEZONE
TZID:Australia/Perth
BEGIN:STANDARD
TZOFFSETFROM:+0800
TZOFFSETTO:+0800
TZNAME:AWST
DTSTART:20250101T000000
END:STANDARD
END:VTIMEZONE
BEGIN:VEVENT
DTSTART;TZID=Australia/Perth:20260504T153000
DTEND;TZID=Australia/Perth:20260504T163000
DTSTAMP:20260422T025833
CREATED:20260401T145411Z
LAST-MODIFIED:20260401T145411Z
UID:10076156-1777908600-1777912200@buggybuddys.com.au
SUMMARY:Nintendo Switch Session
DESCRIPTION:Join us for a fun and exciting afternoon of Nintendo Switch.
URL:https://buggybuddys.com.au/perth-event/nintendo-switch-session-28/
LOCATION:Subiaco Library\, 237 Rokeby Road\, Subiaco\, WA\, 6008\, Australia
CATEGORIES:Library Events
ATTACH;FMTTYPE=image/jpeg:https://buggybuddys.com.au/wp-content/uploads/2026/04/deb385b6a4b0415f98ba3dba60c4e3aa.jpg
GEO:-31.9509057;115.8236721
X-APPLE-STRUCTURED-LOCATION;VALUE=URI;X-ADDRESS=Subiaco Library 237 Rokeby Road Subiaco WA 6008 Australia;X-APPLE-RADIUS=500;X-TITLE=237 Rokeby Road:geo:115.8236721,-31.9509057
END:VEVENT
BEGIN:VEVENT
DTSTART;TZID=Australia/Perth:20260511T153000
DTEND;TZID=Australia/Perth:20260511T163000
DTSTAMP:20260422T025833
CREATED:20260401T145413Z
LAST-MODIFIED:20260401T145413Z
UID:10076157-1778513400-1778517000@buggybuddys.com.au
SUMMARY:Nintendo Switch Session
DESCRIPTION:Join us for a fun and exciting afternoon of Nintendo Switch.
URL:https://buggybuddys.com.au/perth-event/nintendo-switch-session-29/
LOCATION:Subiaco Library\, 237 Rokeby Road\, Subiaco\, WA\, 6008\, Australia
CATEGORIES:Library Events
ATTACH;FMTTYPE=image/jpeg:https://buggybuddys.com.au/wp-content/uploads/2026/04/deb385b6a4b0415f98ba3dba60c4e3aa.jpg
GEO:-31.9509057;115.8236721
X-APPLE-STRUCTURED-LOCATION;VALUE=URI;X-ADDRESS=Subiaco Library 237 Rokeby Road Subiaco WA 6008 Australia;X-APPLE-RADIUS=500;X-TITLE=237 Rokeby Road:geo:115.8236721,-31.9509057
END:VEVENT
BEGIN:VEVENT
DTSTART;TZID=Australia/Perth:20260518T153000
DTEND;TZID=Australia/Perth:20260518T163000
DTSTAMP:20260422T025833
CREATED:20260401T145414Z
LAST-MODIFIED:20260401T145414Z
UID:10076158-1779118200-1779121800@buggybuddys.com.au
SUMMARY:Nintendo Switch Session
DESCRIPTION:Join us for a fun and exciting afternoon of Nintendo Switch.
URL:https://buggybuddys.com.au/perth-event/nintendo-switch-session-30/
LOCATION:Subiaco Library\, 237 Rokeby Road\, Subiaco\, WA\, 6008\, Australia
CATEGORIES:Library Events
ATTACH;FMTTYPE=image/jpeg:https://buggybuddys.com.au/wp-content/uploads/2026/04/deb385b6a4b0415f98ba3dba60c4e3aa.jpg
GEO:-31.9509057;115.8236721
X-APPLE-STRUCTURED-LOCATION;VALUE=URI;X-ADDRESS=Subiaco Library 237 Rokeby Road Subiaco WA 6008 Australia;X-APPLE-RADIUS=500;X-TITLE=237 Rokeby Road:geo:115.8236721,-31.9509057
END:VEVENT
BEGIN:VEVENT
DTSTART;TZID=Australia/Perth:20260524T100000
DTEND;TZID=Australia/Perth:20260524T110000
DTSTAMP:20260422T025833
CREATED:20260404T142311Z
LAST-MODIFIED:20260404T142311Z
UID:10076280-1779616800-1779620400@buggybuddys.com.au
SUMMARY:Power up with Dave Pilkey
DESCRIPTION:Sydney Writers’ Festival\, streamed direct from Sydney to Subiaco! See Dave Pilkey (Captain Underpants\, Dog Man) draw his beloved characters!\n\n\nSydney Writers’ Festival Live and Local\nPower up with Dave Pilkey \n\nTra-la-laaaa! \nDave Pilkey\, the world-famous creator of Dog Man and Captain Underpants brings his ‘Power Up with Reading’ book tour to Sydney Writers’ Festival. \nSee Dave draw his beloved characters live\, hear his inspiring life story and prepare yourself for some hilarious onstage antics. It’s time to unlock your potential by powering up with reading. Don’t miss this fun\, interactive\, activity-filled event. Hosted by Nathan Luff. \nRecommended for ages 6+ \nFruit and icey poles will be served.  \nPlease note this event is live streamed on a screen from Sydney\, Dave Pilkey will not be at Subiaco Library in person.  \nSydney Writers’ Festival – Live & Local 2026 \nSydney Writers’ Festival is Australia’s largest celebration of books and ideas\, bringing the world’s finest authors and esteemed thinkers together for insightful and exhilarating conversations and discussions. \nJoin us for Live & Local 2026\, streamed live by Sydney Writers’ Festival and delivered locally to the Subiaco Library on Thursday 21\, Friday 22\, Saturday 23\, and Sunday 24 May. Prepare to be invigorated and engaged by conversations\, debates and discussions featuring some of the world’s finest writers and thinkers. \nAdditional information \nGetting to the event: \nSubiaco Library has limited parking bays available. For more information on getting around Subiaco visit the city’s website. \nAccess and inclusion: \nSubiaco Library is wheelchair accessible for additional information please contact Subiaco Library on 9237 9300. \nTicket information: \nYou are not required to bring a ticket with you. In the case of a booked-out event\, names may be checked at the door. \nFurther information: \nFor more events and programs at Subiaco Library visit the City of Subiaco events calendar\, follow the Subiaco Library on Facebook or join the Cultural Services e-newsletter database by emailing library@subiaco.wa.gov.au
URL:https://buggybuddys.com.au/perth-event/power-up-with-dave-pilkey/
LOCATION:Subiaco Library\, 237 Rokeby Road\, Subiaco\, WA\, 6008\, Australia
CATEGORIES:Library Events
ATTACH;FMTTYPE=image/jpeg:https://buggybuddys.com.au/wp-content/uploads/2026/04/96cb97b76164055223c5b4d014b770e9.jpg
GEO:-31.9509057;115.8236721
X-APPLE-STRUCTURED-LOCATION;VALUE=URI;X-ADDRESS=Subiaco Library 237 Rokeby Road Subiaco WA 6008 Australia;X-APPLE-RADIUS=500;X-TITLE=237 Rokeby Road:geo:115.8236721,-31.9509057
END:VEVENT
BEGIN:VEVENT
DTSTART;TZID=Australia/Perth:20260525T153000
DTEND;TZID=Australia/Perth:20260525T163000
DTSTAMP:20260422T025833
CREATED:20260401T145415Z
LAST-MODIFIED:20260401T145415Z
UID:10076159-1779723000-1779726600@buggybuddys.com.au
SUMMARY:Nintendo Switch Session
DESCRIPTION:Join us for a fun and exciting afternoon of Nintendo Switch.
URL:https://buggybuddys.com.au/perth-event/nintendo-switch-session-31/
LOCATION:Subiaco Library\, 237 Rokeby Road\, Subiaco\, WA\, 6008\, Australia
CATEGORIES:Library Events
ATTACH;FMTTYPE=image/jpeg:https://buggybuddys.com.au/wp-content/uploads/2026/04/deb385b6a4b0415f98ba3dba60c4e3aa.jpg
GEO:-31.9509057;115.8236721
X-APPLE-STRUCTURED-LOCATION;VALUE=URI;X-ADDRESS=Subiaco Library 237 Rokeby Road Subiaco WA 6008 Australia;X-APPLE-RADIUS=500;X-TITLE=237 Rokeby Road:geo:115.8236721,-31.9509057
END:VEVENT
BEGIN:VEVENT
DTSTART;TZID=Australia/Perth:20260608T153000
DTEND;TZID=Australia/Perth:20260608T163000
DTSTAMP:20260422T025833
CREATED:20260401T145416Z
LAST-MODIFIED:20260401T145416Z
UID:10076160-1780932600-1780936200@buggybuddys.com.au
SUMMARY:Nintendo Switch Session
DESCRIPTION:Join us for a fun and exciting afternoon of Nintendo Switch.
URL:https://buggybuddys.com.au/perth-event/nintendo-switch-session-32/
LOCATION:Subiaco Library\, 237 Rokeby Road\, Subiaco\, WA\, 6008\, Australia
CATEGORIES:Library Events
ATTACH;FMTTYPE=image/jpeg:https://buggybuddys.com.au/wp-content/uploads/2026/04/deb385b6a4b0415f98ba3dba60c4e3aa.jpg
GEO:-31.9509057;115.8236721
X-APPLE-STRUCTURED-LOCATION;VALUE=URI;X-ADDRESS=Subiaco Library 237 Rokeby Road Subiaco WA 6008 Australia;X-APPLE-RADIUS=500;X-TITLE=237 Rokeby Road:geo:115.8236721,-31.9509057
END:VEVENT
BEGIN:VEVENT
DTSTART;TZID=Australia/Perth:20260615T153000
DTEND;TZID=Australia/Perth:20260615T163000
DTSTAMP:20260422T025833
CREATED:20260401T145416Z
LAST-MODIFIED:20260401T145416Z
UID:10076161-1781537400-1781541000@buggybuddys.com.au
SUMMARY:Nintendo Switch Session
DESCRIPTION:Join us for a fun and exciting afternoon of Nintendo Switch.
URL:https://buggybuddys.com.au/perth-event/nintendo-switch-session-33/
LOCATION:Subiaco Library\, 237 Rokeby Road\, Subiaco\, WA\, 6008\, Australia
CATEGORIES:Library Events
ATTACH;FMTTYPE=image/jpeg:https://buggybuddys.com.au/wp-content/uploads/2026/04/deb385b6a4b0415f98ba3dba60c4e3aa.jpg
GEO:-31.9509057;115.8236721
X-APPLE-STRUCTURED-LOCATION;VALUE=URI;X-ADDRESS=Subiaco Library 237 Rokeby Road Subiaco WA 6008 Australia;X-APPLE-RADIUS=500;X-TITLE=237 Rokeby Road:geo:115.8236721,-31.9509057
END:VEVENT
BEGIN:VEVENT
DTSTART;TZID=Australia/Perth:20260622T153000
DTEND;TZID=Australia/Perth:20260622T163000
DTSTAMP:20260422T025833
CREATED:20260401T145417Z
LAST-MODIFIED:20260401T145417Z
UID:10076162-1782142200-1782145800@buggybuddys.com.au
SUMMARY:Nintendo Switch Session
DESCRIPTION:Join us for a fun and exciting afternoon of Nintendo Switch.
URL:https://buggybuddys.com.au/perth-event/nintendo-switch-session-34/
LOCATION:Subiaco Library\, 237 Rokeby Road\, Subiaco\, WA\, 6008\, Australia
CATEGORIES:Library Events
ATTACH;FMTTYPE=image/jpeg:https://buggybuddys.com.au/wp-content/uploads/2026/04/deb385b6a4b0415f98ba3dba60c4e3aa.jpg
GEO:-31.9509057;115.8236721
X-APPLE-STRUCTURED-LOCATION;VALUE=URI;X-ADDRESS=Subiaco Library 237 Rokeby Road Subiaco WA 6008 Australia;X-APPLE-RADIUS=500;X-TITLE=237 Rokeby Road:geo:115.8236721,-31.9509057
END:VEVENT
BEGIN:VEVENT
DTSTART;TZID=Australia/Perth:20260629T153000
DTEND;TZID=Australia/Perth:20260629T163000
DTSTAMP:20260422T025833
CREATED:20260401T145417Z
LAST-MODIFIED:20260401T145417Z
UID:10076163-1782747000-1782750600@buggybuddys.com.au
SUMMARY:Nintendo Switch Session
DESCRIPTION:Join us for a fun and exciting afternoon of Nintendo Switch.
URL:https://buggybuddys.com.au/perth-event/nintendo-switch-session-35/
LOCATION:Subiaco Library\, 237 Rokeby Road\, Subiaco\, WA\, 6008\, Australia
CATEGORIES:Library Events
ATTACH;FMTTYPE=image/jpeg:https://buggybuddys.com.au/wp-content/uploads/2026/04/deb385b6a4b0415f98ba3dba60c4e3aa.jpg
GEO:-31.9509057;115.8236721
X-APPLE-STRUCTURED-LOCATION;VALUE=URI;X-ADDRESS=Subiaco Library 237 Rokeby Road Subiaco WA 6008 Australia;X-APPLE-RADIUS=500;X-TITLE=237 Rokeby Road:geo:115.8236721,-31.9509057
END:VEVENT
BEGIN:VEVENT
DTSTART;TZID=Australia/Perth:20260727T153000
DTEND;TZID=Australia/Perth:20260727T163000
DTSTAMP:20260422T025833
CREATED:20260401T145418Z
LAST-MODIFIED:20260401T145418Z
UID:10076164-1785166200-1785169800@buggybuddys.com.au
SUMMARY:Nintendo Switch Session
DESCRIPTION:Join us for a fun and exciting afternoon of Nintendo Switch.
URL:https://buggybuddys.com.au/perth-event/nintendo-switch-session-36/
LOCATION:Subiaco Library\, 237 Rokeby Road\, Subiaco\, WA\, 6008\, Australia
CATEGORIES:Library Events
ATTACH;FMTTYPE=image/jpeg:https://buggybuddys.com.au/wp-content/uploads/2026/04/deb385b6a4b0415f98ba3dba60c4e3aa.jpg
GEO:-31.9509057;115.8236721
X-APPLE-STRUCTURED-LOCATION;VALUE=URI;X-ADDRESS=Subiaco Library 237 Rokeby Road Subiaco WA 6008 Australia;X-APPLE-RADIUS=500;X-TITLE=237 Rokeby Road:geo:115.8236721,-31.9509057
END:VEVENT
BEGIN:VEVENT
DTSTART;TZID=Australia/Perth:20260803T153000
DTEND;TZID=Australia/Perth:20260803T163000
DTSTAMP:20260422T025833
CREATED:20260401T145419Z
LAST-MODIFIED:20260401T145419Z
UID:10076165-1785771000-1785774600@buggybuddys.com.au
SUMMARY:Nintendo Switch Session
DESCRIPTION:Join us for a fun and exciting afternoon of Nintendo Switch.
URL:https://buggybuddys.com.au/perth-event/nintendo-switch-session-37/
LOCATION:Subiaco Library\, 237 Rokeby Road\, Subiaco\, WA\, 6008\, Australia
CATEGORIES:Library Events
ATTACH;FMTTYPE=image/jpeg:https://buggybuddys.com.au/wp-content/uploads/2026/04/deb385b6a4b0415f98ba3dba60c4e3aa.jpg
GEO:-31.9509057;115.8236721
X-APPLE-STRUCTURED-LOCATION;VALUE=URI;X-ADDRESS=Subiaco Library 237 Rokeby Road Subiaco WA 6008 Australia;X-APPLE-RADIUS=500;X-TITLE=237 Rokeby Road:geo:115.8236721,-31.9509057
END:VEVENT
BEGIN:VEVENT
DTSTART;TZID=Australia/Perth:20260810T153000
DTEND;TZID=Australia/Perth:20260810T163000
DTSTAMP:20260422T025833
CREATED:20260401T145440Z
LAST-MODIFIED:20260401T145440Z
UID:10076166-1786375800-1786379400@buggybuddys.com.au
SUMMARY:Nintendo Switch Session
DESCRIPTION:Join us for a fun and exciting afternoon of Nintendo Switch.
URL:https://buggybuddys.com.au/perth-event/nintendo-switch-session-38/
LOCATION:Subiaco Library\, 237 Rokeby Road\, Subiaco\, WA\, 6008\, Australia
CATEGORIES:Library Events
ATTACH;FMTTYPE=image/jpeg:https://buggybuddys.com.au/wp-content/uploads/2026/04/deb385b6a4b0415f98ba3dba60c4e3aa.jpg
GEO:-31.9509057;115.8236721
X-APPLE-STRUCTURED-LOCATION;VALUE=URI;X-ADDRESS=Subiaco Library 237 Rokeby Road Subiaco WA 6008 Australia;X-APPLE-RADIUS=500;X-TITLE=237 Rokeby Road:geo:115.8236721,-31.9509057
END:VEVENT
BEGIN:VEVENT
DTSTART;TZID=Australia/Perth:20260817T153000
DTEND;TZID=Australia/Perth:20260817T163000
DTSTAMP:20260422T025833
CREATED:20260401T145441Z
LAST-MODIFIED:20260401T145441Z
UID:10076167-1786980600-1786984200@buggybuddys.com.au
SUMMARY:Nintendo Switch Session
DESCRIPTION:Join us for a fun and exciting afternoon of Nintendo Switch.
URL:https://buggybuddys.com.au/perth-event/nintendo-switch-session-39/
LOCATION:Subiaco Library\, 237 Rokeby Road\, Subiaco\, WA\, 6008\, Australia
CATEGORIES:Library Events
ATTACH;FMTTYPE=image/jpeg:https://buggybuddys.com.au/wp-content/uploads/2026/04/deb385b6a4b0415f98ba3dba60c4e3aa.jpg
GEO:-31.9509057;115.8236721
X-APPLE-STRUCTURED-LOCATION;VALUE=URI;X-ADDRESS=Subiaco Library 237 Rokeby Road Subiaco WA 6008 Australia;X-APPLE-RADIUS=500;X-TITLE=237 Rokeby Road:geo:115.8236721,-31.9509057
END:VEVENT
BEGIN:VEVENT
DTSTART;TZID=Australia/Perth:20260824T153000
DTEND;TZID=Australia/Perth:20260824T163000
DTSTAMP:20260422T025833
CREATED:20260401T145441Z
LAST-MODIFIED:20260401T145441Z
UID:10076168-1787585400-1787589000@buggybuddys.com.au
SUMMARY:Nintendo Switch Session
DESCRIPTION:Join us for a fun and exciting afternoon of Nintendo Switch.
URL:https://buggybuddys.com.au/perth-event/nintendo-switch-session-40/
LOCATION:Subiaco Library\, 237 Rokeby Road\, Subiaco\, WA\, 6008\, Australia
CATEGORIES:Library Events
ATTACH;FMTTYPE=image/jpeg:https://buggybuddys.com.au/wp-content/uploads/2026/04/deb385b6a4b0415f98ba3dba60c4e3aa.jpg
GEO:-31.9509057;115.8236721
X-APPLE-STRUCTURED-LOCATION;VALUE=URI;X-ADDRESS=Subiaco Library 237 Rokeby Road Subiaco WA 6008 Australia;X-APPLE-RADIUS=500;X-TITLE=237 Rokeby Road:geo:115.8236721,-31.9509057
END:VEVENT
BEGIN:VEVENT
DTSTART;TZID=Australia/Perth:20260831T153000
DTEND;TZID=Australia/Perth:20260831T163000
DTSTAMP:20260422T025833
CREATED:20260401T145442Z
LAST-MODIFIED:20260401T145442Z
UID:10076169-1788190200-1788193800@buggybuddys.com.au
SUMMARY:Nintendo Switch Session
DESCRIPTION:Join us for a fun and exciting afternoon of Nintendo Switch.
URL:https://buggybuddys.com.au/perth-event/nintendo-switch-session-41/
LOCATION:Subiaco Library\, 237 Rokeby Road\, Subiaco\, WA\, 6008\, Australia
CATEGORIES:Library Events
ATTACH;FMTTYPE=image/jpeg:https://buggybuddys.com.au/wp-content/uploads/2026/04/deb385b6a4b0415f98ba3dba60c4e3aa.jpg
GEO:-31.9509057;115.8236721
X-APPLE-STRUCTURED-LOCATION;VALUE=URI;X-ADDRESS=Subiaco Library 237 Rokeby Road Subiaco WA 6008 Australia;X-APPLE-RADIUS=500;X-TITLE=237 Rokeby Road:geo:115.8236721,-31.9509057
END:VEVENT
BEGIN:VEVENT
DTSTART;TZID=Australia/Perth:20260907T153000
DTEND;TZID=Australia/Perth:20260907T163000
DTSTAMP:20260422T025833
CREATED:20260401T145442Z
LAST-MODIFIED:20260401T145442Z
UID:10076170-1788795000-1788798600@buggybuddys.com.au
SUMMARY:Nintendo Switch Session
DESCRIPTION:Join us for a fun and exciting afternoon of Nintendo Switch.
URL:https://buggybuddys.com.au/perth-event/nintendo-switch-session-42/
LOCATION:Subiaco Library\, 237 Rokeby Road\, Subiaco\, WA\, 6008\, Australia
CATEGORIES:Library Events
ATTACH;FMTTYPE=image/jpeg:https://buggybuddys.com.au/wp-content/uploads/2026/04/deb385b6a4b0415f98ba3dba60c4e3aa.jpg
GEO:-31.9509057;115.8236721
X-APPLE-STRUCTURED-LOCATION;VALUE=URI;X-ADDRESS=Subiaco Library 237 Rokeby Road Subiaco WA 6008 Australia;X-APPLE-RADIUS=500;X-TITLE=237 Rokeby Road:geo:115.8236721,-31.9509057
END:VEVENT
BEGIN:VEVENT
DTSTART;TZID=Australia/Perth:20260914T153000
DTEND;TZID=Australia/Perth:20260914T163000
DTSTAMP:20260422T025833
CREATED:20260401T145443Z
LAST-MODIFIED:20260401T145443Z
UID:10076171-1789399800-1789403400@buggybuddys.com.au
SUMMARY:Nintendo Switch Session
DESCRIPTION:Join us for a fun and exciting afternoon of Nintendo Switch.
URL:https://buggybuddys.com.au/perth-event/nintendo-switch-session-43/
LOCATION:Subiaco Library\, 237 Rokeby Road\, Subiaco\, WA\, 6008\, Australia
CATEGORIES:Library Events
ATTACH;FMTTYPE=image/jpeg:https://buggybuddys.com.au/wp-content/uploads/2026/04/deb385b6a4b0415f98ba3dba60c4e3aa.jpg
GEO:-31.9509057;115.8236721
X-APPLE-STRUCTURED-LOCATION;VALUE=URI;X-ADDRESS=Subiaco Library 237 Rokeby Road Subiaco WA 6008 Australia;X-APPLE-RADIUS=500;X-TITLE=237 Rokeby Road:geo:115.8236721,-31.9509057
END:VEVENT
BEGIN:VEVENT
DTSTART;TZID=Australia/Perth:20260921T153000
DTEND;TZID=Australia/Perth:20260921T163000
DTSTAMP:20260422T025833
CREATED:20260401T145444Z
LAST-MODIFIED:20260401T145444Z
UID:10076172-1790004600-1790008200@buggybuddys.com.au
SUMMARY:Nintendo Switch Session
DESCRIPTION:Join us for a fun and exciting afternoon of Nintendo Switch.
URL:https://buggybuddys.com.au/perth-event/nintendo-switch-session-44/
LOCATION:Subiaco Library\, 237 Rokeby Road\, Subiaco\, WA\, 6008\, Australia
CATEGORIES:Library Events
ATTACH;FMTTYPE=image/jpeg:https://buggybuddys.com.au/wp-content/uploads/2026/04/deb385b6a4b0415f98ba3dba60c4e3aa.jpg
GEO:-31.9509057;115.8236721
X-APPLE-STRUCTURED-LOCATION;VALUE=URI;X-ADDRESS=Subiaco Library 237 Rokeby Road Subiaco WA 6008 Australia;X-APPLE-RADIUS=500;X-TITLE=237 Rokeby Road:geo:115.8236721,-31.9509057
END:VEVENT
BEGIN:VEVENT
DTSTART;TZID=Australia/Perth:20261019T153000
DTEND;TZID=Australia/Perth:20261019T163000
DTSTAMP:20260422T025833
CREATED:20260401T145444Z
LAST-MODIFIED:20260401T145444Z
UID:10076173-1792423800-1792427400@buggybuddys.com.au
SUMMARY:Nintendo Switch Session
DESCRIPTION:Join us for a fun and exciting afternoon of Nintendo Switch.
URL:https://buggybuddys.com.au/perth-event/nintendo-switch-session-45/
LOCATION:Subiaco Library\, 237 Rokeby Road\, Subiaco\, WA\, 6008\, Australia
CATEGORIES:Library Events
ATTACH;FMTTYPE=image/jpeg:https://buggybuddys.com.au/wp-content/uploads/2026/04/deb385b6a4b0415f98ba3dba60c4e3aa.jpg
GEO:-31.9509057;115.8236721
X-APPLE-STRUCTURED-LOCATION;VALUE=URI;X-ADDRESS=Subiaco Library 237 Rokeby Road Subiaco WA 6008 Australia;X-APPLE-RADIUS=500;X-TITLE=237 Rokeby Road:geo:115.8236721,-31.9509057
END:VEVENT
BEGIN:VEVENT
DTSTART;TZID=Australia/Perth:20261026T153000
DTEND;TZID=Australia/Perth:20261026T163000
DTSTAMP:20260422T025833
CREATED:20260401T145445Z
LAST-MODIFIED:20260401T145445Z
UID:10076174-1793028600-1793032200@buggybuddys.com.au
SUMMARY:Nintendo Switch Session
DESCRIPTION:Join us for a fun and exciting afternoon of Nintendo Switch.
URL:https://buggybuddys.com.au/perth-event/nintendo-switch-session-46/
LOCATION:Subiaco Library\, 237 Rokeby Road\, Subiaco\, WA\, 6008\, Australia
CATEGORIES:Library Events
ATTACH;FMTTYPE=image/jpeg:https://buggybuddys.com.au/wp-content/uploads/2026/04/deb385b6a4b0415f98ba3dba60c4e3aa.jpg
GEO:-31.9509057;115.8236721
X-APPLE-STRUCTURED-LOCATION;VALUE=URI;X-ADDRESS=Subiaco Library 237 Rokeby Road Subiaco WA 6008 Australia;X-APPLE-RADIUS=500;X-TITLE=237 Rokeby Road:geo:115.8236721,-31.9509057
END:VEVENT
BEGIN:VEVENT
DTSTART;TZID=Australia/Perth:20261102T153000
DTEND;TZID=Australia/Perth:20261102T163000
DTSTAMP:20260422T025834
CREATED:20260401T145445Z
LAST-MODIFIED:20260401T145445Z
UID:10076175-1793633400-1793637000@buggybuddys.com.au
SUMMARY:Nintendo Switch Session
DESCRIPTION:Join us for a fun and exciting afternoon of Nintendo Switch.
URL:https://buggybuddys.com.au/perth-event/nintendo-switch-session-47/
LOCATION:Subiaco Library\, 237 Rokeby Road\, Subiaco\, WA\, 6008\, Australia
CATEGORIES:Library Events
ATTACH;FMTTYPE=image/jpeg:https://buggybuddys.com.au/wp-content/uploads/2026/04/deb385b6a4b0415f98ba3dba60c4e3aa.jpg
GEO:-31.9509057;115.8236721
X-APPLE-STRUCTURED-LOCATION;VALUE=URI;X-ADDRESS=Subiaco Library 237 Rokeby Road Subiaco WA 6008 Australia;X-APPLE-RADIUS=500;X-TITLE=237 Rokeby Road:geo:115.8236721,-31.9509057
END:VEVENT
BEGIN:VEVENT
DTSTART;TZID=Australia/Perth:20261109T153000
DTEND;TZID=Australia/Perth:20261109T163000
DTSTAMP:20260422T025834
CREATED:20260401T145504Z
LAST-MODIFIED:20260401T145504Z
UID:10076176-1794238200-1794241800@buggybuddys.com.au
SUMMARY:Nintendo Switch Session
DESCRIPTION:Join us for a fun and exciting afternoon of Nintendo Switch.
URL:https://buggybuddys.com.au/perth-event/nintendo-switch-session-48/
LOCATION:Subiaco Library\, 237 Rokeby Road\, Subiaco\, WA\, 6008\, Australia
CATEGORIES:Library Events
ATTACH;FMTTYPE=image/jpeg:https://buggybuddys.com.au/wp-content/uploads/2026/04/deb385b6a4b0415f98ba3dba60c4e3aa.jpg
GEO:-31.9509057;115.8236721
X-APPLE-STRUCTURED-LOCATION;VALUE=URI;X-ADDRESS=Subiaco Library 237 Rokeby Road Subiaco WA 6008 Australia;X-APPLE-RADIUS=500;X-TITLE=237 Rokeby Road:geo:115.8236721,-31.9509057
END:VEVENT
BEGIN:VEVENT
DTSTART;TZID=Australia/Perth:20261116T153000
DTEND;TZID=Australia/Perth:20261116T163000
DTSTAMP:20260422T025834
CREATED:20260401T145505Z
LAST-MODIFIED:20260401T145505Z
UID:10076177-1794843000-1794846600@buggybuddys.com.au
SUMMARY:Nintendo Switch Session
DESCRIPTION:Join us for a fun and exciting afternoon of Nintendo Switch.
URL:https://buggybuddys.com.au/perth-event/nintendo-switch-session-49/
LOCATION:Subiaco Library\, 237 Rokeby Road\, Subiaco\, WA\, 6008\, Australia
CATEGORIES:Library Events
ATTACH;FMTTYPE=image/jpeg:https://buggybuddys.com.au/wp-content/uploads/2026/04/deb385b6a4b0415f98ba3dba60c4e3aa.jpg
GEO:-31.9509057;115.8236721
X-APPLE-STRUCTURED-LOCATION;VALUE=URI;X-ADDRESS=Subiaco Library 237 Rokeby Road Subiaco WA 6008 Australia;X-APPLE-RADIUS=500;X-TITLE=237 Rokeby Road:geo:115.8236721,-31.9509057
END:VEVENT
BEGIN:VEVENT
DTSTART;TZID=Australia/Perth:20261123T153000
DTEND;TZID=Australia/Perth:20261123T163000
DTSTAMP:20260422T025834
CREATED:20260401T145506Z
LAST-MODIFIED:20260401T145506Z
UID:10076178-1795447800-1795451400@buggybuddys.com.au
SUMMARY:Nintendo Switch Session
DESCRIPTION:Join us for a fun and exciting afternoon of Nintendo Switch.
URL:https://buggybuddys.com.au/perth-event/nintendo-switch-session-50/
LOCATION:Subiaco Library\, 237 Rokeby Road\, Subiaco\, WA\, 6008\, Australia
CATEGORIES:Library Events
ATTACH;FMTTYPE=image/jpeg:https://buggybuddys.com.au/wp-content/uploads/2026/04/deb385b6a4b0415f98ba3dba60c4e3aa.jpg
GEO:-31.9509057;115.8236721
X-APPLE-STRUCTURED-LOCATION;VALUE=URI;X-ADDRESS=Subiaco Library 237 Rokeby Road Subiaco WA 6008 Australia;X-APPLE-RADIUS=500;X-TITLE=237 Rokeby Road:geo:115.8236721,-31.9509057
END:VEVENT
BEGIN:VEVENT
DTSTART;TZID=Australia/Perth:20261130T153000
DTEND;TZID=Australia/Perth:20261130T163000
DTSTAMP:20260422T025834
CREATED:20260401T145508Z
LAST-MODIFIED:20260401T145508Z
UID:10076179-1796052600-1796056200@buggybuddys.com.au
SUMMARY:Nintendo Switch Session
DESCRIPTION:Join us for a fun and exciting afternoon of Nintendo Switch.
URL:https://buggybuddys.com.au/perth-event/nintendo-switch-session-51/
LOCATION:Subiaco Library\, 237 Rokeby Road\, Subiaco\, WA\, 6008\, Australia
CATEGORIES:Library Events
ATTACH;FMTTYPE=image/jpeg:https://buggybuddys.com.au/wp-content/uploads/2026/04/deb385b6a4b0415f98ba3dba60c4e3aa.jpg
GEO:-31.9509057;115.8236721
X-APPLE-STRUCTURED-LOCATION;VALUE=URI;X-ADDRESS=Subiaco Library 237 Rokeby Road Subiaco WA 6008 Australia;X-APPLE-RADIUS=500;X-TITLE=237 Rokeby Road:geo:115.8236721,-31.9509057
END:VEVENT
BEGIN:VEVENT
DTSTART;TZID=Australia/Perth:20261207T153000
DTEND;TZID=Australia/Perth:20261207T163000
DTSTAMP:20260422T025834
CREATED:20260401T145509Z
LAST-MODIFIED:20260401T145509Z
UID:10076180-1796657400-1796661000@buggybuddys.com.au
SUMMARY:Nintendo Switch Session
DESCRIPTION:Join us for a fun and exciting afternoon of Nintendo Switch.
URL:https://buggybuddys.com.au/perth-event/nintendo-switch-session-52/
LOCATION:Subiaco Library\, 237 Rokeby Road\, Subiaco\, WA\, 6008\, Australia
CATEGORIES:Library Events
ATTACH;FMTTYPE=image/jpeg:https://buggybuddys.com.au/wp-content/uploads/2026/04/deb385b6a4b0415f98ba3dba60c4e3aa.jpg
GEO:-31.9509057;115.8236721
X-APPLE-STRUCTURED-LOCATION;VALUE=URI;X-ADDRESS=Subiaco Library 237 Rokeby Road Subiaco WA 6008 Australia;X-APPLE-RADIUS=500;X-TITLE=237 Rokeby Road:geo:115.8236721,-31.9509057
END:VEVENT
BEGIN:VEVENT
DTSTART;TZID=Australia/Perth:20261214T153000
DTEND;TZID=Australia/Perth:20261214T163000
DTSTAMP:20260422T025834
CREATED:20260401T145510Z
LAST-MODIFIED:20260401T145510Z
UID:10076181-1797262200-1797265800@buggybuddys.com.au
SUMMARY:Nintendo Switch Session
DESCRIPTION:Join us for a fun and exciting afternoon of Nintendo Switch.
URL:https://buggybuddys.com.au/perth-event/nintendo-switch-session-53/
LOCATION:Subiaco Library\, 237 Rokeby Road\, Subiaco\, WA\, 6008\, Australia
CATEGORIES:Library Events
ATTACH;FMTTYPE=image/jpeg:https://buggybuddys.com.au/wp-content/uploads/2026/04/deb385b6a4b0415f98ba3dba60c4e3aa.jpg
GEO:-31.9509057;115.8236721
X-APPLE-STRUCTURED-LOCATION;VALUE=URI;X-ADDRESS=Subiaco Library 237 Rokeby Road Subiaco WA 6008 Australia;X-APPLE-RADIUS=500;X-TITLE=237 Rokeby Road:geo:115.8236721,-31.9509057
END:VEVENT
END:VCALENDAR