BEGIN:VCALENDAR
VERSION:2.0
PRODID:-//Buggybuddys guide for families in Perth - ECPv6.15.11//NONSGML v1.0//EN
CALSCALE:GREGORIAN
METHOD:PUBLISH
X-WR-CALNAME:Buggybuddys guide for families in Perth
X-ORIGINAL-URL:https://buggybuddys.com.au
X-WR-CALDESC:Events for Buggybuddys guide for families in Perth
REFRESH-INTERVAL;VALUE=DURATION:PT1H
X-Robots-Tag:noindex
X-PUBLISHED-TTL:PT1H
BEGIN:VTIMEZONE
TZID:Australia/Perth
BEGIN:STANDARD
TZOFFSETFROM:+0800
TZOFFSETTO:+0800
TZNAME:AWST
DTSTART:20250101T000000
END:STANDARD
END:VTIMEZONE
BEGIN:VEVENT
DTSTART;TZID=Australia/Perth:20260320T103000
DTEND;TZID=Australia/Perth:20260320T113000
DTSTAMP:20260421T010737
CREATED:20260301T140819Z
LAST-MODIFIED:20260301T140819Z
UID:10074952-1774002600-1774006200@buggybuddys.com.au
SUMMARY:Cultural Storytime - Italian
DESCRIPTION:Ciao Subi! Join us for stories\, rhymes and songs in Italian with Jessica.\n\n\nCultural Storytime – Italian\n\nFriday 20 Mar 2026 | 10.30am – 11.30am | Subiaco LibraryAges 2+\n \nCiao! Subiaco Library’s Cultural Storytime for Easter will celebrate the Italian culture and language. Come along to listen to a story read in Italian by our wonderful Subiaco Museum Curator\, Jessica\, then take part in decorating Easter eggs. \nThis session is suitable for children aged 2+ \nBoth novices and native speakers are welcome. \nFor more books in Italian from home check out the LOTE4Kids e-resource. \nPlease book tickets for children participating in the event.
URL:https://buggybuddys.com.au/perth-event/cultural-storytime-italian/
LOCATION:Subiaco Library\, 237 Rokeby Road\, Subiaco\, WA\, 6008\, Australia
CATEGORIES:Harmony Week
ATTACH;FMTTYPE=image/jpeg:https://buggybuddys.com.au/wp-content/uploads/2026/03/cbea9569a21e7ad6b61d81ef734dad9f.jpg
GEO:-31.9509057;115.8236721
X-APPLE-STRUCTURED-LOCATION;VALUE=URI;X-ADDRESS=Subiaco Library 237 Rokeby Road Subiaco WA 6008 Australia;X-APPLE-RADIUS=500;X-TITLE=237 Rokeby Road:geo:115.8236721,-31.9509057
END:VEVENT
BEGIN:VEVENT
DTSTART;TZID=Australia/Perth:20260307T130000
DTEND;TZID=Australia/Perth:20260307T143000
DTSTAMP:20260421T010737
CREATED:20260206T154115Z
LAST-MODIFIED:20260206T154115Z
UID:10073278-1772888400-1772893800@buggybuddys.com.au
SUMMARY:Women's Self Defence Workshop
DESCRIPTION:This self-defence class will build confidence and skills to help keep you safe.\n\n\nWestStar Martial Arts is holding a women’s self defence workshop. \nA great introduction to learning simple\, direct\, effective self defence techniques and strategies to defend yourself against a range of attacks. \nIt doesn’t matter if you’ve never done martial arts before\, the workshop will be a great experience as you learn realistic\, useful self defence skills designed to empower you. \nWhile we hope that you would never have to use it\, learning self defence can give you the confidence and knowledge to act if the unthinkable were to happen. \nWe recommend comfortable workout gear (you’ll be working on your feet as well as on the ground)\, and you may also want to bring some water and a sweat towel. \nRegistration is essential. \nGetting to the event and location: Located inside the Subiaco PCYC building. Turn left at the front desk and walk down the corridor\, the last room on the left. Parking including accessible bays are available at the PCYC or The Palms Community Centre\, otherwise there is adjacent parking available on Rokeby Road. \nThe closest Transperth stop is on Rokeby Road before Heytesbury Road (Stop number 17524). For more information on getting around Subiaco visit the city’s website. \nAccess and inclusion: For more information please contact the Community Development Safety and Wellbeing Officer: culture@subiaco.wa.gov.au or (08) 9237 9281 \nFurther Information \nPlease contact the Community Development Safety and Wellbeing Officer: culture@subiaco.wa.gov.au or (08) 9237 9281.
URL:https://buggybuddys.com.au/perth-event/womens-self-defence-workshop-2/
LOCATION:Weststar Martial Arts\, 450 Rokeby Road\, Shenton Park\, WA\, 6008\, Australia
CATEGORIES:Business and Workshops
ATTACH;FMTTYPE=image/jpeg:https://buggybuddys.com.au/wp-content/uploads/2026/02/fd6d8162ee7b4cdc1f7d1981dd6b34c2.jpg
END:VEVENT
BEGIN:VEVENT
DTSTART;TZID=Australia/Perth:20260307T100000
DTEND;TZID=Australia/Perth:20260307T120000
DTSTAMP:20260421T010737
CREATED:20260206T153859Z
LAST-MODIFIED:20260206T153859Z
UID:10073277-1772877600-1772884800@buggybuddys.com.au
SUMMARY:Book Launch - Justin Somper - Pirate Academy Book#2
DESCRIPTION:Celebrate the release of Missing at Sea\, Book 2 in the Pirate Academy series by Justin Somper and enjoy a morning of park pirate fun!\n\n\nBook Launch – Justin Somper – Pirate Academy Missing at Sea. \nSaturday 7 March | 10am – 12pm | Rankin Gardens \nCelebrate the release of Missing at Sea\, Book 2 in the Pirate Academy series by Justin Somper and enjoy a morning of park pirate fun! \nPirate Academy is a fantastic new junior fiction series which takes children into a story of pirate classes\, mysterious villians and sailing across the seven seas. Celebrate the release of Book 2 – Missing at Sea with Justin and Subiaco Library.  \nThere will be snacks\, giant games\, ocean sensory tubs\, scavenger hunts with treasure at the end and lots of pirate craft.  \nBook sales by Dymocks Subiaco. \nPlease book tickets for everyone attending the event.\nThis is an outdoor event\, in the case of wet weather\, the event will move to Subiaco Library. \nAbout Justin SomperJustin Somper is the award-winning author of eleven books for middle-grade and young teen readers. His sequence of six VAMPIRATES books has been published in 35 countries and 25 languages. Cressida Cowell calls VAMPIRATES “a swaggering tale of excitement and adventure that thrills from the first sentence.”  \nJustin’s new series PIRATE ACADEMY is set in the same universe as VAMPIRATES – with some cross-over characters – but the two series can be read independently of each other. Author Eoin Colfer’s verdict on PIRATE ACADEMY was “Pirates done right! I love this world”. \nA Brit by birth\, Justin relocated to Perth\, Western Australia in October 2022. Here\, Justin is working on new writing – in between refreshing dips in the Indian Ocean\, long-overdue sailing and kayak lessons and inspiring coastal walks with his labrador/retriever puppy\, Enzo.
URL:https://buggybuddys.com.au/perth-event/book-launch-justin-somper-pirate-academy-book2/
LOCATION:Rankin Gardens\, 138L Hamersley Road\, Subiaco\, WA\, 6008\, Australia
CATEGORIES:Free
ATTACH;FMTTYPE=image/jpeg:https://buggybuddys.com.au/wp-content/uploads/2026/02/fefdcadcd0c34dc4e52048654ad6c316.jpg
END:VEVENT
END:VCALENDAR