BEGIN:VCALENDAR
VERSION:2.0
PRODID:-//Buggybuddys guide for families in Perth - ECPv6.15.11//NONSGML v1.0//EN
CALSCALE:GREGORIAN
METHOD:PUBLISH
X-WR-CALNAME:Buggybuddys guide for families in Perth
X-ORIGINAL-URL:https://buggybuddys.com.au
X-WR-CALDESC:Events for Buggybuddys guide for families in Perth
REFRESH-INTERVAL;VALUE=DURATION:PT1H
X-Robots-Tag:noindex
X-PUBLISHED-TTL:PT1H
BEGIN:VTIMEZONE
TZID:Australia/Perth
BEGIN:STANDARD
TZOFFSETFROM:+0800
TZOFFSETTO:+0800
TZNAME:AWST
DTSTART:20250101T000000
END:STANDARD
END:VTIMEZONE
BEGIN:VEVENT
DTSTART;VALUE=DATE:20260621
DTEND;VALUE=DATE:20260622
DTSTAMP:20260422T150329
CREATED:20260418T130033Z
LAST-MODIFIED:20260418T130033Z
UID:10077402-1782000000-1782086399@buggybuddys.com.au
SUMMARY:Tiny Doors of York 2026
DESCRIPTION:Maps available from the York Visitor Centre\, or download. \nLocation: Various locations around York \nDownload Tiny Doors Trail Map Here
URL:https://buggybuddys.com.au/perth-event/tiny-doors-of-york-2026/2026-06-21/
CATEGORIES:Family Event,Free,Walk
ATTACH;FMTTYPE=image/jpeg:https://buggybuddys.com.au/wp-content/uploads/2026/04/Tiny-Doors-of-York-2026.jpg
ORGANIZER;CN="Shire of York":MAILTO:info@york.wa.gov.au
END:VEVENT
BEGIN:VEVENT
DTSTART;VALUE=DATE:20260622
DTEND;VALUE=DATE:20260623
DTSTAMP:20260422T150330
CREATED:20260418T130033Z
LAST-MODIFIED:20260418T130033Z
UID:10077403-1782086400-1782172799@buggybuddys.com.au
SUMMARY:Tiny Doors of York 2026
DESCRIPTION:Maps available from the York Visitor Centre\, or download. \nLocation: Various locations around York \nDownload Tiny Doors Trail Map Here
URL:https://buggybuddys.com.au/perth-event/tiny-doors-of-york-2026/2026-06-22/
CATEGORIES:Family Event,Free,Walk
ATTACH;FMTTYPE=image/jpeg:https://buggybuddys.com.au/wp-content/uploads/2026/04/Tiny-Doors-of-York-2026.jpg
ORGANIZER;CN="Shire of York":MAILTO:info@york.wa.gov.au
END:VEVENT
BEGIN:VEVENT
DTSTART;VALUE=DATE:20260623
DTEND;VALUE=DATE:20260624
DTSTAMP:20260422T150330
CREATED:20260418T130033Z
LAST-MODIFIED:20260418T130033Z
UID:10077404-1782172800-1782259199@buggybuddys.com.au
SUMMARY:Tiny Doors of York 2026
DESCRIPTION:Maps available from the York Visitor Centre\, or download. \nLocation: Various locations around York \nDownload Tiny Doors Trail Map Here
URL:https://buggybuddys.com.au/perth-event/tiny-doors-of-york-2026/2026-06-23/
CATEGORIES:Family Event,Free,Walk
ATTACH;FMTTYPE=image/jpeg:https://buggybuddys.com.au/wp-content/uploads/2026/04/Tiny-Doors-of-York-2026.jpg
ORGANIZER;CN="Shire of York":MAILTO:info@york.wa.gov.au
END:VEVENT
BEGIN:VEVENT
DTSTART;VALUE=DATE:20260624
DTEND;VALUE=DATE:20260625
DTSTAMP:20260422T150330
CREATED:20260418T130033Z
LAST-MODIFIED:20260418T130033Z
UID:10077405-1782259200-1782345599@buggybuddys.com.au
SUMMARY:Tiny Doors of York 2026
DESCRIPTION:Maps available from the York Visitor Centre\, or download. \nLocation: Various locations around York \nDownload Tiny Doors Trail Map Here
URL:https://buggybuddys.com.au/perth-event/tiny-doors-of-york-2026/2026-06-24/
CATEGORIES:Family Event,Free,Walk
ATTACH;FMTTYPE=image/jpeg:https://buggybuddys.com.au/wp-content/uploads/2026/04/Tiny-Doors-of-York-2026.jpg
ORGANIZER;CN="Shire of York":MAILTO:info@york.wa.gov.au
END:VEVENT
BEGIN:VEVENT
DTSTART;VALUE=DATE:20260625
DTEND;VALUE=DATE:20260626
DTSTAMP:20260422T150330
CREATED:20260418T130033Z
LAST-MODIFIED:20260418T130033Z
UID:10077406-1782345600-1782431999@buggybuddys.com.au
SUMMARY:Tiny Doors of York 2026
DESCRIPTION:Maps available from the York Visitor Centre\, or download. \nLocation: Various locations around York \nDownload Tiny Doors Trail Map Here
URL:https://buggybuddys.com.au/perth-event/tiny-doors-of-york-2026/2026-06-25/
CATEGORIES:Family Event,Free,Walk
ATTACH;FMTTYPE=image/jpeg:https://buggybuddys.com.au/wp-content/uploads/2026/04/Tiny-Doors-of-York-2026.jpg
ORGANIZER;CN="Shire of York":MAILTO:info@york.wa.gov.au
END:VEVENT
BEGIN:VEVENT
DTSTART;VALUE=DATE:20260626
DTEND;VALUE=DATE:20260627
DTSTAMP:20260422T150330
CREATED:20260418T130033Z
LAST-MODIFIED:20260418T130033Z
UID:10077407-1782432000-1782518399@buggybuddys.com.au
SUMMARY:Tiny Doors of York 2026
DESCRIPTION:Maps available from the York Visitor Centre\, or download. \nLocation: Various locations around York \nDownload Tiny Doors Trail Map Here
URL:https://buggybuddys.com.au/perth-event/tiny-doors-of-york-2026/2026-06-26/
CATEGORIES:Family Event,Free,Walk
ATTACH;FMTTYPE=image/jpeg:https://buggybuddys.com.au/wp-content/uploads/2026/04/Tiny-Doors-of-York-2026.jpg
ORGANIZER;CN="Shire of York":MAILTO:info@york.wa.gov.au
END:VEVENT
BEGIN:VEVENT
DTSTART;VALUE=DATE:20260627
DTEND;VALUE=DATE:20260628
DTSTAMP:20260422T150330
CREATED:20260418T130033Z
LAST-MODIFIED:20260418T130033Z
UID:10077408-1782518400-1782604799@buggybuddys.com.au
SUMMARY:Tiny Doors of York 2026
DESCRIPTION:Maps available from the York Visitor Centre\, or download. \nLocation: Various locations around York \nDownload Tiny Doors Trail Map Here
URL:https://buggybuddys.com.au/perth-event/tiny-doors-of-york-2026/2026-06-27/
CATEGORIES:Family Event,Free,Walk
ATTACH;FMTTYPE=image/jpeg:https://buggybuddys.com.au/wp-content/uploads/2026/04/Tiny-Doors-of-York-2026.jpg
ORGANIZER;CN="Shire of York":MAILTO:info@york.wa.gov.au
END:VEVENT
BEGIN:VEVENT
DTSTART;VALUE=DATE:20260628
DTEND;VALUE=DATE:20260629
DTSTAMP:20260422T150330
CREATED:20260418T130033Z
LAST-MODIFIED:20260418T130033Z
UID:10077409-1782604800-1782691199@buggybuddys.com.au
SUMMARY:Tiny Doors of York 2026
DESCRIPTION:Maps available from the York Visitor Centre\, or download. \nLocation: Various locations around York \nDownload Tiny Doors Trail Map Here
URL:https://buggybuddys.com.au/perth-event/tiny-doors-of-york-2026/2026-06-28/
CATEGORIES:Family Event,Free,Walk
ATTACH;FMTTYPE=image/jpeg:https://buggybuddys.com.au/wp-content/uploads/2026/04/Tiny-Doors-of-York-2026.jpg
ORGANIZER;CN="Shire of York":MAILTO:info@york.wa.gov.au
END:VEVENT
BEGIN:VEVENT
DTSTART;VALUE=DATE:20260629
DTEND;VALUE=DATE:20260630
DTSTAMP:20260422T150330
CREATED:20260418T130033Z
LAST-MODIFIED:20260418T130033Z
UID:10077410-1782691200-1782777599@buggybuddys.com.au
SUMMARY:Tiny Doors of York 2026
DESCRIPTION:Maps available from the York Visitor Centre\, or download. \nLocation: Various locations around York \nDownload Tiny Doors Trail Map Here
URL:https://buggybuddys.com.au/perth-event/tiny-doors-of-york-2026/2026-06-29/
CATEGORIES:Family Event,Free,Walk
ATTACH;FMTTYPE=image/jpeg:https://buggybuddys.com.au/wp-content/uploads/2026/04/Tiny-Doors-of-York-2026.jpg
ORGANIZER;CN="Shire of York":MAILTO:info@york.wa.gov.au
END:VEVENT
BEGIN:VEVENT
DTSTART;VALUE=DATE:20260630
DTEND;VALUE=DATE:20260701
DTSTAMP:20260422T150330
CREATED:20260418T130033Z
LAST-MODIFIED:20260418T130033Z
UID:10077411-1782777600-1782863999@buggybuddys.com.au
SUMMARY:Tiny Doors of York 2026
DESCRIPTION:Maps available from the York Visitor Centre\, or download. \nLocation: Various locations around York \nDownload Tiny Doors Trail Map Here
URL:https://buggybuddys.com.au/perth-event/tiny-doors-of-york-2026/2026-06-30/
CATEGORIES:Family Event,Free,Walk
ATTACH;FMTTYPE=image/jpeg:https://buggybuddys.com.au/wp-content/uploads/2026/04/Tiny-Doors-of-York-2026.jpg
ORGANIZER;CN="Shire of York":MAILTO:info@york.wa.gov.au
END:VEVENT
BEGIN:VEVENT
DTSTART;VALUE=DATE:20260701
DTEND;VALUE=DATE:20260702
DTSTAMP:20260422T150330
CREATED:20260418T130033Z
LAST-MODIFIED:20260418T130033Z
UID:10077412-1782864000-1782950399@buggybuddys.com.au
SUMMARY:Tiny Doors of York 2026
DESCRIPTION:Maps available from the York Visitor Centre\, or download. \nLocation: Various locations around York \nDownload Tiny Doors Trail Map Here
URL:https://buggybuddys.com.au/perth-event/tiny-doors-of-york-2026/2026-07-01/
CATEGORIES:Family Event,Free,Walk
ATTACH;FMTTYPE=image/jpeg:https://buggybuddys.com.au/wp-content/uploads/2026/04/Tiny-Doors-of-York-2026.jpg
ORGANIZER;CN="Shire of York":MAILTO:info@york.wa.gov.au
END:VEVENT
BEGIN:VEVENT
DTSTART;VALUE=DATE:20260702
DTEND;VALUE=DATE:20260703
DTSTAMP:20260422T150330
CREATED:20260418T130033Z
LAST-MODIFIED:20260418T130033Z
UID:10077413-1782950400-1783036799@buggybuddys.com.au
SUMMARY:Tiny Doors of York 2026
DESCRIPTION:Maps available from the York Visitor Centre\, or download. \nLocation: Various locations around York \nDownload Tiny Doors Trail Map Here
URL:https://buggybuddys.com.au/perth-event/tiny-doors-of-york-2026/2026-07-02/
CATEGORIES:Family Event,Free,Walk
ATTACH;FMTTYPE=image/jpeg:https://buggybuddys.com.au/wp-content/uploads/2026/04/Tiny-Doors-of-York-2026.jpg
ORGANIZER;CN="Shire of York":MAILTO:info@york.wa.gov.au
END:VEVENT
BEGIN:VEVENT
DTSTART;VALUE=DATE:20260703
DTEND;VALUE=DATE:20260704
DTSTAMP:20260422T150330
CREATED:20260418T130033Z
LAST-MODIFIED:20260418T130033Z
UID:10077414-1783036800-1783123199@buggybuddys.com.au
SUMMARY:Tiny Doors of York 2026
DESCRIPTION:Maps available from the York Visitor Centre\, or download. \nLocation: Various locations around York \nDownload Tiny Doors Trail Map Here
URL:https://buggybuddys.com.au/perth-event/tiny-doors-of-york-2026/2026-07-03/
CATEGORIES:Family Event,Free,Walk
ATTACH;FMTTYPE=image/jpeg:https://buggybuddys.com.au/wp-content/uploads/2026/04/Tiny-Doors-of-York-2026.jpg
ORGANIZER;CN="Shire of York":MAILTO:info@york.wa.gov.au
END:VEVENT
BEGIN:VEVENT
DTSTART;VALUE=DATE:20260704
DTEND;VALUE=DATE:20260705
DTSTAMP:20260422T150330
CREATED:20260418T130033Z
LAST-MODIFIED:20260418T130033Z
UID:10077415-1783123200-1783209599@buggybuddys.com.au
SUMMARY:Tiny Doors of York 2026
DESCRIPTION:Maps available from the York Visitor Centre\, or download. \nLocation: Various locations around York \nDownload Tiny Doors Trail Map Here
URL:https://buggybuddys.com.au/perth-event/tiny-doors-of-york-2026/2026-07-04/
CATEGORIES:Family Event,Free,Walk
ATTACH;FMTTYPE=image/jpeg:https://buggybuddys.com.au/wp-content/uploads/2026/04/Tiny-Doors-of-York-2026.jpg
ORGANIZER;CN="Shire of York":MAILTO:info@york.wa.gov.au
END:VEVENT
BEGIN:VEVENT
DTSTART;VALUE=DATE:20260705
DTEND;VALUE=DATE:20260706
DTSTAMP:20260422T150330
CREATED:20260418T130033Z
LAST-MODIFIED:20260418T130033Z
UID:10077416-1783209600-1783295999@buggybuddys.com.au
SUMMARY:Tiny Doors of York 2026
DESCRIPTION:Maps available from the York Visitor Centre\, or download. \nLocation: Various locations around York \nDownload Tiny Doors Trail Map Here
URL:https://buggybuddys.com.au/perth-event/tiny-doors-of-york-2026/2026-07-05/
CATEGORIES:Family Event,Free,Walk
ATTACH;FMTTYPE=image/jpeg:https://buggybuddys.com.au/wp-content/uploads/2026/04/Tiny-Doors-of-York-2026.jpg
ORGANIZER;CN="Shire of York":MAILTO:info@york.wa.gov.au
END:VEVENT
BEGIN:VEVENT
DTSTART;VALUE=DATE:20260706
DTEND;VALUE=DATE:20260707
DTSTAMP:20260422T150330
CREATED:20260418T130033Z
LAST-MODIFIED:20260418T130033Z
UID:10077417-1783296000-1783382399@buggybuddys.com.au
SUMMARY:Tiny Doors of York 2026
DESCRIPTION:Maps available from the York Visitor Centre\, or download. \nLocation: Various locations around York \nDownload Tiny Doors Trail Map Here
URL:https://buggybuddys.com.au/perth-event/tiny-doors-of-york-2026/2026-07-06/
CATEGORIES:Family Event,Free,Walk
ATTACH;FMTTYPE=image/jpeg:https://buggybuddys.com.au/wp-content/uploads/2026/04/Tiny-Doors-of-York-2026.jpg
ORGANIZER;CN="Shire of York":MAILTO:info@york.wa.gov.au
END:VEVENT
BEGIN:VEVENT
DTSTART;VALUE=DATE:20260707
DTEND;VALUE=DATE:20260708
DTSTAMP:20260422T150330
CREATED:20260418T130033Z
LAST-MODIFIED:20260418T130033Z
UID:10077418-1783382400-1783468799@buggybuddys.com.au
SUMMARY:Tiny Doors of York 2026
DESCRIPTION:Maps available from the York Visitor Centre\, or download. \nLocation: Various locations around York \nDownload Tiny Doors Trail Map Here
URL:https://buggybuddys.com.au/perth-event/tiny-doors-of-york-2026/2026-07-07/
CATEGORIES:Family Event,Free,Walk
ATTACH;FMTTYPE=image/jpeg:https://buggybuddys.com.au/wp-content/uploads/2026/04/Tiny-Doors-of-York-2026.jpg
ORGANIZER;CN="Shire of York":MAILTO:info@york.wa.gov.au
END:VEVENT
BEGIN:VEVENT
DTSTART;VALUE=DATE:20260708
DTEND;VALUE=DATE:20260709
DTSTAMP:20260422T150330
CREATED:20260418T130033Z
LAST-MODIFIED:20260418T130033Z
UID:10077419-1783468800-1783555199@buggybuddys.com.au
SUMMARY:Tiny Doors of York 2026
DESCRIPTION:Maps available from the York Visitor Centre\, or download. \nLocation: Various locations around York \nDownload Tiny Doors Trail Map Here
URL:https://buggybuddys.com.au/perth-event/tiny-doors-of-york-2026/2026-07-08/
CATEGORIES:Family Event,Free,Walk
ATTACH;FMTTYPE=image/jpeg:https://buggybuddys.com.au/wp-content/uploads/2026/04/Tiny-Doors-of-York-2026.jpg
ORGANIZER;CN="Shire of York":MAILTO:info@york.wa.gov.au
END:VEVENT
BEGIN:VEVENT
DTSTART;VALUE=DATE:20260709
DTEND;VALUE=DATE:20260710
DTSTAMP:20260422T150330
CREATED:20260418T130033Z
LAST-MODIFIED:20260418T130033Z
UID:10077420-1783555200-1783641599@buggybuddys.com.au
SUMMARY:Tiny Doors of York 2026
DESCRIPTION:Maps available from the York Visitor Centre\, or download. \nLocation: Various locations around York \nDownload Tiny Doors Trail Map Here
URL:https://buggybuddys.com.au/perth-event/tiny-doors-of-york-2026/2026-07-09/
CATEGORIES:Family Event,Free,Walk
ATTACH;FMTTYPE=image/jpeg:https://buggybuddys.com.au/wp-content/uploads/2026/04/Tiny-Doors-of-York-2026.jpg
ORGANIZER;CN="Shire of York":MAILTO:info@york.wa.gov.au
END:VEVENT
BEGIN:VEVENT
DTSTART;VALUE=DATE:20260710
DTEND;VALUE=DATE:20260711
DTSTAMP:20260422T150330
CREATED:20260418T130033Z
LAST-MODIFIED:20260418T130033Z
UID:10077421-1783641600-1783727999@buggybuddys.com.au
SUMMARY:Tiny Doors of York 2026
DESCRIPTION:Maps available from the York Visitor Centre\, or download. \nLocation: Various locations around York \nDownload Tiny Doors Trail Map Here
URL:https://buggybuddys.com.au/perth-event/tiny-doors-of-york-2026/2026-07-10/
CATEGORIES:Family Event,Free,Walk
ATTACH;FMTTYPE=image/jpeg:https://buggybuddys.com.au/wp-content/uploads/2026/04/Tiny-Doors-of-York-2026.jpg
ORGANIZER;CN="Shire of York":MAILTO:info@york.wa.gov.au
END:VEVENT
BEGIN:VEVENT
DTSTART;VALUE=DATE:20260711
DTEND;VALUE=DATE:20260712
DTSTAMP:20260422T150330
CREATED:20260418T130033Z
LAST-MODIFIED:20260418T130033Z
UID:10077422-1783728000-1783814399@buggybuddys.com.au
SUMMARY:Tiny Doors of York 2026
DESCRIPTION:Maps available from the York Visitor Centre\, or download. \nLocation: Various locations around York \nDownload Tiny Doors Trail Map Here
URL:https://buggybuddys.com.au/perth-event/tiny-doors-of-york-2026/2026-07-11/
CATEGORIES:Family Event,Free,Walk
ATTACH;FMTTYPE=image/jpeg:https://buggybuddys.com.au/wp-content/uploads/2026/04/Tiny-Doors-of-York-2026.jpg
ORGANIZER;CN="Shire of York":MAILTO:info@york.wa.gov.au
END:VEVENT
BEGIN:VEVENT
DTSTART;VALUE=DATE:20260712
DTEND;VALUE=DATE:20260713
DTSTAMP:20260422T150330
CREATED:20260418T130033Z
LAST-MODIFIED:20260418T130033Z
UID:10077423-1783814400-1783900799@buggybuddys.com.au
SUMMARY:Tiny Doors of York 2026
DESCRIPTION:Maps available from the York Visitor Centre\, or download. \nLocation: Various locations around York \nDownload Tiny Doors Trail Map Here
URL:https://buggybuddys.com.au/perth-event/tiny-doors-of-york-2026/2026-07-12/
CATEGORIES:Family Event,Free,Walk
ATTACH;FMTTYPE=image/jpeg:https://buggybuddys.com.au/wp-content/uploads/2026/04/Tiny-Doors-of-York-2026.jpg
ORGANIZER;CN="Shire of York":MAILTO:info@york.wa.gov.au
END:VEVENT
BEGIN:VEVENT
DTSTART;VALUE=DATE:20260713
DTEND;VALUE=DATE:20260714
DTSTAMP:20260422T150330
CREATED:20260418T130033Z
LAST-MODIFIED:20260418T130033Z
UID:10077424-1783900800-1783987199@buggybuddys.com.au
SUMMARY:Tiny Doors of York 2026
DESCRIPTION:Maps available from the York Visitor Centre\, or download. \nLocation: Various locations around York \nDownload Tiny Doors Trail Map Here
URL:https://buggybuddys.com.au/perth-event/tiny-doors-of-york-2026/2026-07-13/
CATEGORIES:Family Event,Free,Walk
ATTACH;FMTTYPE=image/jpeg:https://buggybuddys.com.au/wp-content/uploads/2026/04/Tiny-Doors-of-York-2026.jpg
ORGANIZER;CN="Shire of York":MAILTO:info@york.wa.gov.au
END:VEVENT
BEGIN:VEVENT
DTSTART;VALUE=DATE:20260714
DTEND;VALUE=DATE:20260715
DTSTAMP:20260422T150330
CREATED:20260418T130033Z
LAST-MODIFIED:20260418T130033Z
UID:10077425-1783987200-1784073599@buggybuddys.com.au
SUMMARY:Tiny Doors of York 2026
DESCRIPTION:Maps available from the York Visitor Centre\, or download. \nLocation: Various locations around York \nDownload Tiny Doors Trail Map Here
URL:https://buggybuddys.com.au/perth-event/tiny-doors-of-york-2026/2026-07-14/
CATEGORIES:Family Event,Free,Walk
ATTACH;FMTTYPE=image/jpeg:https://buggybuddys.com.au/wp-content/uploads/2026/04/Tiny-Doors-of-York-2026.jpg
ORGANIZER;CN="Shire of York":MAILTO:info@york.wa.gov.au
END:VEVENT
BEGIN:VEVENT
DTSTART;VALUE=DATE:20260715
DTEND;VALUE=DATE:20260716
DTSTAMP:20260422T150330
CREATED:20260418T130033Z
LAST-MODIFIED:20260418T130033Z
UID:10077426-1784073600-1784159999@buggybuddys.com.au
SUMMARY:Tiny Doors of York 2026
DESCRIPTION:Maps available from the York Visitor Centre\, or download. \nLocation: Various locations around York \nDownload Tiny Doors Trail Map Here
URL:https://buggybuddys.com.au/perth-event/tiny-doors-of-york-2026/2026-07-15/
CATEGORIES:Family Event,Free,Walk
ATTACH;FMTTYPE=image/jpeg:https://buggybuddys.com.au/wp-content/uploads/2026/04/Tiny-Doors-of-York-2026.jpg
ORGANIZER;CN="Shire of York":MAILTO:info@york.wa.gov.au
END:VEVENT
BEGIN:VEVENT
DTSTART;VALUE=DATE:20260716
DTEND;VALUE=DATE:20260717
DTSTAMP:20260422T150330
CREATED:20260418T130033Z
LAST-MODIFIED:20260418T130033Z
UID:10077427-1784160000-1784246399@buggybuddys.com.au
SUMMARY:Tiny Doors of York 2026
DESCRIPTION:Maps available from the York Visitor Centre\, or download. \nLocation: Various locations around York \nDownload Tiny Doors Trail Map Here
URL:https://buggybuddys.com.au/perth-event/tiny-doors-of-york-2026/2026-07-16/
CATEGORIES:Family Event,Free,Walk
ATTACH;FMTTYPE=image/jpeg:https://buggybuddys.com.au/wp-content/uploads/2026/04/Tiny-Doors-of-York-2026.jpg
ORGANIZER;CN="Shire of York":MAILTO:info@york.wa.gov.au
END:VEVENT
BEGIN:VEVENT
DTSTART;VALUE=DATE:20260717
DTEND;VALUE=DATE:20260718
DTSTAMP:20260422T150330
CREATED:20260418T130033Z
LAST-MODIFIED:20260418T130033Z
UID:10077428-1784246400-1784332799@buggybuddys.com.au
SUMMARY:Tiny Doors of York 2026
DESCRIPTION:Maps available from the York Visitor Centre\, or download. \nLocation: Various locations around York \nDownload Tiny Doors Trail Map Here
URL:https://buggybuddys.com.au/perth-event/tiny-doors-of-york-2026/2026-07-17/
CATEGORIES:Family Event,Free,Walk
ATTACH;FMTTYPE=image/jpeg:https://buggybuddys.com.au/wp-content/uploads/2026/04/Tiny-Doors-of-York-2026.jpg
ORGANIZER;CN="Shire of York":MAILTO:info@york.wa.gov.au
END:VEVENT
BEGIN:VEVENT
DTSTART;VALUE=DATE:20260718
DTEND;VALUE=DATE:20260719
DTSTAMP:20260422T150330
CREATED:20260418T130033Z
LAST-MODIFIED:20260418T130033Z
UID:10077429-1784332800-1784419199@buggybuddys.com.au
SUMMARY:Tiny Doors of York 2026
DESCRIPTION:Maps available from the York Visitor Centre\, or download. \nLocation: Various locations around York \nDownload Tiny Doors Trail Map Here
URL:https://buggybuddys.com.au/perth-event/tiny-doors-of-york-2026/2026-07-18/
CATEGORIES:Family Event,Free,Walk
ATTACH;FMTTYPE=image/jpeg:https://buggybuddys.com.au/wp-content/uploads/2026/04/Tiny-Doors-of-York-2026.jpg
ORGANIZER;CN="Shire of York":MAILTO:info@york.wa.gov.au
END:VEVENT
BEGIN:VEVENT
DTSTART;VALUE=DATE:20260719
DTEND;VALUE=DATE:20260720
DTSTAMP:20260422T150330
CREATED:20260418T130033Z
LAST-MODIFIED:20260418T130033Z
UID:10077430-1784419200-1784505599@buggybuddys.com.au
SUMMARY:Tiny Doors of York 2026
DESCRIPTION:Maps available from the York Visitor Centre\, or download. \nLocation: Various locations around York \nDownload Tiny Doors Trail Map Here
URL:https://buggybuddys.com.au/perth-event/tiny-doors-of-york-2026/2026-07-19/
CATEGORIES:Family Event,Free,Walk
ATTACH;FMTTYPE=image/jpeg:https://buggybuddys.com.au/wp-content/uploads/2026/04/Tiny-Doors-of-York-2026.jpg
ORGANIZER;CN="Shire of York":MAILTO:info@york.wa.gov.au
END:VEVENT
BEGIN:VEVENT
DTSTART;VALUE=DATE:20260720
DTEND;VALUE=DATE:20260721
DTSTAMP:20260422T150330
CREATED:20260418T130033Z
LAST-MODIFIED:20260418T130033Z
UID:10077431-1784505600-1784591999@buggybuddys.com.au
SUMMARY:Tiny Doors of York 2026
DESCRIPTION:Maps available from the York Visitor Centre\, or download. \nLocation: Various locations around York \nDownload Tiny Doors Trail Map Here
URL:https://buggybuddys.com.au/perth-event/tiny-doors-of-york-2026/2026-07-20/
CATEGORIES:Family Event,Free,Walk
ATTACH;FMTTYPE=image/jpeg:https://buggybuddys.com.au/wp-content/uploads/2026/04/Tiny-Doors-of-York-2026.jpg
ORGANIZER;CN="Shire of York":MAILTO:info@york.wa.gov.au
END:VEVENT
END:VCALENDAR