BEGIN:VCALENDAR
VERSION:2.0
PRODID:-//Buggybuddys guide for families in Perth - ECPv6.15.11//NONSGML v1.0//EN
CALSCALE:GREGORIAN
METHOD:PUBLISH
X-WR-CALNAME:Buggybuddys guide for families in Perth
X-ORIGINAL-URL:https://buggybuddys.com.au
X-WR-CALDESC:Events for Buggybuddys guide for families in Perth
REFRESH-INTERVAL;VALUE=DURATION:PT1H
X-Robots-Tag:noindex
X-PUBLISHED-TTL:PT1H
BEGIN:VTIMEZONE
TZID:Australia/Perth
BEGIN:STANDARD
TZOFFSETFROM:+0800
TZOFFSETTO:+0800
TZNAME:AWST
DTSTART:20250101T000000
END:STANDARD
END:VTIMEZONE
BEGIN:VEVENT
DTSTART;VALUE=DATE:20260531
DTEND;VALUE=DATE:20260601
DTSTAMP:20260421T001808
CREATED:20260418T130033Z
LAST-MODIFIED:20260418T130033Z
UID:10077381-1780185600-1780271999@buggybuddys.com.au
SUMMARY:Tiny Doors of York 2026
DESCRIPTION:Maps available from the York Visitor Centre\, or download. \nLocation: Various locations around York \nDownload Tiny Doors Trail Map Here
URL:https://buggybuddys.com.au/perth-event/tiny-doors-of-york-2026/2026-05-31/
CATEGORIES:Family Event,Free,Walk
ATTACH;FMTTYPE=image/jpeg:https://buggybuddys.com.au/wp-content/uploads/2026/04/Tiny-Doors-of-York-2026.jpg
ORGANIZER;CN="Shire of York":MAILTO:info@york.wa.gov.au
END:VEVENT
BEGIN:VEVENT
DTSTART;VALUE=DATE:20260601
DTEND;VALUE=DATE:20260602
DTSTAMP:20260421T001808
CREATED:20260418T130033Z
LAST-MODIFIED:20260418T130033Z
UID:10077382-1780272000-1780358399@buggybuddys.com.au
SUMMARY:Tiny Doors of York 2026
DESCRIPTION:Maps available from the York Visitor Centre\, or download. \nLocation: Various locations around York \nDownload Tiny Doors Trail Map Here
URL:https://buggybuddys.com.au/perth-event/tiny-doors-of-york-2026/2026-06-01/
CATEGORIES:Family Event,Free,Walk
ATTACH;FMTTYPE=image/jpeg:https://buggybuddys.com.au/wp-content/uploads/2026/04/Tiny-Doors-of-York-2026.jpg
ORGANIZER;CN="Shire of York":MAILTO:info@york.wa.gov.au
END:VEVENT
BEGIN:VEVENT
DTSTART;VALUE=DATE:20260602
DTEND;VALUE=DATE:20260603
DTSTAMP:20260421T001808
CREATED:20260418T130033Z
LAST-MODIFIED:20260418T130033Z
UID:10077383-1780358400-1780444799@buggybuddys.com.au
SUMMARY:Tiny Doors of York 2026
DESCRIPTION:Maps available from the York Visitor Centre\, or download. \nLocation: Various locations around York \nDownload Tiny Doors Trail Map Here
URL:https://buggybuddys.com.au/perth-event/tiny-doors-of-york-2026/2026-06-02/
CATEGORIES:Family Event,Free,Walk
ATTACH;FMTTYPE=image/jpeg:https://buggybuddys.com.au/wp-content/uploads/2026/04/Tiny-Doors-of-York-2026.jpg
ORGANIZER;CN="Shire of York":MAILTO:info@york.wa.gov.au
END:VEVENT
BEGIN:VEVENT
DTSTART;VALUE=DATE:20260603
DTEND;VALUE=DATE:20260604
DTSTAMP:20260421T001808
CREATED:20260418T130033Z
LAST-MODIFIED:20260418T130033Z
UID:10077384-1780444800-1780531199@buggybuddys.com.au
SUMMARY:Tiny Doors of York 2026
DESCRIPTION:Maps available from the York Visitor Centre\, or download. \nLocation: Various locations around York \nDownload Tiny Doors Trail Map Here
URL:https://buggybuddys.com.au/perth-event/tiny-doors-of-york-2026/2026-06-03/
CATEGORIES:Family Event,Free,Walk
ATTACH;FMTTYPE=image/jpeg:https://buggybuddys.com.au/wp-content/uploads/2026/04/Tiny-Doors-of-York-2026.jpg
ORGANIZER;CN="Shire of York":MAILTO:info@york.wa.gov.au
END:VEVENT
BEGIN:VEVENT
DTSTART;VALUE=DATE:20260604
DTEND;VALUE=DATE:20260605
DTSTAMP:20260421T001808
CREATED:20260418T130033Z
LAST-MODIFIED:20260418T130033Z
UID:10077385-1780531200-1780617599@buggybuddys.com.au
SUMMARY:Tiny Doors of York 2026
DESCRIPTION:Maps available from the York Visitor Centre\, or download. \nLocation: Various locations around York \nDownload Tiny Doors Trail Map Here
URL:https://buggybuddys.com.au/perth-event/tiny-doors-of-york-2026/2026-06-04/
CATEGORIES:Family Event,Free,Walk
ATTACH;FMTTYPE=image/jpeg:https://buggybuddys.com.au/wp-content/uploads/2026/04/Tiny-Doors-of-York-2026.jpg
ORGANIZER;CN="Shire of York":MAILTO:info@york.wa.gov.au
END:VEVENT
BEGIN:VEVENT
DTSTART;VALUE=DATE:20260605
DTEND;VALUE=DATE:20260606
DTSTAMP:20260421T001808
CREATED:20260418T130033Z
LAST-MODIFIED:20260418T130033Z
UID:10077386-1780617600-1780703999@buggybuddys.com.au
SUMMARY:Tiny Doors of York 2026
DESCRIPTION:Maps available from the York Visitor Centre\, or download. \nLocation: Various locations around York \nDownload Tiny Doors Trail Map Here
URL:https://buggybuddys.com.au/perth-event/tiny-doors-of-york-2026/2026-06-05/
CATEGORIES:Family Event,Free,Walk
ATTACH;FMTTYPE=image/jpeg:https://buggybuddys.com.au/wp-content/uploads/2026/04/Tiny-Doors-of-York-2026.jpg
ORGANIZER;CN="Shire of York":MAILTO:info@york.wa.gov.au
END:VEVENT
BEGIN:VEVENT
DTSTART;VALUE=DATE:20260606
DTEND;VALUE=DATE:20260607
DTSTAMP:20260421T001808
CREATED:20260418T130033Z
LAST-MODIFIED:20260418T130033Z
UID:10077387-1780704000-1780790399@buggybuddys.com.au
SUMMARY:Tiny Doors of York 2026
DESCRIPTION:Maps available from the York Visitor Centre\, or download. \nLocation: Various locations around York \nDownload Tiny Doors Trail Map Here
URL:https://buggybuddys.com.au/perth-event/tiny-doors-of-york-2026/2026-06-06/
CATEGORIES:Family Event,Free,Walk
ATTACH;FMTTYPE=image/jpeg:https://buggybuddys.com.au/wp-content/uploads/2026/04/Tiny-Doors-of-York-2026.jpg
ORGANIZER;CN="Shire of York":MAILTO:info@york.wa.gov.au
END:VEVENT
BEGIN:VEVENT
DTSTART;VALUE=DATE:20260607
DTEND;VALUE=DATE:20260608
DTSTAMP:20260421T001808
CREATED:20260418T130033Z
LAST-MODIFIED:20260418T130033Z
UID:10077388-1780790400-1780876799@buggybuddys.com.au
SUMMARY:Tiny Doors of York 2026
DESCRIPTION:Maps available from the York Visitor Centre\, or download. \nLocation: Various locations around York \nDownload Tiny Doors Trail Map Here
URL:https://buggybuddys.com.au/perth-event/tiny-doors-of-york-2026/2026-06-07/
CATEGORIES:Family Event,Free,Walk
ATTACH;FMTTYPE=image/jpeg:https://buggybuddys.com.au/wp-content/uploads/2026/04/Tiny-Doors-of-York-2026.jpg
ORGANIZER;CN="Shire of York":MAILTO:info@york.wa.gov.au
END:VEVENT
BEGIN:VEVENT
DTSTART;VALUE=DATE:20260608
DTEND;VALUE=DATE:20260609
DTSTAMP:20260421T001808
CREATED:20260418T130033Z
LAST-MODIFIED:20260418T130033Z
UID:10077389-1780876800-1780963199@buggybuddys.com.au
SUMMARY:Tiny Doors of York 2026
DESCRIPTION:Maps available from the York Visitor Centre\, or download. \nLocation: Various locations around York \nDownload Tiny Doors Trail Map Here
URL:https://buggybuddys.com.au/perth-event/tiny-doors-of-york-2026/2026-06-08/
CATEGORIES:Family Event,Free,Walk
ATTACH;FMTTYPE=image/jpeg:https://buggybuddys.com.au/wp-content/uploads/2026/04/Tiny-Doors-of-York-2026.jpg
ORGANIZER;CN="Shire of York":MAILTO:info@york.wa.gov.au
END:VEVENT
BEGIN:VEVENT
DTSTART;VALUE=DATE:20260609
DTEND;VALUE=DATE:20260610
DTSTAMP:20260421T001808
CREATED:20260418T130033Z
LAST-MODIFIED:20260418T130033Z
UID:10077390-1780963200-1781049599@buggybuddys.com.au
SUMMARY:Tiny Doors of York 2026
DESCRIPTION:Maps available from the York Visitor Centre\, or download. \nLocation: Various locations around York \nDownload Tiny Doors Trail Map Here
URL:https://buggybuddys.com.au/perth-event/tiny-doors-of-york-2026/2026-06-09/
CATEGORIES:Family Event,Free,Walk
ATTACH;FMTTYPE=image/jpeg:https://buggybuddys.com.au/wp-content/uploads/2026/04/Tiny-Doors-of-York-2026.jpg
ORGANIZER;CN="Shire of York":MAILTO:info@york.wa.gov.au
END:VEVENT
BEGIN:VEVENT
DTSTART;VALUE=DATE:20260610
DTEND;VALUE=DATE:20260611
DTSTAMP:20260421T001808
CREATED:20260418T130033Z
LAST-MODIFIED:20260418T130033Z
UID:10077391-1781049600-1781135999@buggybuddys.com.au
SUMMARY:Tiny Doors of York 2026
DESCRIPTION:Maps available from the York Visitor Centre\, or download. \nLocation: Various locations around York \nDownload Tiny Doors Trail Map Here
URL:https://buggybuddys.com.au/perth-event/tiny-doors-of-york-2026/2026-06-10/
CATEGORIES:Family Event,Free,Walk
ATTACH;FMTTYPE=image/jpeg:https://buggybuddys.com.au/wp-content/uploads/2026/04/Tiny-Doors-of-York-2026.jpg
ORGANIZER;CN="Shire of York":MAILTO:info@york.wa.gov.au
END:VEVENT
BEGIN:VEVENT
DTSTART;VALUE=DATE:20260611
DTEND;VALUE=DATE:20260612
DTSTAMP:20260421T001808
CREATED:20260418T130033Z
LAST-MODIFIED:20260418T130033Z
UID:10077392-1781136000-1781222399@buggybuddys.com.au
SUMMARY:Tiny Doors of York 2026
DESCRIPTION:Maps available from the York Visitor Centre\, or download. \nLocation: Various locations around York \nDownload Tiny Doors Trail Map Here
URL:https://buggybuddys.com.au/perth-event/tiny-doors-of-york-2026/2026-06-11/
CATEGORIES:Family Event,Free,Walk
ATTACH;FMTTYPE=image/jpeg:https://buggybuddys.com.au/wp-content/uploads/2026/04/Tiny-Doors-of-York-2026.jpg
ORGANIZER;CN="Shire of York":MAILTO:info@york.wa.gov.au
END:VEVENT
BEGIN:VEVENT
DTSTART;VALUE=DATE:20260612
DTEND;VALUE=DATE:20260613
DTSTAMP:20260421T001808
CREATED:20260418T130033Z
LAST-MODIFIED:20260418T130033Z
UID:10077393-1781222400-1781308799@buggybuddys.com.au
SUMMARY:Tiny Doors of York 2026
DESCRIPTION:Maps available from the York Visitor Centre\, or download. \nLocation: Various locations around York \nDownload Tiny Doors Trail Map Here
URL:https://buggybuddys.com.au/perth-event/tiny-doors-of-york-2026/2026-06-12/
CATEGORIES:Family Event,Free,Walk
ATTACH;FMTTYPE=image/jpeg:https://buggybuddys.com.au/wp-content/uploads/2026/04/Tiny-Doors-of-York-2026.jpg
ORGANIZER;CN="Shire of York":MAILTO:info@york.wa.gov.au
END:VEVENT
BEGIN:VEVENT
DTSTART;VALUE=DATE:20260613
DTEND;VALUE=DATE:20260614
DTSTAMP:20260421T001808
CREATED:20260418T130033Z
LAST-MODIFIED:20260418T130033Z
UID:10077394-1781308800-1781395199@buggybuddys.com.au
SUMMARY:Tiny Doors of York 2026
DESCRIPTION:Maps available from the York Visitor Centre\, or download. \nLocation: Various locations around York \nDownload Tiny Doors Trail Map Here
URL:https://buggybuddys.com.au/perth-event/tiny-doors-of-york-2026/2026-06-13/
CATEGORIES:Family Event,Free,Walk
ATTACH;FMTTYPE=image/jpeg:https://buggybuddys.com.au/wp-content/uploads/2026/04/Tiny-Doors-of-York-2026.jpg
ORGANIZER;CN="Shire of York":MAILTO:info@york.wa.gov.au
END:VEVENT
BEGIN:VEVENT
DTSTART;VALUE=DATE:20260614
DTEND;VALUE=DATE:20260615
DTSTAMP:20260421T001808
CREATED:20260418T130033Z
LAST-MODIFIED:20260418T130033Z
UID:10077395-1781395200-1781481599@buggybuddys.com.au
SUMMARY:Tiny Doors of York 2026
DESCRIPTION:Maps available from the York Visitor Centre\, or download. \nLocation: Various locations around York \nDownload Tiny Doors Trail Map Here
URL:https://buggybuddys.com.au/perth-event/tiny-doors-of-york-2026/2026-06-14/
CATEGORIES:Family Event,Free,Walk
ATTACH;FMTTYPE=image/jpeg:https://buggybuddys.com.au/wp-content/uploads/2026/04/Tiny-Doors-of-York-2026.jpg
ORGANIZER;CN="Shire of York":MAILTO:info@york.wa.gov.au
END:VEVENT
BEGIN:VEVENT
DTSTART;VALUE=DATE:20260615
DTEND;VALUE=DATE:20260616
DTSTAMP:20260421T001808
CREATED:20260418T130033Z
LAST-MODIFIED:20260418T130033Z
UID:10077396-1781481600-1781567999@buggybuddys.com.au
SUMMARY:Tiny Doors of York 2026
DESCRIPTION:Maps available from the York Visitor Centre\, or download. \nLocation: Various locations around York \nDownload Tiny Doors Trail Map Here
URL:https://buggybuddys.com.au/perth-event/tiny-doors-of-york-2026/2026-06-15/
CATEGORIES:Family Event,Free,Walk
ATTACH;FMTTYPE=image/jpeg:https://buggybuddys.com.au/wp-content/uploads/2026/04/Tiny-Doors-of-York-2026.jpg
ORGANIZER;CN="Shire of York":MAILTO:info@york.wa.gov.au
END:VEVENT
BEGIN:VEVENT
DTSTART;VALUE=DATE:20260616
DTEND;VALUE=DATE:20260617
DTSTAMP:20260421T001808
CREATED:20260418T130033Z
LAST-MODIFIED:20260418T130033Z
UID:10077397-1781568000-1781654399@buggybuddys.com.au
SUMMARY:Tiny Doors of York 2026
DESCRIPTION:Maps available from the York Visitor Centre\, or download. \nLocation: Various locations around York \nDownload Tiny Doors Trail Map Here
URL:https://buggybuddys.com.au/perth-event/tiny-doors-of-york-2026/2026-06-16/
CATEGORIES:Family Event,Free,Walk
ATTACH;FMTTYPE=image/jpeg:https://buggybuddys.com.au/wp-content/uploads/2026/04/Tiny-Doors-of-York-2026.jpg
ORGANIZER;CN="Shire of York":MAILTO:info@york.wa.gov.au
END:VEVENT
BEGIN:VEVENT
DTSTART;VALUE=DATE:20260617
DTEND;VALUE=DATE:20260618
DTSTAMP:20260421T001808
CREATED:20260418T130033Z
LAST-MODIFIED:20260418T130033Z
UID:10077398-1781654400-1781740799@buggybuddys.com.au
SUMMARY:Tiny Doors of York 2026
DESCRIPTION:Maps available from the York Visitor Centre\, or download. \nLocation: Various locations around York \nDownload Tiny Doors Trail Map Here
URL:https://buggybuddys.com.au/perth-event/tiny-doors-of-york-2026/2026-06-17/
CATEGORIES:Family Event,Free,Walk
ATTACH;FMTTYPE=image/jpeg:https://buggybuddys.com.au/wp-content/uploads/2026/04/Tiny-Doors-of-York-2026.jpg
ORGANIZER;CN="Shire of York":MAILTO:info@york.wa.gov.au
END:VEVENT
BEGIN:VEVENT
DTSTART;VALUE=DATE:20260618
DTEND;VALUE=DATE:20260619
DTSTAMP:20260421T001808
CREATED:20260418T130033Z
LAST-MODIFIED:20260418T130033Z
UID:10077399-1781740800-1781827199@buggybuddys.com.au
SUMMARY:Tiny Doors of York 2026
DESCRIPTION:Maps available from the York Visitor Centre\, or download. \nLocation: Various locations around York \nDownload Tiny Doors Trail Map Here
URL:https://buggybuddys.com.au/perth-event/tiny-doors-of-york-2026/2026-06-18/
CATEGORIES:Family Event,Free,Walk
ATTACH;FMTTYPE=image/jpeg:https://buggybuddys.com.au/wp-content/uploads/2026/04/Tiny-Doors-of-York-2026.jpg
ORGANIZER;CN="Shire of York":MAILTO:info@york.wa.gov.au
END:VEVENT
BEGIN:VEVENT
DTSTART;VALUE=DATE:20260619
DTEND;VALUE=DATE:20260620
DTSTAMP:20260421T001808
CREATED:20260418T130033Z
LAST-MODIFIED:20260418T130033Z
UID:10077400-1781827200-1781913599@buggybuddys.com.au
SUMMARY:Tiny Doors of York 2026
DESCRIPTION:Maps available from the York Visitor Centre\, or download. \nLocation: Various locations around York \nDownload Tiny Doors Trail Map Here
URL:https://buggybuddys.com.au/perth-event/tiny-doors-of-york-2026/2026-06-19/
CATEGORIES:Family Event,Free,Walk
ATTACH;FMTTYPE=image/jpeg:https://buggybuddys.com.au/wp-content/uploads/2026/04/Tiny-Doors-of-York-2026.jpg
ORGANIZER;CN="Shire of York":MAILTO:info@york.wa.gov.au
END:VEVENT
BEGIN:VEVENT
DTSTART;VALUE=DATE:20260620
DTEND;VALUE=DATE:20260621
DTSTAMP:20260421T001808
CREATED:20260418T130033Z
LAST-MODIFIED:20260418T130033Z
UID:10077401-1781913600-1781999999@buggybuddys.com.au
SUMMARY:Tiny Doors of York 2026
DESCRIPTION:Maps available from the York Visitor Centre\, or download. \nLocation: Various locations around York \nDownload Tiny Doors Trail Map Here
URL:https://buggybuddys.com.au/perth-event/tiny-doors-of-york-2026/2026-06-20/
CATEGORIES:Family Event,Free,Walk
ATTACH;FMTTYPE=image/jpeg:https://buggybuddys.com.au/wp-content/uploads/2026/04/Tiny-Doors-of-York-2026.jpg
ORGANIZER;CN="Shire of York":MAILTO:info@york.wa.gov.au
END:VEVENT
BEGIN:VEVENT
DTSTART;VALUE=DATE:20260621
DTEND;VALUE=DATE:20260622
DTSTAMP:20260421T001808
CREATED:20260418T130033Z
LAST-MODIFIED:20260418T130033Z
UID:10077402-1782000000-1782086399@buggybuddys.com.au
SUMMARY:Tiny Doors of York 2026
DESCRIPTION:Maps available from the York Visitor Centre\, or download. \nLocation: Various locations around York \nDownload Tiny Doors Trail Map Here
URL:https://buggybuddys.com.au/perth-event/tiny-doors-of-york-2026/2026-06-21/
CATEGORIES:Family Event,Free,Walk
ATTACH;FMTTYPE=image/jpeg:https://buggybuddys.com.au/wp-content/uploads/2026/04/Tiny-Doors-of-York-2026.jpg
ORGANIZER;CN="Shire of York":MAILTO:info@york.wa.gov.au
END:VEVENT
BEGIN:VEVENT
DTSTART;VALUE=DATE:20260622
DTEND;VALUE=DATE:20260623
DTSTAMP:20260421T001808
CREATED:20260418T130033Z
LAST-MODIFIED:20260418T130033Z
UID:10077403-1782086400-1782172799@buggybuddys.com.au
SUMMARY:Tiny Doors of York 2026
DESCRIPTION:Maps available from the York Visitor Centre\, or download. \nLocation: Various locations around York \nDownload Tiny Doors Trail Map Here
URL:https://buggybuddys.com.au/perth-event/tiny-doors-of-york-2026/2026-06-22/
CATEGORIES:Family Event,Free,Walk
ATTACH;FMTTYPE=image/jpeg:https://buggybuddys.com.au/wp-content/uploads/2026/04/Tiny-Doors-of-York-2026.jpg
ORGANIZER;CN="Shire of York":MAILTO:info@york.wa.gov.au
END:VEVENT
BEGIN:VEVENT
DTSTART;VALUE=DATE:20260623
DTEND;VALUE=DATE:20260624
DTSTAMP:20260421T001808
CREATED:20260418T130033Z
LAST-MODIFIED:20260418T130033Z
UID:10077404-1782172800-1782259199@buggybuddys.com.au
SUMMARY:Tiny Doors of York 2026
DESCRIPTION:Maps available from the York Visitor Centre\, or download. \nLocation: Various locations around York \nDownload Tiny Doors Trail Map Here
URL:https://buggybuddys.com.au/perth-event/tiny-doors-of-york-2026/2026-06-23/
CATEGORIES:Family Event,Free,Walk
ATTACH;FMTTYPE=image/jpeg:https://buggybuddys.com.au/wp-content/uploads/2026/04/Tiny-Doors-of-York-2026.jpg
ORGANIZER;CN="Shire of York":MAILTO:info@york.wa.gov.au
END:VEVENT
BEGIN:VEVENT
DTSTART;VALUE=DATE:20260624
DTEND;VALUE=DATE:20260625
DTSTAMP:20260421T001808
CREATED:20260418T130033Z
LAST-MODIFIED:20260418T130033Z
UID:10077405-1782259200-1782345599@buggybuddys.com.au
SUMMARY:Tiny Doors of York 2026
DESCRIPTION:Maps available from the York Visitor Centre\, or download. \nLocation: Various locations around York \nDownload Tiny Doors Trail Map Here
URL:https://buggybuddys.com.au/perth-event/tiny-doors-of-york-2026/2026-06-24/
CATEGORIES:Family Event,Free,Walk
ATTACH;FMTTYPE=image/jpeg:https://buggybuddys.com.au/wp-content/uploads/2026/04/Tiny-Doors-of-York-2026.jpg
ORGANIZER;CN="Shire of York":MAILTO:info@york.wa.gov.au
END:VEVENT
BEGIN:VEVENT
DTSTART;VALUE=DATE:20260625
DTEND;VALUE=DATE:20260626
DTSTAMP:20260421T001808
CREATED:20260418T130033Z
LAST-MODIFIED:20260418T130033Z
UID:10077406-1782345600-1782431999@buggybuddys.com.au
SUMMARY:Tiny Doors of York 2026
DESCRIPTION:Maps available from the York Visitor Centre\, or download. \nLocation: Various locations around York \nDownload Tiny Doors Trail Map Here
URL:https://buggybuddys.com.au/perth-event/tiny-doors-of-york-2026/2026-06-25/
CATEGORIES:Family Event,Free,Walk
ATTACH;FMTTYPE=image/jpeg:https://buggybuddys.com.au/wp-content/uploads/2026/04/Tiny-Doors-of-York-2026.jpg
ORGANIZER;CN="Shire of York":MAILTO:info@york.wa.gov.au
END:VEVENT
BEGIN:VEVENT
DTSTART;VALUE=DATE:20260626
DTEND;VALUE=DATE:20260627
DTSTAMP:20260421T001808
CREATED:20260418T130033Z
LAST-MODIFIED:20260418T130033Z
UID:10077407-1782432000-1782518399@buggybuddys.com.au
SUMMARY:Tiny Doors of York 2026
DESCRIPTION:Maps available from the York Visitor Centre\, or download. \nLocation: Various locations around York \nDownload Tiny Doors Trail Map Here
URL:https://buggybuddys.com.au/perth-event/tiny-doors-of-york-2026/2026-06-26/
CATEGORIES:Family Event,Free,Walk
ATTACH;FMTTYPE=image/jpeg:https://buggybuddys.com.au/wp-content/uploads/2026/04/Tiny-Doors-of-York-2026.jpg
ORGANIZER;CN="Shire of York":MAILTO:info@york.wa.gov.au
END:VEVENT
BEGIN:VEVENT
DTSTART;VALUE=DATE:20260627
DTEND;VALUE=DATE:20260628
DTSTAMP:20260421T001808
CREATED:20260418T130033Z
LAST-MODIFIED:20260418T130033Z
UID:10077408-1782518400-1782604799@buggybuddys.com.au
SUMMARY:Tiny Doors of York 2026
DESCRIPTION:Maps available from the York Visitor Centre\, or download. \nLocation: Various locations around York \nDownload Tiny Doors Trail Map Here
URL:https://buggybuddys.com.au/perth-event/tiny-doors-of-york-2026/2026-06-27/
CATEGORIES:Family Event,Free,Walk
ATTACH;FMTTYPE=image/jpeg:https://buggybuddys.com.au/wp-content/uploads/2026/04/Tiny-Doors-of-York-2026.jpg
ORGANIZER;CN="Shire of York":MAILTO:info@york.wa.gov.au
END:VEVENT
BEGIN:VEVENT
DTSTART;VALUE=DATE:20260628
DTEND;VALUE=DATE:20260629
DTSTAMP:20260421T001808
CREATED:20260418T130033Z
LAST-MODIFIED:20260418T130033Z
UID:10077409-1782604800-1782691199@buggybuddys.com.au
SUMMARY:Tiny Doors of York 2026
DESCRIPTION:Maps available from the York Visitor Centre\, or download. \nLocation: Various locations around York \nDownload Tiny Doors Trail Map Here
URL:https://buggybuddys.com.au/perth-event/tiny-doors-of-york-2026/2026-06-28/
CATEGORIES:Family Event,Free,Walk
ATTACH;FMTTYPE=image/jpeg:https://buggybuddys.com.au/wp-content/uploads/2026/04/Tiny-Doors-of-York-2026.jpg
ORGANIZER;CN="Shire of York":MAILTO:info@york.wa.gov.au
END:VEVENT
BEGIN:VEVENT
DTSTART;VALUE=DATE:20260629
DTEND;VALUE=DATE:20260630
DTSTAMP:20260421T001808
CREATED:20260418T130033Z
LAST-MODIFIED:20260418T130033Z
UID:10077410-1782691200-1782777599@buggybuddys.com.au
SUMMARY:Tiny Doors of York 2026
DESCRIPTION:Maps available from the York Visitor Centre\, or download. \nLocation: Various locations around York \nDownload Tiny Doors Trail Map Here
URL:https://buggybuddys.com.au/perth-event/tiny-doors-of-york-2026/2026-06-29/
CATEGORIES:Family Event,Free,Walk
ATTACH;FMTTYPE=image/jpeg:https://buggybuddys.com.au/wp-content/uploads/2026/04/Tiny-Doors-of-York-2026.jpg
ORGANIZER;CN="Shire of York":MAILTO:info@york.wa.gov.au
END:VEVENT
END:VCALENDAR