BEGIN:VCALENDAR
VERSION:2.0
PRODID:-//Buggybuddys guide for families in Perth - ECPv6.15.11//NONSGML v1.0//EN
CALSCALE:GREGORIAN
METHOD:PUBLISH
X-WR-CALNAME:Buggybuddys guide for families in Perth
X-ORIGINAL-URL:https://buggybuddys.com.au
X-WR-CALDESC:Events for Buggybuddys guide for families in Perth
REFRESH-INTERVAL;VALUE=DURATION:PT1H
X-Robots-Tag:noindex
X-PUBLISHED-TTL:PT1H
BEGIN:VTIMEZONE
TZID:Australia/Perth
BEGIN:STANDARD
TZOFFSETFROM:+0800
TZOFFSETTO:+0800
TZNAME:AWST
DTSTART:20250101T000000
END:STANDARD
END:VTIMEZONE
BEGIN:VEVENT
DTSTART;VALUE=DATE:20260420
DTEND;VALUE=DATE:20260421
DTSTAMP:20260421T112803
CREATED:20260418T130033Z
LAST-MODIFIED:20260418T130033Z
UID:10077340-1776643200-1776729599@buggybuddys.com.au
SUMMARY:Tiny Doors of York 2026
DESCRIPTION:Maps available from the York Visitor Centre\, or download. \nLocation: Various locations around York \nDownload Tiny Doors Trail Map Here
URL:https://buggybuddys.com.au/perth-event/tiny-doors-of-york-2026/2026-04-20/
CATEGORIES:Family Event,Free,Walk
ATTACH;FMTTYPE=image/jpeg:https://buggybuddys.com.au/wp-content/uploads/2026/04/Tiny-Doors-of-York-2026.jpg
ORGANIZER;CN="Shire of York":MAILTO:info@york.wa.gov.au
END:VEVENT
BEGIN:VEVENT
DTSTART;VALUE=DATE:20260419
DTEND;VALUE=DATE:20260420
DTSTAMP:20260421T112803
CREATED:20260418T130033Z
LAST-MODIFIED:20260418T130033Z
UID:10077339-1776556800-1776643199@buggybuddys.com.au
SUMMARY:Tiny Doors of York 2026
DESCRIPTION:Maps available from the York Visitor Centre\, or download. \nLocation: Various locations around York \nDownload Tiny Doors Trail Map Here
URL:https://buggybuddys.com.au/perth-event/tiny-doors-of-york-2026/2026-04-19/
CATEGORIES:Family Event,Free,Walk
ATTACH;FMTTYPE=image/jpeg:https://buggybuddys.com.au/wp-content/uploads/2026/04/Tiny-Doors-of-York-2026.jpg
ORGANIZER;CN="Shire of York":MAILTO:info@york.wa.gov.au
END:VEVENT
BEGIN:VEVENT
DTSTART;VALUE=DATE:20260418
DTEND;VALUE=DATE:20260419
DTSTAMP:20260421T112803
CREATED:20260418T130033Z
LAST-MODIFIED:20260418T130033Z
UID:10077338-1776470400-1776556799@buggybuddys.com.au
SUMMARY:Tiny Doors of York 2026
DESCRIPTION:Maps available from the York Visitor Centre\, or download. \nLocation: Various locations around York \nDownload Tiny Doors Trail Map Here
URL:https://buggybuddys.com.au/perth-event/tiny-doors-of-york-2026/2026-04-18/
CATEGORIES:Family Event,Free,Walk
ATTACH;FMTTYPE=image/jpeg:https://buggybuddys.com.au/wp-content/uploads/2026/04/Tiny-Doors-of-York-2026.jpg
ORGANIZER;CN="Shire of York":MAILTO:info@york.wa.gov.au
END:VEVENT
BEGIN:VEVENT
DTSTART;VALUE=DATE:20260417
DTEND;VALUE=DATE:20260418
DTSTAMP:20260421T112803
CREATED:20260418T130033Z
LAST-MODIFIED:20260418T130033Z
UID:10077337-1776384000-1776470399@buggybuddys.com.au
SUMMARY:Tiny Doors of York 2026
DESCRIPTION:Maps available from the York Visitor Centre\, or download. \nLocation: Various locations around York \nDownload Tiny Doors Trail Map Here
URL:https://buggybuddys.com.au/perth-event/tiny-doors-of-york-2026/2026-04-17/
CATEGORIES:Family Event,Free,Walk
ATTACH;FMTTYPE=image/jpeg:https://buggybuddys.com.au/wp-content/uploads/2026/04/Tiny-Doors-of-York-2026.jpg
ORGANIZER;CN="Shire of York":MAILTO:info@york.wa.gov.au
END:VEVENT
BEGIN:VEVENT
DTSTART;VALUE=DATE:20260416
DTEND;VALUE=DATE:20260417
DTSTAMP:20260421T112803
CREATED:20260418T130033Z
LAST-MODIFIED:20260418T130033Z
UID:10077336-1776297600-1776383999@buggybuddys.com.au
SUMMARY:Tiny Doors of York 2026
DESCRIPTION:Maps available from the York Visitor Centre\, or download. \nLocation: Various locations around York \nDownload Tiny Doors Trail Map Here
URL:https://buggybuddys.com.au/perth-event/tiny-doors-of-york-2026/2026-04-16/
CATEGORIES:Family Event,Free,Walk
ATTACH;FMTTYPE=image/jpeg:https://buggybuddys.com.au/wp-content/uploads/2026/04/Tiny-Doors-of-York-2026.jpg
ORGANIZER;CN="Shire of York":MAILTO:info@york.wa.gov.au
END:VEVENT
BEGIN:VEVENT
DTSTART;VALUE=DATE:20260415
DTEND;VALUE=DATE:20260416
DTSTAMP:20260421T112803
CREATED:20260418T130033Z
LAST-MODIFIED:20260418T130033Z
UID:10077335-1776211200-1776297599@buggybuddys.com.au
SUMMARY:Tiny Doors of York 2026
DESCRIPTION:Maps available from the York Visitor Centre\, or download. \nLocation: Various locations around York \nDownload Tiny Doors Trail Map Here
URL:https://buggybuddys.com.au/perth-event/tiny-doors-of-york-2026/2026-04-15/
CATEGORIES:Family Event,Free,Walk
ATTACH;FMTTYPE=image/jpeg:https://buggybuddys.com.au/wp-content/uploads/2026/04/Tiny-Doors-of-York-2026.jpg
ORGANIZER;CN="Shire of York":MAILTO:info@york.wa.gov.au
END:VEVENT
BEGIN:VEVENT
DTSTART;VALUE=DATE:20260414
DTEND;VALUE=DATE:20260415
DTSTAMP:20260421T112803
CREATED:20260418T130033Z
LAST-MODIFIED:20260418T130033Z
UID:10077334-1776124800-1776211199@buggybuddys.com.au
SUMMARY:Tiny Doors of York 2026
DESCRIPTION:Maps available from the York Visitor Centre\, or download. \nLocation: Various locations around York \nDownload Tiny Doors Trail Map Here
URL:https://buggybuddys.com.au/perth-event/tiny-doors-of-york-2026/2026-04-14/
CATEGORIES:Family Event,Free,Walk
ATTACH;FMTTYPE=image/jpeg:https://buggybuddys.com.au/wp-content/uploads/2026/04/Tiny-Doors-of-York-2026.jpg
ORGANIZER;CN="Shire of York":MAILTO:info@york.wa.gov.au
END:VEVENT
BEGIN:VEVENT
DTSTART;VALUE=DATE:20260413
DTEND;VALUE=DATE:20260414
DTSTAMP:20260421T112803
CREATED:20260418T130033Z
LAST-MODIFIED:20260418T130033Z
UID:10077333-1776038400-1776124799@buggybuddys.com.au
SUMMARY:Tiny Doors of York 2026
DESCRIPTION:Maps available from the York Visitor Centre\, or download. \nLocation: Various locations around York \nDownload Tiny Doors Trail Map Here
URL:https://buggybuddys.com.au/perth-event/tiny-doors-of-york-2026/2026-04-13/
CATEGORIES:Family Event,Free,Walk
ATTACH;FMTTYPE=image/jpeg:https://buggybuddys.com.au/wp-content/uploads/2026/04/Tiny-Doors-of-York-2026.jpg
ORGANIZER;CN="Shire of York":MAILTO:info@york.wa.gov.au
END:VEVENT
BEGIN:VEVENT
DTSTART;VALUE=DATE:20260412
DTEND;VALUE=DATE:20260413
DTSTAMP:20260421T112803
CREATED:20260418T130033Z
LAST-MODIFIED:20260418T130033Z
UID:10077332-1775952000-1776038399@buggybuddys.com.au
SUMMARY:Tiny Doors of York 2026
DESCRIPTION:Maps available from the York Visitor Centre\, or download. \nLocation: Various locations around York \nDownload Tiny Doors Trail Map Here
URL:https://buggybuddys.com.au/perth-event/tiny-doors-of-york-2026/2026-04-12/
CATEGORIES:Family Event,Free,Walk
ATTACH;FMTTYPE=image/jpeg:https://buggybuddys.com.au/wp-content/uploads/2026/04/Tiny-Doors-of-York-2026.jpg
ORGANIZER;CN="Shire of York":MAILTO:info@york.wa.gov.au
END:VEVENT
BEGIN:VEVENT
DTSTART;VALUE=DATE:20260411
DTEND;VALUE=DATE:20260412
DTSTAMP:20260421T112803
CREATED:20260418T130033Z
LAST-MODIFIED:20260418T130033Z
UID:10077331-1775865600-1775951999@buggybuddys.com.au
SUMMARY:Tiny Doors of York 2026
DESCRIPTION:Maps available from the York Visitor Centre\, or download. \nLocation: Various locations around York \nDownload Tiny Doors Trail Map Here
URL:https://buggybuddys.com.au/perth-event/tiny-doors-of-york-2026/2026-04-11/
CATEGORIES:Family Event,Free,Walk
ATTACH;FMTTYPE=image/jpeg:https://buggybuddys.com.au/wp-content/uploads/2026/04/Tiny-Doors-of-York-2026.jpg
ORGANIZER;CN="Shire of York":MAILTO:info@york.wa.gov.au
END:VEVENT
BEGIN:VEVENT
DTSTART;VALUE=DATE:20260410
DTEND;VALUE=DATE:20260411
DTSTAMP:20260421T112803
CREATED:20260418T130033Z
LAST-MODIFIED:20260418T130033Z
UID:10077330-1775779200-1775865599@buggybuddys.com.au
SUMMARY:Tiny Doors of York 2026
DESCRIPTION:Maps available from the York Visitor Centre\, or download. \nLocation: Various locations around York \nDownload Tiny Doors Trail Map Here
URL:https://buggybuddys.com.au/perth-event/tiny-doors-of-york-2026/2026-04-10/
CATEGORIES:Family Event,Free,Walk
ATTACH;FMTTYPE=image/jpeg:https://buggybuddys.com.au/wp-content/uploads/2026/04/Tiny-Doors-of-York-2026.jpg
ORGANIZER;CN="Shire of York":MAILTO:info@york.wa.gov.au
END:VEVENT
BEGIN:VEVENT
DTSTART;VALUE=DATE:20260409
DTEND;VALUE=DATE:20260410
DTSTAMP:20260421T112803
CREATED:20260418T130033Z
LAST-MODIFIED:20260418T130033Z
UID:10077329-1775692800-1775779199@buggybuddys.com.au
SUMMARY:Tiny Doors of York 2026
DESCRIPTION:Maps available from the York Visitor Centre\, or download. \nLocation: Various locations around York \nDownload Tiny Doors Trail Map Here
URL:https://buggybuddys.com.au/perth-event/tiny-doors-of-york-2026/2026-04-09/
CATEGORIES:Family Event,Free,Walk
ATTACH;FMTTYPE=image/jpeg:https://buggybuddys.com.au/wp-content/uploads/2026/04/Tiny-Doors-of-York-2026.jpg
ORGANIZER;CN="Shire of York":MAILTO:info@york.wa.gov.au
END:VEVENT
BEGIN:VEVENT
DTSTART;VALUE=DATE:20260408
DTEND;VALUE=DATE:20260409
DTSTAMP:20260421T112803
CREATED:20260418T130033Z
LAST-MODIFIED:20260418T130033Z
UID:10077328-1775606400-1775692799@buggybuddys.com.au
SUMMARY:Tiny Doors of York 2026
DESCRIPTION:Maps available from the York Visitor Centre\, or download. \nLocation: Various locations around York \nDownload Tiny Doors Trail Map Here
URL:https://buggybuddys.com.au/perth-event/tiny-doors-of-york-2026/2026-04-08/
CATEGORIES:Family Event,Free,Walk
ATTACH;FMTTYPE=image/jpeg:https://buggybuddys.com.au/wp-content/uploads/2026/04/Tiny-Doors-of-York-2026.jpg
ORGANIZER;CN="Shire of York":MAILTO:info@york.wa.gov.au
END:VEVENT
BEGIN:VEVENT
DTSTART;VALUE=DATE:20260407
DTEND;VALUE=DATE:20260408
DTSTAMP:20260421T112803
CREATED:20260418T130033Z
LAST-MODIFIED:20260418T130033Z
UID:10077327-1775520000-1775606399@buggybuddys.com.au
SUMMARY:Tiny Doors of York 2026
DESCRIPTION:Maps available from the York Visitor Centre\, or download. \nLocation: Various locations around York \nDownload Tiny Doors Trail Map Here
URL:https://buggybuddys.com.au/perth-event/tiny-doors-of-york-2026/2026-04-07/
CATEGORIES:Family Event,Free,Walk
ATTACH;FMTTYPE=image/jpeg:https://buggybuddys.com.au/wp-content/uploads/2026/04/Tiny-Doors-of-York-2026.jpg
ORGANIZER;CN="Shire of York":MAILTO:info@york.wa.gov.au
END:VEVENT
BEGIN:VEVENT
DTSTART;VALUE=DATE:20260406
DTEND;VALUE=DATE:20260407
DTSTAMP:20260421T112803
CREATED:20260418T130033Z
LAST-MODIFIED:20260418T130033Z
UID:10077326-1775433600-1775519999@buggybuddys.com.au
SUMMARY:Tiny Doors of York 2026
DESCRIPTION:Maps available from the York Visitor Centre\, or download. \nLocation: Various locations around York \nDownload Tiny Doors Trail Map Here
URL:https://buggybuddys.com.au/perth-event/tiny-doors-of-york-2026/2026-04-06/
CATEGORIES:Family Event,Free,Walk
ATTACH;FMTTYPE=image/jpeg:https://buggybuddys.com.au/wp-content/uploads/2026/04/Tiny-Doors-of-York-2026.jpg
ORGANIZER;CN="Shire of York":MAILTO:info@york.wa.gov.au
END:VEVENT
BEGIN:VEVENT
DTSTART;VALUE=DATE:20260405
DTEND;VALUE=DATE:20260406
DTSTAMP:20260421T112803
CREATED:20260418T130033Z
LAST-MODIFIED:20260418T130033Z
UID:10077325-1775347200-1775433599@buggybuddys.com.au
SUMMARY:Tiny Doors of York 2026
DESCRIPTION:Maps available from the York Visitor Centre\, or download. \nLocation: Various locations around York \nDownload Tiny Doors Trail Map Here
URL:https://buggybuddys.com.au/perth-event/tiny-doors-of-york-2026/2026-04-05/
CATEGORIES:Family Event,Free,Walk
ATTACH;FMTTYPE=image/jpeg:https://buggybuddys.com.au/wp-content/uploads/2026/04/Tiny-Doors-of-York-2026.jpg
ORGANIZER;CN="Shire of York":MAILTO:info@york.wa.gov.au
END:VEVENT
BEGIN:VEVENT
DTSTART;VALUE=DATE:20260404
DTEND;VALUE=DATE:20260405
DTSTAMP:20260421T112803
CREATED:20260418T130033Z
LAST-MODIFIED:20260418T130033Z
UID:10077324-1775260800-1775347199@buggybuddys.com.au
SUMMARY:Tiny Doors of York 2026
DESCRIPTION:Maps available from the York Visitor Centre\, or download. \nLocation: Various locations around York \nDownload Tiny Doors Trail Map Here
URL:https://buggybuddys.com.au/perth-event/tiny-doors-of-york-2026/2026-04-04/
CATEGORIES:Family Event,Free,Walk
ATTACH;FMTTYPE=image/jpeg:https://buggybuddys.com.au/wp-content/uploads/2026/04/Tiny-Doors-of-York-2026.jpg
ORGANIZER;CN="Shire of York":MAILTO:info@york.wa.gov.au
END:VEVENT
BEGIN:VEVENT
DTSTART;VALUE=DATE:20260403
DTEND;VALUE=DATE:20260404
DTSTAMP:20260421T112803
CREATED:20260418T130033Z
LAST-MODIFIED:20260418T130033Z
UID:10077323-1775174400-1775260799@buggybuddys.com.au
SUMMARY:Tiny Doors of York 2026
DESCRIPTION:Maps available from the York Visitor Centre\, or download. \nLocation: Various locations around York \nDownload Tiny Doors Trail Map Here
URL:https://buggybuddys.com.au/perth-event/tiny-doors-of-york-2026/2026-04-03/
CATEGORIES:Family Event,Free,Walk
ATTACH;FMTTYPE=image/jpeg:https://buggybuddys.com.au/wp-content/uploads/2026/04/Tiny-Doors-of-York-2026.jpg
ORGANIZER;CN="Shire of York":MAILTO:info@york.wa.gov.au
END:VEVENT
BEGIN:VEVENT
DTSTART;VALUE=DATE:20260402
DTEND;VALUE=DATE:20260403
DTSTAMP:20260421T112803
CREATED:20260418T130033Z
LAST-MODIFIED:20260418T130033Z
UID:10077322-1775088000-1775174399@buggybuddys.com.au
SUMMARY:Tiny Doors of York 2026
DESCRIPTION:Maps available from the York Visitor Centre\, or download. \nLocation: Various locations around York \nDownload Tiny Doors Trail Map Here
URL:https://buggybuddys.com.au/perth-event/tiny-doors-of-york-2026/2026-04-02/
CATEGORIES:Family Event,Free,Walk
ATTACH;FMTTYPE=image/jpeg:https://buggybuddys.com.au/wp-content/uploads/2026/04/Tiny-Doors-of-York-2026.jpg
ORGANIZER;CN="Shire of York":MAILTO:info@york.wa.gov.au
END:VEVENT
END:VCALENDAR