BEGIN:VCALENDAR
VERSION:2.0
PRODID:-//Buggybuddys guide for families in Perth - ECPv6.15.11//NONSGML v1.0//EN
CALSCALE:GREGORIAN
METHOD:PUBLISH
X-ORIGINAL-URL:https://buggybuddys.com.au
X-WR-CALDESC:Events for Buggybuddys guide for families in Perth
REFRESH-INTERVAL;VALUE=DURATION:PT1H
X-Robots-Tag:noindex
X-PUBLISHED-TTL:PT1H
BEGIN:VTIMEZONE
TZID:Australia/Perth
BEGIN:STANDARD
TZOFFSETFROM:+0800
TZOFFSETTO:+0800
TZNAME:AWST
DTSTART:20250101T000000
END:STANDARD
END:VTIMEZONE
BEGIN:VEVENT
DTSTART;TZID=Australia/Perth:20260315T100000
DTEND;TZID=Australia/Perth:20260315T170000
DTSTAMP:20260425T233923
CREATED:20260204T092443Z
LAST-MODIFIED:20260204T092443Z
UID:10073146-1773568800-1773594000@buggybuddys.com.au
SUMMARY:Essence of Place
DESCRIPTION:An exhibition earth\, where sky and memory meet\, artists present evocative landscape works spanning abstract realism to luminous naturalism.
URL:https://buggybuddys.com.au/perth-event/essence-of-place-16/
LOCATION:Ellis House Art Centre\, 116 Milne Street\, Bayswater\, WA\, 6053\, Australia
CATEGORIES:Exhibition
ATTACH;FMTTYPE=image/jpeg:https://buggybuddys.com.au/wp-content/uploads/2026/02/5a7d9da066dde2d2767850a5a5068661.jpg
END:VEVENT
BEGIN:VEVENT
DTSTART;TZID=Australia/Perth:20260314T100000
DTEND;TZID=Australia/Perth:20260314T170000
DTSTAMP:20260425T233923
CREATED:20260204T092442Z
LAST-MODIFIED:20260204T092442Z
UID:10073145-1773482400-1773507600@buggybuddys.com.au
SUMMARY:Essence of Place
DESCRIPTION:An exhibition earth\, where sky and memory meet\, artists present evocative landscape works spanning abstract realism to luminous naturalism.
URL:https://buggybuddys.com.au/perth-event/essence-of-place-15/
LOCATION:Ellis House Art Centre\, 116 Milne Street\, Bayswater\, WA\, 6053\, Australia
CATEGORIES:Exhibition
ATTACH;FMTTYPE=image/jpeg:https://buggybuddys.com.au/wp-content/uploads/2026/02/5a7d9da066dde2d2767850a5a5068661.jpg
END:VEVENT
BEGIN:VEVENT
DTSTART;TZID=Australia/Perth:20260313T100000
DTEND;TZID=Australia/Perth:20260313T160000
DTSTAMP:20260425T233923
CREATED:20260204T092441Z
LAST-MODIFIED:20260204T092441Z
UID:10073144-1773396000-1773417600@buggybuddys.com.au
SUMMARY:Essence of Place
DESCRIPTION:An exhibition earth\, where sky and memory meet\, artists present evocative landscape works spanning abstract realism to luminous naturalism.
URL:https://buggybuddys.com.au/perth-event/essence-of-place-14/
LOCATION:Ellis House Art Centre\, 116 Milne Street\, Bayswater\, WA\, 6053\, Australia
CATEGORIES:Exhibition
ATTACH;FMTTYPE=image/jpeg:https://buggybuddys.com.au/wp-content/uploads/2026/02/5a7d9da066dde2d2767850a5a5068661.jpg
END:VEVENT
BEGIN:VEVENT
DTSTART;TZID=Australia/Perth:20260312T100000
DTEND;TZID=Australia/Perth:20260312T160000
DTSTAMP:20260425T233923
CREATED:20260204T092440Z
LAST-MODIFIED:20260204T092440Z
UID:10073143-1773309600-1773331200@buggybuddys.com.au
SUMMARY:Essence of Place
DESCRIPTION:An exhibition earth\, where sky and memory meet\, artists present evocative landscape works spanning abstract realism to luminous naturalism.
URL:https://buggybuddys.com.au/perth-event/essence-of-place-13/
LOCATION:Ellis House Art Centre\, 116 Milne Street\, Bayswater\, WA\, 6053\, Australia
CATEGORIES:Exhibition
ATTACH;FMTTYPE=image/jpeg:https://buggybuddys.com.au/wp-content/uploads/2026/02/5a7d9da066dde2d2767850a5a5068661.jpg
END:VEVENT
BEGIN:VEVENT
DTSTART;TZID=Australia/Perth:20260308T100000
DTEND;TZID=Australia/Perth:20260308T170000
DTSTAMP:20260425T233923
CREATED:20260204T092437Z
LAST-MODIFIED:20260204T092437Z
UID:10073142-1772964000-1772989200@buggybuddys.com.au
SUMMARY:Essence of Place
DESCRIPTION:An exhibition earth\, where sky and memory meet\, artists present evocative landscape works spanning abstract realism to luminous naturalism.
URL:https://buggybuddys.com.au/perth-event/essence-of-place-12/
LOCATION:Ellis House Art Centre\, 116 Milne Street\, Bayswater\, WA\, 6053\, Australia
CATEGORIES:Exhibition
ATTACH;FMTTYPE=image/jpeg:https://buggybuddys.com.au/wp-content/uploads/2026/02/5a7d9da066dde2d2767850a5a5068661.jpg
END:VEVENT
BEGIN:VEVENT
DTSTART;TZID=Australia/Perth:20260307T100000
DTEND;TZID=Australia/Perth:20260307T170000
DTSTAMP:20260425T233923
CREATED:20260204T092436Z
LAST-MODIFIED:20260204T092436Z
UID:10073141-1772877600-1772902800@buggybuddys.com.au
SUMMARY:Essence of Place
DESCRIPTION:An exhibition earth\, where sky and memory meet\, artists present evocative landscape works spanning abstract realism to luminous naturalism.
URL:https://buggybuddys.com.au/perth-event/essence-of-place-11/
LOCATION:Ellis House Art Centre\, 116 Milne Street\, Bayswater\, WA\, 6053\, Australia
CATEGORIES:Exhibition
ATTACH;FMTTYPE=image/jpeg:https://buggybuddys.com.au/wp-content/uploads/2026/02/5a7d9da066dde2d2767850a5a5068661.jpg
END:VEVENT
BEGIN:VEVENT
DTSTART;TZID=Australia/Perth:20260306T100000
DTEND;TZID=Australia/Perth:20260306T160000
DTSTAMP:20260425T233923
CREATED:20260204T092414Z
LAST-MODIFIED:20260204T092414Z
UID:10073140-1772791200-1772812800@buggybuddys.com.au
SUMMARY:Essence of Place
DESCRIPTION:An exhibition earth\, where sky and memory meet\, artists present evocative landscape works spanning abstract realism to luminous naturalism.
URL:https://buggybuddys.com.au/perth-event/essence-of-place-10/
LOCATION:Ellis House Art Centre\, 116 Milne Street\, Bayswater\, WA\, 6053\, Australia
CATEGORIES:Exhibition
ATTACH;FMTTYPE=image/jpeg:https://buggybuddys.com.au/wp-content/uploads/2026/02/5a7d9da066dde2d2767850a5a5068661.jpg
END:VEVENT
BEGIN:VEVENT
DTSTART;TZID=Australia/Perth:20260305T100000
DTEND;TZID=Australia/Perth:20260305T160000
DTSTAMP:20260425T233923
CREATED:20260204T092413Z
LAST-MODIFIED:20260204T092413Z
UID:10073139-1772704800-1772726400@buggybuddys.com.au
SUMMARY:Essence of Place
DESCRIPTION:An exhibition earth\, where sky and memory meet\, artists present evocative landscape works spanning abstract realism to luminous naturalism.
URL:https://buggybuddys.com.au/perth-event/essence-of-place-9/
LOCATION:Ellis House Art Centre\, 116 Milne Street\, Bayswater\, WA\, 6053\, Australia
CATEGORIES:Exhibition
ATTACH;FMTTYPE=image/jpeg:https://buggybuddys.com.au/wp-content/uploads/2026/02/5a7d9da066dde2d2767850a5a5068661.jpg
END:VEVENT
BEGIN:VEVENT
DTSTART;TZID=Australia/Perth:20260301T100000
DTEND;TZID=Australia/Perth:20260301T170000
DTSTAMP:20260425T233923
CREATED:20260204T092412Z
LAST-MODIFIED:20260204T092412Z
UID:10073138-1772359200-1772384400@buggybuddys.com.au
SUMMARY:Essence of Place
DESCRIPTION:An exhibition earth\, where sky and memory meet\, artists present evocative landscape works spanning abstract realism to luminous naturalism.
URL:https://buggybuddys.com.au/perth-event/essence-of-place-8/
LOCATION:Ellis House Art Centre\, 116 Milne Street\, Bayswater\, WA\, 6053\, Australia
CATEGORIES:Exhibition
ATTACH;FMTTYPE=image/jpeg:https://buggybuddys.com.au/wp-content/uploads/2026/02/5a7d9da066dde2d2767850a5a5068661.jpg
END:VEVENT
BEGIN:VEVENT
DTSTART;TZID=Australia/Perth:20260228T100000
DTEND;TZID=Australia/Perth:20260228T170000
DTSTAMP:20260425T233923
CREATED:20260204T092411Z
LAST-MODIFIED:20260204T092411Z
UID:10073137-1772272800-1772298000@buggybuddys.com.au
SUMMARY:Essence of Place
DESCRIPTION:An exhibition earth\, where sky and memory meet\, artists present evocative landscape works spanning abstract realism to luminous naturalism.
URL:https://buggybuddys.com.au/perth-event/essence-of-place-7/
LOCATION:Ellis House Art Centre\, 116 Milne Street\, Bayswater\, WA\, 6053\, Australia
CATEGORIES:Exhibition
ATTACH;FMTTYPE=image/jpeg:https://buggybuddys.com.au/wp-content/uploads/2026/02/5a7d9da066dde2d2767850a5a5068661.jpg
END:VEVENT
BEGIN:VEVENT
DTSTART;TZID=Australia/Perth:20260227T100000
DTEND;TZID=Australia/Perth:20260227T160000
DTSTAMP:20260425T233923
CREATED:20260204T092410Z
LAST-MODIFIED:20260204T092410Z
UID:10073136-1772186400-1772208000@buggybuddys.com.au
SUMMARY:Essence of Place
DESCRIPTION:An exhibition earth\, where sky and memory meet\, artists present evocative landscape works spanning abstract realism to luminous naturalism.
URL:https://buggybuddys.com.au/perth-event/essence-of-place-6/
LOCATION:Ellis House Art Centre\, 116 Milne Street\, Bayswater\, WA\, 6053\, Australia
CATEGORIES:Exhibition
ATTACH;FMTTYPE=image/jpeg:https://buggybuddys.com.au/wp-content/uploads/2026/02/5a7d9da066dde2d2767850a5a5068661.jpg
END:VEVENT
BEGIN:VEVENT
DTSTART;TZID=Australia/Perth:20260226T100000
DTEND;TZID=Australia/Perth:20260226T160000
DTSTAMP:20260425T233923
CREATED:20260204T092409Z
LAST-MODIFIED:20260204T092409Z
UID:10073135-1772100000-1772121600@buggybuddys.com.au
SUMMARY:Essence of Place
DESCRIPTION:An exhibition earth\, where sky and memory meet\, artists present evocative landscape works spanning abstract realism to luminous naturalism.
URL:https://buggybuddys.com.au/perth-event/essence-of-place-5/
LOCATION:Ellis House Art Centre\, 116 Milne Street\, Bayswater\, WA\, 6053\, Australia
CATEGORIES:Exhibition
ATTACH;FMTTYPE=image/jpeg:https://buggybuddys.com.au/wp-content/uploads/2026/02/5a7d9da066dde2d2767850a5a5068661.jpg
END:VEVENT
BEGIN:VEVENT
DTSTART;TZID=Australia/Perth:20260222T100000
DTEND;TZID=Australia/Perth:20260222T170000
DTSTAMP:20260425T233923
CREATED:20260204T092408Z
LAST-MODIFIED:20260204T092408Z
UID:10073134-1771754400-1771779600@buggybuddys.com.au
SUMMARY:Essence of Place
DESCRIPTION:An exhibition earth\, where sky and memory meet\, artists present evocative landscape works spanning abstract realism to luminous naturalism.
URL:https://buggybuddys.com.au/perth-event/essence-of-place-4/
LOCATION:Ellis House Art Centre\, 116 Milne Street\, Bayswater\, WA\, 6053\, Australia
CATEGORIES:Exhibition
ATTACH;FMTTYPE=image/jpeg:https://buggybuddys.com.au/wp-content/uploads/2026/02/5a7d9da066dde2d2767850a5a5068661.jpg
END:VEVENT
BEGIN:VEVENT
DTSTART;TZID=Australia/Perth:20260221T100000
DTEND;TZID=Australia/Perth:20260221T170000
DTSTAMP:20260425T233923
CREATED:20260204T092407Z
LAST-MODIFIED:20260204T092407Z
UID:10073133-1771668000-1771693200@buggybuddys.com.au
SUMMARY:Essence of Place
DESCRIPTION:An exhibition earth\, where sky and memory meet\, artists present evocative landscape works spanning abstract realism to luminous naturalism.
URL:https://buggybuddys.com.au/perth-event/essence-of-place-3/
LOCATION:Ellis House Art Centre\, 116 Milne Street\, Bayswater\, WA\, 6053\, Australia
CATEGORIES:Exhibition
ATTACH;FMTTYPE=image/jpeg:https://buggybuddys.com.au/wp-content/uploads/2026/02/5a7d9da066dde2d2767850a5a5068661.jpg
END:VEVENT
BEGIN:VEVENT
DTSTART;TZID=Australia/Perth:20260220T100000
DTEND;TZID=Australia/Perth:20260220T160000
DTSTAMP:20260425T233923
CREATED:20260204T092405Z
LAST-MODIFIED:20260204T092405Z
UID:10073132-1771581600-1771603200@buggybuddys.com.au
SUMMARY:Essence of Place
DESCRIPTION:An exhibition earth\, where sky and memory meet\, artists present evocative landscape works spanning abstract realism to luminous naturalism.
URL:https://buggybuddys.com.au/perth-event/essence-of-place-2/
LOCATION:Ellis House Art Centre\, 116 Milne Street\, Bayswater\, WA\, 6053\, Australia
CATEGORIES:Exhibition
ATTACH;FMTTYPE=image/jpeg:https://buggybuddys.com.au/wp-content/uploads/2026/02/5a7d9da066dde2d2767850a5a5068661.jpg
END:VEVENT
BEGIN:VEVENT
DTSTART;TZID=Australia/Perth:20260219T100000
DTEND;TZID=Australia/Perth:20260219T160000
DTSTAMP:20260425T233923
CREATED:20260204T092400Z
LAST-MODIFIED:20260204T092400Z
UID:10073131-1771495200-1771516800@buggybuddys.com.au
SUMMARY:Essence of Place
DESCRIPTION:An exhibition earth\, where sky and memory meet\, artists present evocative landscape works spanning abstract realism to luminous naturalism.
URL:https://buggybuddys.com.au/perth-event/essence-of-place/
LOCATION:Ellis House Art Centre\, 116 Milne Street\, Bayswater\, WA\, 6053\, Australia
CATEGORIES:Exhibition
ATTACH;FMTTYPE=image/jpeg:https://buggybuddys.com.au/wp-content/uploads/2026/02/5a7d9da066dde2d2767850a5a5068661.jpg
END:VEVENT
END:VCALENDAR