BEGIN:VCALENDAR
VERSION:2.0
PRODID:-//Buggybuddys guide for families in Perth - ECPv6.15.11//NONSGML v1.0//EN
CALSCALE:GREGORIAN
METHOD:PUBLISH
X-WR-CALNAME:Buggybuddys guide for families in Perth
X-ORIGINAL-URL:https://buggybuddys.com.au
X-WR-CALDESC:Events for Buggybuddys guide for families in Perth
REFRESH-INTERVAL;VALUE=DURATION:PT1H
X-Robots-Tag:noindex
X-PUBLISHED-TTL:PT1H
BEGIN:VTIMEZONE
TZID:Australia/Perth
BEGIN:STANDARD
TZOFFSETFROM:+0800
TZOFFSETTO:+0800
TZNAME:AWST
DTSTART:20250101T000000
END:STANDARD
END:VTIMEZONE
BEGIN:VEVENT
DTSTART;TZID=Australia/Perth:20260510T113000
DTEND;TZID=Australia/Perth:20260510T133000
DTSTAMP:20260426T105639
CREATED:20260422T114256Z
LAST-MODIFIED:20260422T114256Z
UID:10077730-1778412600-1778419800@buggybuddys.com.au
SUMMARY:Mother's Day Rooftop Lunch 2026
DESCRIPTION:Spoil Mum this Mother’s Day with a feasting lunch  at HQ Bar + Kitchen\, overlooking Elizabeth Quay!
URL:https://buggybuddys.com.au/perth-event/mothers-day-rooftop-lunch-2026/
LOCATION:HQ Bar + Kitchen\, 18 The Esplanade\, Perth\, WA\, 6000\, Australia
CATEGORIES:Mother's Day
ATTACH;FMTTYPE=image/jpeg:https://buggybuddys.com.au/wp-content/uploads/2026/04/27a92335c8a62653c1d725add5a340f4.jpg
END:VEVENT
END:VCALENDAR