BEGIN:VCALENDAR
VERSION:2.0
PRODID:-//Buggybuddys guide for families in Perth - ECPv6.15.11//NONSGML v1.0//EN
CALSCALE:GREGORIAN
METHOD:PUBLISH
X-WR-CALNAME:Buggybuddys guide for families in Perth
X-ORIGINAL-URL:https://buggybuddys.com.au
X-WR-CALDESC:Events for Buggybuddys guide for families in Perth
REFRESH-INTERVAL;VALUE=DURATION:PT1H
X-Robots-Tag:noindex
X-PUBLISHED-TTL:PT1H
BEGIN:VTIMEZONE
TZID:Australia/Perth
BEGIN:STANDARD
TZOFFSETFROM:+0800
TZOFFSETTO:+0800
TZNAME:AWST
DTSTART:20250101T000000
END:STANDARD
END:VTIMEZONE
BEGIN:VEVENT
DTSTART;TZID=Australia/Perth:20260311T153000
DTEND;TZID=Australia/Perth:20260311T183000
DTSTAMP:20260426T000458
CREATED:20260203T090231Z
LAST-MODIFIED:20260203T090231Z
UID:10073011-1773243000-1773253800@buggybuddys.com.au
SUMMARY:Youth Club Days @ Dordaak Kepup
DESCRIPTION:Join a Youth Club\, Wednesdays and Fridays at Dordaak Kepup. From gaming to music\, baking to 3D printing and everything in between.
URL:https://buggybuddys.com.au/perth-event/youth-club-days-dordaak-kepup-11/
LOCATION:Dordaak Kepup – Library and Youth Innovation Hub\, 15 The Broadview\, Landsdale\, WA\, 6065\, Australia
CATEGORIES:Teens
ATTACH;FMTTYPE=image/jpeg:https://buggybuddys.com.au/wp-content/uploads/2026/02/64e1552b75a58a12e8c2333cf4cf7740.jpg
END:VEVENT
BEGIN:VEVENT
DTSTART;TZID=Australia/Perth:20260309T160000
DTEND;TZID=Australia/Perth:20260309T190000
DTSTAMP:20260426T000458
CREATED:20260203T090422Z
LAST-MODIFIED:20260203T090422Z
UID:10073045-1773072000-1773082800@buggybuddys.com.au
SUMMARY:Third Place @ Dordaak Kepup (Ages 16 to 25)
DESCRIPTION:Informal program for young people aged 16 to 25. Expect social spaces and low key activities including options for skills based workshops.
URL:https://buggybuddys.com.au/perth-event/third-place-dordaak-kepup-ages-16-to-25-4/
LOCATION:Dordaak Kepup – Library and Youth Innovation Hub\, 15 The Broadview\, Landsdale\, WA\, 6065\, Australia
CATEGORIES:Teens
ATTACH;FMTTYPE=image/jpeg:https://buggybuddys.com.au/wp-content/uploads/2026/02/64e1552b75a58a12e8c2333cf4cf7740.jpg
END:VEVENT
BEGIN:VEVENT
DTSTART;TZID=Australia/Perth:20260306T160000
DTEND;TZID=Australia/Perth:20260306T180000
DTSTAMP:20260426T000458
CREATED:20260206T154254Z
LAST-MODIFIED:20260206T154254Z
UID:10073280-1772812800-1772820000@buggybuddys.com.au
SUMMARY:Dungeons and Dragons Youth Club @ Dordaak Kepup
DESCRIPTION:Hosted by Dungeon Master Riley\, join the informal youth group for Dungeons and Dragons. Suitable for young people in high school.
URL:https://buggybuddys.com.au/perth-event/dungeons-and-dragons-youth-club-dordaak-kepup-2/
LOCATION:Dordaak Kepup – Library and Youth Innovation Hub\, 15 The Broadview\, Landsdale\, WA\, 6065\, Australia
CATEGORIES:Teens
ATTACH;FMTTYPE=image/jpeg:https://buggybuddys.com.au/wp-content/uploads/2026/02/d6ca8578c6ab17eb280d681ec3f78955.jpg
END:VEVENT
BEGIN:VEVENT
DTSTART;TZID=Australia/Perth:20260306T153000
DTEND;TZID=Australia/Perth:20260306T183000
DTSTAMP:20260426T000458
CREATED:20260203T090211Z
LAST-MODIFIED:20260203T090211Z
UID:10073010-1772811000-1772821800@buggybuddys.com.au
SUMMARY:Youth Club Days @ Dordaak Kepup
DESCRIPTION:Join a Youth Club\, Wednesdays and Fridays at Dordaak Kepup. From gaming to music\, baking to 3D printing and everything in between.
URL:https://buggybuddys.com.au/perth-event/youth-club-days-dordaak-kepup-10/
LOCATION:Dordaak Kepup – Library and Youth Innovation Hub\, 15 The Broadview\, Landsdale\, WA\, 6065\, Australia
CATEGORIES:Teens
ATTACH;FMTTYPE=image/jpeg:https://buggybuddys.com.au/wp-content/uploads/2026/02/64e1552b75a58a12e8c2333cf4cf7740.jpg
END:VEVENT
BEGIN:VEVENT
DTSTART;TZID=Australia/Perth:20260304T153000
DTEND;TZID=Australia/Perth:20260304T183000
DTSTAMP:20260426T000458
CREATED:20260203T090210Z
LAST-MODIFIED:20260203T090210Z
UID:10073009-1772638200-1772649000@buggybuddys.com.au
SUMMARY:Youth Club Days @ Dordaak Kepup
DESCRIPTION:Join a Youth Club\, Wednesdays and Fridays at Dordaak Kepup. From gaming to music\, baking to 3D printing and everything in between.
URL:https://buggybuddys.com.au/perth-event/youth-club-days-dordaak-kepup-9/
LOCATION:Dordaak Kepup – Library and Youth Innovation Hub\, 15 The Broadview\, Landsdale\, WA\, 6065\, Australia
CATEGORIES:Teens
ATTACH;FMTTYPE=image/jpeg:https://buggybuddys.com.au/wp-content/uploads/2026/02/64e1552b75a58a12e8c2333cf4cf7740.jpg
END:VEVENT
BEGIN:VEVENT
DTSTART;TZID=Australia/Perth:20260227T153000
DTEND;TZID=Australia/Perth:20260227T183000
DTSTAMP:20260426T000458
CREATED:20260203T090209Z
LAST-MODIFIED:20260203T090209Z
UID:10073008-1772206200-1772217000@buggybuddys.com.au
SUMMARY:Youth Club Days @ Dordaak Kepup
DESCRIPTION:Join a Youth Club\, Wednesdays and Fridays at Dordaak Kepup. From gaming to music\, baking to 3D printing and everything in between.
URL:https://buggybuddys.com.au/perth-event/youth-club-days-dordaak-kepup-8/
LOCATION:Dordaak Kepup – Library and Youth Innovation Hub\, 15 The Broadview\, Landsdale\, WA\, 6065\, Australia
CATEGORIES:Teens
ATTACH;FMTTYPE=image/jpeg:https://buggybuddys.com.au/wp-content/uploads/2026/02/64e1552b75a58a12e8c2333cf4cf7740.jpg
END:VEVENT
BEGIN:VEVENT
DTSTART;TZID=Australia/Perth:20260225T153000
DTEND;TZID=Australia/Perth:20260225T183000
DTSTAMP:20260426T000458
CREATED:20260203T090209Z
LAST-MODIFIED:20260203T090209Z
UID:10073007-1772033400-1772044200@buggybuddys.com.au
SUMMARY:Youth Club Days @ Dordaak Kepup
DESCRIPTION:Join a Youth Club\, Wednesdays and Fridays at Dordaak Kepup. From gaming to music\, baking to 3D printing and everything in between.
URL:https://buggybuddys.com.au/perth-event/youth-club-days-dordaak-kepup-7/
LOCATION:Dordaak Kepup – Library and Youth Innovation Hub\, 15 The Broadview\, Landsdale\, WA\, 6065\, Australia
CATEGORIES:Teens
ATTACH;FMTTYPE=image/jpeg:https://buggybuddys.com.au/wp-content/uploads/2026/02/64e1552b75a58a12e8c2333cf4cf7740.jpg
END:VEVENT
BEGIN:VEVENT
DTSTART;TZID=Australia/Perth:20260223T160000
DTEND;TZID=Australia/Perth:20260223T190000
DTSTAMP:20260426T000458
CREATED:20260203T090421Z
LAST-MODIFIED:20260203T090421Z
UID:10073044-1771862400-1771873200@buggybuddys.com.au
SUMMARY:Third Place @ Dordaak Kepup (Ages 16 to 25)
DESCRIPTION:Informal program for young people aged 16 to 25. Expect social spaces and low key activities including options for skills based workshops.
URL:https://buggybuddys.com.au/perth-event/third-place-dordaak-kepup-ages-16-to-25-3/
LOCATION:Dordaak Kepup – Library and Youth Innovation Hub\, 15 The Broadview\, Landsdale\, WA\, 6065\, Australia
CATEGORIES:Teens
ATTACH;FMTTYPE=image/jpeg:https://buggybuddys.com.au/wp-content/uploads/2026/02/64e1552b75a58a12e8c2333cf4cf7740.jpg
END:VEVENT
BEGIN:VEVENT
DTSTART;TZID=Australia/Perth:20260220T160000
DTEND;TZID=Australia/Perth:20260220T180000
DTSTAMP:20260426T000458
CREATED:20260206T154251Z
LAST-MODIFIED:20260206T154251Z
UID:10073279-1771603200-1771610400@buggybuddys.com.au
SUMMARY:Dungeons and Dragons Youth Club @ Dordaak Kepup
DESCRIPTION:Hosted by Dungeon Master Riley\, join the informal youth group for Dungeons and Dragons. Suitable for young people in high school.
URL:https://buggybuddys.com.au/perth-event/dungeons-and-dragons-youth-club-dordaak-kepup/
LOCATION:Dordaak Kepup – Library and Youth Innovation Hub\, 15 The Broadview\, Landsdale\, WA\, 6065\, Australia
CATEGORIES:Teens
ATTACH;FMTTYPE=image/jpeg:https://buggybuddys.com.au/wp-content/uploads/2026/02/d6ca8578c6ab17eb280d681ec3f78955.jpg
END:VEVENT
BEGIN:VEVENT
DTSTART;TZID=Australia/Perth:20260220T153000
DTEND;TZID=Australia/Perth:20260220T183000
DTSTAMP:20260426T000458
CREATED:20260203T090208Z
LAST-MODIFIED:20260203T090208Z
UID:10073006-1771601400-1771612200@buggybuddys.com.au
SUMMARY:Youth Club Days @ Dordaak Kepup
DESCRIPTION:Join a Youth Club\, Wednesdays and Fridays at Dordaak Kepup. From gaming to music\, baking to 3D printing and everything in between.
URL:https://buggybuddys.com.au/perth-event/youth-club-days-dordaak-kepup-6/
LOCATION:Dordaak Kepup – Library and Youth Innovation Hub\, 15 The Broadview\, Landsdale\, WA\, 6065\, Australia
CATEGORIES:Teens
ATTACH;FMTTYPE=image/jpeg:https://buggybuddys.com.au/wp-content/uploads/2026/02/64e1552b75a58a12e8c2333cf4cf7740.jpg
END:VEVENT
BEGIN:VEVENT
DTSTART;TZID=Australia/Perth:20260218T153000
DTEND;TZID=Australia/Perth:20260218T183000
DTSTAMP:20260426T000458
CREATED:20260203T090205Z
LAST-MODIFIED:20260203T090205Z
UID:10073005-1771428600-1771439400@buggybuddys.com.au
SUMMARY:Youth Club Days @ Dordaak Kepup
DESCRIPTION:Join a Youth Club\, Wednesdays and Fridays at Dordaak Kepup. From gaming to music\, baking to 3D printing and everything in between.
URL:https://buggybuddys.com.au/perth-event/youth-club-days-dordaak-kepup-5/
LOCATION:Dordaak Kepup – Library and Youth Innovation Hub\, 15 The Broadview\, Landsdale\, WA\, 6065\, Australia
CATEGORIES:Teens
ATTACH;FMTTYPE=image/jpeg:https://buggybuddys.com.au/wp-content/uploads/2026/02/64e1552b75a58a12e8c2333cf4cf7740.jpg
END:VEVENT
BEGIN:VEVENT
DTSTART;TZID=Australia/Perth:20260216T160000
DTEND;TZID=Australia/Perth:20260216T190000
DTSTAMP:20260426T000458
CREATED:20260203T090420Z
LAST-MODIFIED:20260203T090420Z
UID:10073043-1771257600-1771268400@buggybuddys.com.au
SUMMARY:Third Place @ Dordaak Kepup (Ages 16 to 25)
DESCRIPTION:Informal program for young people aged 16 to 25. Expect social spaces and low key activities including options for skills based workshops.
URL:https://buggybuddys.com.au/perth-event/third-place-dordaak-kepup-ages-16-to-25-2/
LOCATION:Dordaak Kepup – Library and Youth Innovation Hub\, 15 The Broadview\, Landsdale\, WA\, 6065\, Australia
CATEGORIES:Teens
ATTACH;FMTTYPE=image/jpeg:https://buggybuddys.com.au/wp-content/uploads/2026/02/64e1552b75a58a12e8c2333cf4cf7740.jpg
END:VEVENT
BEGIN:VEVENT
DTSTART;TZID=Australia/Perth:20260213T153000
DTEND;TZID=Australia/Perth:20260213T183000
DTSTAMP:20260426T000458
CREATED:20260203T090202Z
LAST-MODIFIED:20260203T090202Z
UID:10073004-1770996600-1771007400@buggybuddys.com.au
SUMMARY:Youth Club Days @ Dordaak Kepup
DESCRIPTION:Join a Youth Club\, Wednesdays and Fridays at Dordaak Kepup. From gaming to music\, baking to 3D printing and everything in between.
URL:https://buggybuddys.com.au/perth-event/youth-club-days-dordaak-kepup-4/
LOCATION:Dordaak Kepup – Library and Youth Innovation Hub\, 15 The Broadview\, Landsdale\, WA\, 6065\, Australia
CATEGORIES:Teens
ATTACH;FMTTYPE=image/jpeg:https://buggybuddys.com.au/wp-content/uploads/2026/02/64e1552b75a58a12e8c2333cf4cf7740.jpg
END:VEVENT
BEGIN:VEVENT
DTSTART;TZID=Australia/Perth:20260211T153000
DTEND;TZID=Australia/Perth:20260211T183000
DTSTAMP:20260426T000458
CREATED:20260203T090201Z
LAST-MODIFIED:20260203T090201Z
UID:10073003-1770823800-1770834600@buggybuddys.com.au
SUMMARY:Youth Club Days @ Dordaak Kepup
DESCRIPTION:Join a Youth Club\, Wednesdays and Fridays at Dordaak Kepup. From gaming to music\, baking to 3D printing and everything in between.
URL:https://buggybuddys.com.au/perth-event/youth-club-days-dordaak-kepup-3/
LOCATION:Dordaak Kepup – Library and Youth Innovation Hub\, 15 The Broadview\, Landsdale\, WA\, 6065\, Australia
CATEGORIES:Teens
ATTACH;FMTTYPE=image/jpeg:https://buggybuddys.com.au/wp-content/uploads/2026/02/64e1552b75a58a12e8c2333cf4cf7740.jpg
END:VEVENT
BEGIN:VEVENT
DTSTART;TZID=Australia/Perth:20260209T160000
DTEND;TZID=Australia/Perth:20260209T190000
DTSTAMP:20260426T000458
CREATED:20260203T090419Z
LAST-MODIFIED:20260203T090419Z
UID:10073042-1770652800-1770663600@buggybuddys.com.au
SUMMARY:Third Place @ Dordaak Kepup (Ages 16 to 25)
DESCRIPTION:Informal program for young people aged 16 to 25. Expect social spaces and low key activities including options for skills based workshops.
URL:https://buggybuddys.com.au/perth-event/third-place-dordaak-kepup-ages-16-to-25/
LOCATION:Dordaak Kepup – Library and Youth Innovation Hub\, 15 The Broadview\, Landsdale\, WA\, 6065\, Australia
CATEGORIES:Teens
ATTACH;FMTTYPE=image/jpeg:https://buggybuddys.com.au/wp-content/uploads/2026/02/64e1552b75a58a12e8c2333cf4cf7740.jpg
END:VEVENT
BEGIN:VEVENT
DTSTART;TZID=Australia/Perth:20260206T153000
DTEND;TZID=Australia/Perth:20260206T183000
DTSTAMP:20260426T000458
CREATED:20260203T090200Z
LAST-MODIFIED:20260203T090200Z
UID:10073002-1770391800-1770402600@buggybuddys.com.au
SUMMARY:Youth Club Days @ Dordaak Kepup
DESCRIPTION:Join a Youth Club\, Wednesdays and Fridays at Dordaak Kepup. From gaming to music\, baking to 3D printing and everything in between.
URL:https://buggybuddys.com.au/perth-event/youth-club-days-dordaak-kepup-2/
LOCATION:Dordaak Kepup – Library and Youth Innovation Hub\, 15 The Broadview\, Landsdale\, WA\, 6065\, Australia
CATEGORIES:Teens
ATTACH;FMTTYPE=image/jpeg:https://buggybuddys.com.au/wp-content/uploads/2026/02/64e1552b75a58a12e8c2333cf4cf7740.jpg
END:VEVENT
BEGIN:VEVENT
DTSTART;TZID=Australia/Perth:20260204T153000
DTEND;TZID=Australia/Perth:20260204T183000
DTSTAMP:20260426T000458
CREATED:20260203T090156Z
LAST-MODIFIED:20260203T090156Z
UID:10073001-1770219000-1770229800@buggybuddys.com.au
SUMMARY:Youth Club Days @ Dordaak Kepup
DESCRIPTION:Join a Youth Club\, Wednesdays and Fridays at Dordaak Kepup. From gaming to music\, baking to 3D printing and everything in between.
URL:https://buggybuddys.com.au/perth-event/youth-club-days-dordaak-kepup/
LOCATION:Dordaak Kepup – Library and Youth Innovation Hub\, 15 The Broadview\, Landsdale\, WA\, 6065\, Australia
CATEGORIES:Teens
ATTACH;FMTTYPE=image/jpeg:https://buggybuddys.com.au/wp-content/uploads/2026/02/64e1552b75a58a12e8c2333cf4cf7740.jpg
END:VEVENT
BEGIN:VEVENT
DTSTART;TZID=Australia/Perth:20260124T153000
DTEND;TZID=Australia/Perth:20260124T160000
DTSTAMP:20260426T000458
CREATED:20251210T142605Z
LAST-MODIFIED:20251210T142605Z
UID:10068789-1769268600-1769270400@buggybuddys.com.au
SUMMARY:Ocean Rescue SOS Escape Room @ Clarkson Library
DESCRIPTION:Escape room is a themed puzzle room where you are completely immersed into a new reality and must use the clues around the room to ESCAPE!
URL:https://buggybuddys.com.au/perth-event/ocean-rescue-sos-escape-room-clarkson-library-39/
LOCATION:Clarkson Library\, Cnr Ebb Way & Ocean Keys Blvd\, Clarkson\, WA\, 6030\, Australia
CATEGORIES:Library Events
ATTACH;FMTTYPE=image/jpeg:https://buggybuddys.com.au/wp-content/uploads/2025/12/0fa4ee0effbf96d145a9510e972ebd47.jpg
GEO:-31.6896038;115.7177962
X-APPLE-STRUCTURED-LOCATION;VALUE=URI;X-ADDRESS=Clarkson Library Cnr Ebb Way & Ocean Keys Blvd Clarkson WA 6030 Australia;X-APPLE-RADIUS=500;X-TITLE=Cnr Ebb Way & Ocean Keys Blvd:geo:115.7177962,-31.6896038
END:VEVENT
BEGIN:VEVENT
DTSTART;TZID=Australia/Perth:20260124T150000
DTEND;TZID=Australia/Perth:20260124T153000
DTSTAMP:20260426T000458
CREATED:20251210T142604Z
LAST-MODIFIED:20251210T142604Z
UID:10068788-1769266800-1769268600@buggybuddys.com.au
SUMMARY:Ocean Rescue SOS Escape Room @ Clarkson Library
DESCRIPTION:Escape room is a themed puzzle room where you are completely immersed into a new reality and must use the clues around the room to ESCAPE!
URL:https://buggybuddys.com.au/perth-event/ocean-rescue-sos-escape-room-clarkson-library-38/
LOCATION:Clarkson Library\, Cnr Ebb Way & Ocean Keys Blvd\, Clarkson\, WA\, 6030\, Australia
CATEGORIES:Library Events
ATTACH;FMTTYPE=image/jpeg:https://buggybuddys.com.au/wp-content/uploads/2025/12/0fa4ee0effbf96d145a9510e972ebd47.jpg
GEO:-31.6896038;115.7177962
X-APPLE-STRUCTURED-LOCATION;VALUE=URI;X-ADDRESS=Clarkson Library Cnr Ebb Way & Ocean Keys Blvd Clarkson WA 6030 Australia;X-APPLE-RADIUS=500;X-TITLE=Cnr Ebb Way & Ocean Keys Blvd:geo:115.7177962,-31.6896038
END:VEVENT
BEGIN:VEVENT
DTSTART;TZID=Australia/Perth:20260124T143000
DTEND;TZID=Australia/Perth:20260124T150000
DTSTAMP:20260426T000458
CREATED:20251210T142604Z
LAST-MODIFIED:20251210T142604Z
UID:10068787-1769265000-1769266800@buggybuddys.com.au
SUMMARY:Ocean Rescue SOS Escape Room @ Clarkson Library
DESCRIPTION:Escape room is a themed puzzle room where you are completely immersed into a new reality and must use the clues around the room to ESCAPE!
URL:https://buggybuddys.com.au/perth-event/ocean-rescue-sos-escape-room-clarkson-library-37/
LOCATION:Clarkson Library\, Cnr Ebb Way & Ocean Keys Blvd\, Clarkson\, WA\, 6030\, Australia
CATEGORIES:Library Events
ATTACH;FMTTYPE=image/jpeg:https://buggybuddys.com.au/wp-content/uploads/2025/12/0fa4ee0effbf96d145a9510e972ebd47.jpg
GEO:-31.6896038;115.7177962
X-APPLE-STRUCTURED-LOCATION;VALUE=URI;X-ADDRESS=Clarkson Library Cnr Ebb Way & Ocean Keys Blvd Clarkson WA 6030 Australia;X-APPLE-RADIUS=500;X-TITLE=Cnr Ebb Way & Ocean Keys Blvd:geo:115.7177962,-31.6896038
END:VEVENT
BEGIN:VEVENT
DTSTART;TZID=Australia/Perth:20260124T140000
DTEND;TZID=Australia/Perth:20260124T143000
DTSTAMP:20260426T000458
CREATED:20251210T142603Z
LAST-MODIFIED:20251210T142603Z
UID:10068786-1769263200-1769265000@buggybuddys.com.au
SUMMARY:Ocean Rescue SOS Escape Room @ Clarkson Library
DESCRIPTION:Escape room is a themed puzzle room where you are completely immersed into a new reality and must use the clues around the room to ESCAPE!
URL:https://buggybuddys.com.au/perth-event/ocean-rescue-sos-escape-room-clarkson-library-36/
LOCATION:Clarkson Library\, Cnr Ebb Way & Ocean Keys Blvd\, Clarkson\, WA\, 6030\, Australia
CATEGORIES:Library Events
ATTACH;FMTTYPE=image/jpeg:https://buggybuddys.com.au/wp-content/uploads/2025/12/0fa4ee0effbf96d145a9510e972ebd47.jpg
GEO:-31.6896038;115.7177962
X-APPLE-STRUCTURED-LOCATION;VALUE=URI;X-ADDRESS=Clarkson Library Cnr Ebb Way & Ocean Keys Blvd Clarkson WA 6030 Australia;X-APPLE-RADIUS=500;X-TITLE=Cnr Ebb Way & Ocean Keys Blvd:geo:115.7177962,-31.6896038
END:VEVENT
BEGIN:VEVENT
DTSTART;TZID=Australia/Perth:20260124T133000
DTEND;TZID=Australia/Perth:20260124T140000
DTSTAMP:20260426T000458
CREATED:20251210T142603Z
LAST-MODIFIED:20251210T142603Z
UID:10068785-1769261400-1769263200@buggybuddys.com.au
SUMMARY:Ocean Rescue SOS Escape Room @ Clarkson Library
DESCRIPTION:Escape room is a themed puzzle room where you are completely immersed into a new reality and must use the clues around the room to ESCAPE!
URL:https://buggybuddys.com.au/perth-event/ocean-rescue-sos-escape-room-clarkson-library-35/
LOCATION:Clarkson Library\, Cnr Ebb Way & Ocean Keys Blvd\, Clarkson\, WA\, 6030\, Australia
CATEGORIES:Library Events
ATTACH;FMTTYPE=image/jpeg:https://buggybuddys.com.au/wp-content/uploads/2025/12/0fa4ee0effbf96d145a9510e972ebd47.jpg
GEO:-31.6896038;115.7177962
X-APPLE-STRUCTURED-LOCATION;VALUE=URI;X-ADDRESS=Clarkson Library Cnr Ebb Way & Ocean Keys Blvd Clarkson WA 6030 Australia;X-APPLE-RADIUS=500;X-TITLE=Cnr Ebb Way & Ocean Keys Blvd:geo:115.7177962,-31.6896038
END:VEVENT
BEGIN:VEVENT
DTSTART;TZID=Australia/Perth:20260124T130000
DTEND;TZID=Australia/Perth:20260124T133000
DTSTAMP:20260426T000458
CREATED:20251210T142602Z
LAST-MODIFIED:20251210T142602Z
UID:10068784-1769259600-1769261400@buggybuddys.com.au
SUMMARY:Ocean Rescue SOS Escape Room @ Clarkson Library
DESCRIPTION:Escape room is a themed puzzle room where you are completely immersed into a new reality and must use the clues around the room to ESCAPE!
URL:https://buggybuddys.com.au/perth-event/ocean-rescue-sos-escape-room-clarkson-library-34/
LOCATION:Clarkson Library\, Cnr Ebb Way & Ocean Keys Blvd\, Clarkson\, WA\, 6030\, Australia
CATEGORIES:Library Events
ATTACH;FMTTYPE=image/jpeg:https://buggybuddys.com.au/wp-content/uploads/2025/12/0fa4ee0effbf96d145a9510e972ebd47.jpg
GEO:-31.6896038;115.7177962
X-APPLE-STRUCTURED-LOCATION;VALUE=URI;X-ADDRESS=Clarkson Library Cnr Ebb Way & Ocean Keys Blvd Clarkson WA 6030 Australia;X-APPLE-RADIUS=500;X-TITLE=Cnr Ebb Way & Ocean Keys Blvd:geo:115.7177962,-31.6896038
END:VEVENT
BEGIN:VEVENT
DTSTART;TZID=Australia/Perth:20260124T123000
DTEND;TZID=Australia/Perth:20260124T130000
DTSTAMP:20260426T000458
CREATED:20251210T142601Z
LAST-MODIFIED:20251210T142601Z
UID:10068783-1769257800-1769259600@buggybuddys.com.au
SUMMARY:Ocean Rescue SOS Escape Room @ Clarkson Library
DESCRIPTION:Escape room is a themed puzzle room where you are completely immersed into a new reality and must use the clues around the room to ESCAPE!
URL:https://buggybuddys.com.au/perth-event/ocean-rescue-sos-escape-room-clarkson-library-33/
LOCATION:Clarkson Library\, Cnr Ebb Way & Ocean Keys Blvd\, Clarkson\, WA\, 6030\, Australia
CATEGORIES:Library Events
ATTACH;FMTTYPE=image/jpeg:https://buggybuddys.com.au/wp-content/uploads/2025/12/0fa4ee0effbf96d145a9510e972ebd47.jpg
GEO:-31.6896038;115.7177962
X-APPLE-STRUCTURED-LOCATION;VALUE=URI;X-ADDRESS=Clarkson Library Cnr Ebb Way & Ocean Keys Blvd Clarkson WA 6030 Australia;X-APPLE-RADIUS=500;X-TITLE=Cnr Ebb Way & Ocean Keys Blvd:geo:115.7177962,-31.6896038
END:VEVENT
BEGIN:VEVENT
DTSTART;TZID=Australia/Perth:20260124T120000
DTEND;TZID=Australia/Perth:20260124T123000
DTSTAMP:20260426T000458
CREATED:20251210T142601Z
LAST-MODIFIED:20251210T142601Z
UID:10068782-1769256000-1769257800@buggybuddys.com.au
SUMMARY:Ocean Rescue SOS Escape Room @ Clarkson Library
DESCRIPTION:Escape room is a themed puzzle room where you are completely immersed into a new reality and must use the clues around the room to ESCAPE!
URL:https://buggybuddys.com.au/perth-event/ocean-rescue-sos-escape-room-clarkson-library-32/
LOCATION:Clarkson Library\, Cnr Ebb Way & Ocean Keys Blvd\, Clarkson\, WA\, 6030\, Australia
CATEGORIES:Library Events
ATTACH;FMTTYPE=image/jpeg:https://buggybuddys.com.au/wp-content/uploads/2025/12/0fa4ee0effbf96d145a9510e972ebd47.jpg
GEO:-31.6896038;115.7177962
X-APPLE-STRUCTURED-LOCATION;VALUE=URI;X-ADDRESS=Clarkson Library Cnr Ebb Way & Ocean Keys Blvd Clarkson WA 6030 Australia;X-APPLE-RADIUS=500;X-TITLE=Cnr Ebb Way & Ocean Keys Blvd:geo:115.7177962,-31.6896038
END:VEVENT
BEGIN:VEVENT
DTSTART;TZID=Australia/Perth:20260124T113000
DTEND;TZID=Australia/Perth:20260124T120000
DTSTAMP:20260426T000458
CREATED:20251210T142600Z
LAST-MODIFIED:20251210T142600Z
UID:10068781-1769254200-1769256000@buggybuddys.com.au
SUMMARY:Ocean Rescue SOS Escape Room @ Clarkson Library
DESCRIPTION:Escape room is a themed puzzle room where you are completely immersed into a new reality and must use the clues around the room to ESCAPE!
URL:https://buggybuddys.com.au/perth-event/ocean-rescue-sos-escape-room-clarkson-library-31/
LOCATION:Clarkson Library\, Cnr Ebb Way & Ocean Keys Blvd\, Clarkson\, WA\, 6030\, Australia
CATEGORIES:Library Events
ATTACH;FMTTYPE=image/jpeg:https://buggybuddys.com.au/wp-content/uploads/2025/12/0fa4ee0effbf96d145a9510e972ebd47.jpg
GEO:-31.6896038;115.7177962
X-APPLE-STRUCTURED-LOCATION;VALUE=URI;X-ADDRESS=Clarkson Library Cnr Ebb Way & Ocean Keys Blvd Clarkson WA 6030 Australia;X-APPLE-RADIUS=500;X-TITLE=Cnr Ebb Way & Ocean Keys Blvd:geo:115.7177962,-31.6896038
END:VEVENT
BEGIN:VEVENT
DTSTART;TZID=Australia/Perth:20260124T110000
DTEND;TZID=Australia/Perth:20260124T113000
DTSTAMP:20260426T000458
CREATED:20251210T142545Z
LAST-MODIFIED:20251210T142545Z
UID:10068779-1769252400-1769254200@buggybuddys.com.au
SUMMARY:Ocean Rescue SOS Escape Room @ Clarkson Library
DESCRIPTION:Escape room is a themed puzzle room where you are completely immersed into a new reality and must use the clues around the room to ESCAPE!
URL:https://buggybuddys.com.au/perth-event/ocean-rescue-sos-escape-room-clarkson-library-30/
LOCATION:Clarkson Library\, Cnr Ebb Way & Ocean Keys Blvd\, Clarkson\, WA\, 6030\, Australia
CATEGORIES:Library Events
ATTACH;FMTTYPE=image/jpeg:https://buggybuddys.com.au/wp-content/uploads/2025/12/0fa4ee0effbf96d145a9510e972ebd47.jpg
GEO:-31.6896038;115.7177962
X-APPLE-STRUCTURED-LOCATION;VALUE=URI;X-ADDRESS=Clarkson Library Cnr Ebb Way & Ocean Keys Blvd Clarkson WA 6030 Australia;X-APPLE-RADIUS=500;X-TITLE=Cnr Ebb Way & Ocean Keys Blvd:geo:115.7177962,-31.6896038
END:VEVENT
BEGIN:VEVENT
DTSTART;TZID=Australia/Perth:20260124T103000
DTEND;TZID=Australia/Perth:20260124T110000
DTSTAMP:20260426T000458
CREATED:20251210T142544Z
LAST-MODIFIED:20251210T142544Z
UID:10068778-1769250600-1769252400@buggybuddys.com.au
SUMMARY:Ocean Rescue SOS Escape Room @ Clarkson Library
DESCRIPTION:Escape room is a themed puzzle room where you are completely immersed into a new reality and must use the clues around the room to ESCAPE!
URL:https://buggybuddys.com.au/perth-event/ocean-rescue-sos-escape-room-clarkson-library-29/
LOCATION:Clarkson Library\, Cnr Ebb Way & Ocean Keys Blvd\, Clarkson\, WA\, 6030\, Australia
CATEGORIES:Library Events
ATTACH;FMTTYPE=image/jpeg:https://buggybuddys.com.au/wp-content/uploads/2025/12/0fa4ee0effbf96d145a9510e972ebd47.jpg
GEO:-31.6896038;115.7177962
X-APPLE-STRUCTURED-LOCATION;VALUE=URI;X-ADDRESS=Clarkson Library Cnr Ebb Way & Ocean Keys Blvd Clarkson WA 6030 Australia;X-APPLE-RADIUS=500;X-TITLE=Cnr Ebb Way & Ocean Keys Blvd:geo:115.7177962,-31.6896038
END:VEVENT
BEGIN:VEVENT
DTSTART;TZID=Australia/Perth:20260124T100000
DTEND;TZID=Australia/Perth:20260124T103000
DTSTAMP:20260426T000458
CREATED:20251210T142544Z
LAST-MODIFIED:20251210T142544Z
UID:10068777-1769248800-1769250600@buggybuddys.com.au
SUMMARY:Ocean Rescue SOS Escape Room @ Clarkson Library
DESCRIPTION:Escape room is a themed puzzle room where you are completely immersed into a new reality and must use the clues around the room to ESCAPE!
URL:https://buggybuddys.com.au/perth-event/ocean-rescue-sos-escape-room-clarkson-library-28/
LOCATION:Clarkson Library\, Cnr Ebb Way & Ocean Keys Blvd\, Clarkson\, WA\, 6030\, Australia
CATEGORIES:Library Events
ATTACH;FMTTYPE=image/jpeg:https://buggybuddys.com.au/wp-content/uploads/2025/12/0fa4ee0effbf96d145a9510e972ebd47.jpg
GEO:-31.6896038;115.7177962
X-APPLE-STRUCTURED-LOCATION;VALUE=URI;X-ADDRESS=Clarkson Library Cnr Ebb Way & Ocean Keys Blvd Clarkson WA 6030 Australia;X-APPLE-RADIUS=500;X-TITLE=Cnr Ebb Way & Ocean Keys Blvd:geo:115.7177962,-31.6896038
END:VEVENT
BEGIN:VEVENT
DTSTART;TZID=Australia/Perth:20260124T093000
DTEND;TZID=Australia/Perth:20260124T100000
DTSTAMP:20260426T000458
CREATED:20251210T142543Z
LAST-MODIFIED:20251210T142543Z
UID:10068776-1769247000-1769248800@buggybuddys.com.au
SUMMARY:Ocean Rescue SOS Escape Room @ Clarkson Library
DESCRIPTION:Escape room is a themed puzzle room where you are completely immersed into a new reality and must use the clues around the room to ESCAPE!
URL:https://buggybuddys.com.au/perth-event/ocean-rescue-sos-escape-room-clarkson-library-27/
LOCATION:Clarkson Library\, Cnr Ebb Way & Ocean Keys Blvd\, Clarkson\, WA\, 6030\, Australia
CATEGORIES:Library Events
ATTACH;FMTTYPE=image/jpeg:https://buggybuddys.com.au/wp-content/uploads/2025/12/0fa4ee0effbf96d145a9510e972ebd47.jpg
GEO:-31.6896038;115.7177962
X-APPLE-STRUCTURED-LOCATION;VALUE=URI;X-ADDRESS=Clarkson Library Cnr Ebb Way & Ocean Keys Blvd Clarkson WA 6030 Australia;X-APPLE-RADIUS=500;X-TITLE=Cnr Ebb Way & Ocean Keys Blvd:geo:115.7177962,-31.6896038
END:VEVENT
END:VCALENDAR