BEGIN:VCALENDAR
VERSION:2.0
PRODID:-//Buggybuddys guide for families in Perth - ECPv6.15.11//NONSGML v1.0//EN
CALSCALE:GREGORIAN
METHOD:PUBLISH
X-ORIGINAL-URL:https://buggybuddys.com.au
X-WR-CALDESC:Events for Buggybuddys guide for families in Perth
REFRESH-INTERVAL;VALUE=DURATION:PT1H
X-Robots-Tag:noindex
X-PUBLISHED-TTL:PT1H
BEGIN:VTIMEZONE
TZID:Australia/Perth
BEGIN:STANDARD
TZOFFSETFROM:+0800
TZOFFSETTO:+0800
TZNAME:AWST
DTSTART:20250101T000000
END:STANDARD
END:VTIMEZONE
BEGIN:VEVENT
DTSTART;TZID=Australia/Perth:20260424T153000
DTEND;TZID=Australia/Perth:20260424T183000
DTSTAMP:20260424T185435
CREATED:20260203T090256Z
LAST-MODIFIED:20260401T143355Z
UID:10073023-1777044600-1777055400@buggybuddys.com.au
SUMMARY:Youth Club Days @ Dordaak Kepup (Years 7 to 12)
DESCRIPTION:Join a Youth Club\, Wednesdays and Fridays at Dordaak Kepup. From gaming to music\, baking to 3D printing and everything in between.
URL:https://buggybuddys.com.au/perth-event/youth-club-days-dordaak-kepup-23/
LOCATION:Dordaak Kepup – Library and Youth Innovation Hub\, 15 The Broadview\, Landsdale\, WA\, 6065\, Australia
CATEGORIES:Club,Teens
ATTACH;FMTTYPE=image/jpeg:https://buggybuddys.com.au/wp-content/uploads/2026/02/64e1552b75a58a12e8c2333cf4cf7740.jpg
END:VEVENT
BEGIN:VEVENT
DTSTART;TZID=Australia/Perth:20260422T153000
DTEND;TZID=Australia/Perth:20260422T183000
DTSTAMP:20260424T185435
CREATED:20260203T090255Z
LAST-MODIFIED:20260401T143353Z
UID:10073022-1776871800-1776882600@buggybuddys.com.au
SUMMARY:Youth Club Days @ Dordaak Kepup (Years 7 to 12)
DESCRIPTION:Join a Youth Club\, Wednesdays and Fridays at Dordaak Kepup. From gaming to music\, baking to 3D printing and everything in between.
URL:https://buggybuddys.com.au/perth-event/youth-club-days-dordaak-kepup-22/
LOCATION:Dordaak Kepup – Library and Youth Innovation Hub\, 15 The Broadview\, Landsdale\, WA\, 6065\, Australia
CATEGORIES:Club,Teens
ATTACH;FMTTYPE=image/jpeg:https://buggybuddys.com.au/wp-content/uploads/2026/02/64e1552b75a58a12e8c2333cf4cf7740.jpg
END:VEVENT
BEGIN:VEVENT
DTSTART;TZID=Australia/Perth:20260422T153000
DTEND;TZID=Australia/Perth:20260422T164500
DTSTAMP:20260424T185435
CREATED:20260405T123040Z
LAST-MODIFIED:20260405T123040Z
UID:10076287-1776871800-1776876300@buggybuddys.com.au
SUMMARY:The Art Lab
DESCRIPTION:Exploring creativity through stories and art.
URL:https://buggybuddys.com.au/perth-event/the-art-lab/
LOCATION:Clarkson Library\, Cnr Ebb Way & Ocean Keys Blvd\, Clarkson\, WA\, 6030\, Australia
CATEGORIES:Kids Term Activities
ATTACH;FMTTYPE=image/jpeg:https://buggybuddys.com.au/wp-content/uploads/2026/04/a4a3a08e0d94dd5d7a12e75ac4f6824f.jpg
GEO:-31.6896038;115.7177962
X-APPLE-STRUCTURED-LOCATION;VALUE=URI;X-ADDRESS=Clarkson Library Cnr Ebb Way & Ocean Keys Blvd Clarkson WA 6030 Australia;X-APPLE-RADIUS=500;X-TITLE=Cnr Ebb Way & Ocean Keys Blvd:geo:115.7177962,-31.6896038
END:VEVENT
BEGIN:VEVENT
DTSTART;TZID=Australia/Perth:20260420T160000
DTEND;TZID=Australia/Perth:20260420T190000
DTSTAMP:20260424T185435
CREATED:20260203T090427Z
LAST-MODIFIED:20260401T143454Z
UID:10073050-1776700800-1776711600@buggybuddys.com.au
SUMMARY:Third Place @ Dordaak Kepup (Ages 16 to 25)
DESCRIPTION:Informal program for young people aged 16 to 25. Expect social spaces and low key activities including options for skills based workshops.
URL:https://buggybuddys.com.au/perth-event/third-place-dordaak-kepup-ages-16-to-25-9/
LOCATION:Dordaak Kepup – Library and Youth Innovation Hub\, 15 The Broadview\, Landsdale\, WA\, 6065\, Australia
CATEGORIES:Teens
ATTACH;FMTTYPE=image/jpeg:https://buggybuddys.com.au/wp-content/uploads/2026/02/64e1552b75a58a12e8c2333cf4cf7740.jpg
END:VEVENT
BEGIN:VEVENT
DTSTART;TZID=Australia/Perth:20260417T160000
DTEND;TZID=Australia/Perth:20260417T180000
DTSTAMP:20260424T185435
CREATED:20260206T154256Z
LAST-MODIFIED:20260206T154256Z
UID:10073282-1776441600-1776448800@buggybuddys.com.au
SUMMARY:Dungeons and Dragons Youth Club @ Dordaak Kepup
DESCRIPTION:Hosted by Dungeon Master Riley\, join the informal youth group for Dungeons and Dragons. Suitable for young people in high school.
URL:https://buggybuddys.com.au/perth-event/dungeons-and-dragons-youth-club-dordaak-kepup-4/
LOCATION:Dordaak Kepup – Library and Youth Innovation Hub\, 15 The Broadview\, Landsdale\, WA\, 6065\, Australia
CATEGORIES:Teens
ATTACH;FMTTYPE=image/jpeg:https://buggybuddys.com.au/wp-content/uploads/2026/02/d6ca8578c6ab17eb280d681ec3f78955.jpg
END:VEVENT
BEGIN:VEVENT
DTSTART;TZID=Australia/Perth:20260417T153000
DTEND;TZID=Australia/Perth:20260417T183000
DTSTAMP:20260424T185435
CREATED:20260203T090254Z
LAST-MODIFIED:20260401T143352Z
UID:10073021-1776439800-1776450600@buggybuddys.com.au
SUMMARY:Youth Club Days @ Dordaak Kepup (Years 7 to 12)
DESCRIPTION:Join a Youth Club\, Wednesdays and Fridays at Dordaak Kepup. From gaming to music\, baking to 3D printing and everything in between.
URL:https://buggybuddys.com.au/perth-event/youth-club-days-dordaak-kepup-21/
LOCATION:Dordaak Kepup – Library and Youth Innovation Hub\, 15 The Broadview\, Landsdale\, WA\, 6065\, Australia
CATEGORIES:Club,Teens
ATTACH;FMTTYPE=image/jpeg:https://buggybuddys.com.au/wp-content/uploads/2026/02/64e1552b75a58a12e8c2333cf4cf7740.jpg
END:VEVENT
BEGIN:VEVENT
DTSTART;TZID=Australia/Perth:20260415T153000
DTEND;TZID=Australia/Perth:20260415T183000
DTSTAMP:20260424T185435
CREATED:20260203T090238Z
LAST-MODIFIED:20260401T143350Z
UID:10073020-1776267000-1776277800@buggybuddys.com.au
SUMMARY:Youth Club Days @ Dordaak Kepup (Years 7 to 12)
DESCRIPTION:Join a Youth Club\, Wednesdays and Fridays at Dordaak Kepup. From gaming to music\, baking to 3D printing and everything in between.
URL:https://buggybuddys.com.au/perth-event/youth-club-days-dordaak-kepup-20/
LOCATION:Dordaak Kepup – Library and Youth Innovation Hub\, 15 The Broadview\, Landsdale\, WA\, 6065\, Australia
CATEGORIES:Club,Teens
ATTACH;FMTTYPE=image/jpeg:https://buggybuddys.com.au/wp-content/uploads/2026/02/64e1552b75a58a12e8c2333cf4cf7740.jpg
END:VEVENT
BEGIN:VEVENT
DTSTART;TZID=Australia/Perth:20260413T160000
DTEND;TZID=Australia/Perth:20260413T190000
DTSTAMP:20260424T185435
CREATED:20260203T090426Z
LAST-MODIFIED:20260401T143452Z
UID:10073049-1776096000-1776106800@buggybuddys.com.au
SUMMARY:Third Place @ Dordaak Kepup (Ages 16 to 25)
DESCRIPTION:Informal program for young people aged 16 to 25. Expect social spaces and low key activities including options for skills based workshops.
URL:https://buggybuddys.com.au/perth-event/third-place-dordaak-kepup-ages-16-to-25-8/
LOCATION:Dordaak Kepup – Library and Youth Innovation Hub\, 15 The Broadview\, Landsdale\, WA\, 6065\, Australia
CATEGORIES:Teens
ATTACH;FMTTYPE=image/jpeg:https://buggybuddys.com.au/wp-content/uploads/2026/02/64e1552b75a58a12e8c2333cf4cf7740.jpg
END:VEVENT
BEGIN:VEVENT
DTSTART;TZID=Australia/Perth:20260410T153000
DTEND;TZID=Australia/Perth:20260410T183000
DTSTAMP:20260424T185435
CREATED:20260203T090238Z
LAST-MODIFIED:20260401T143349Z
UID:10073019-1775835000-1775845800@buggybuddys.com.au
SUMMARY:Youth Club Days @ Dordaak Kepup (Years 7 to 12)
DESCRIPTION:Join a Youth Club\, Wednesdays and Fridays at Dordaak Kepup. From gaming to music\, baking to 3D printing and everything in between.
URL:https://buggybuddys.com.au/perth-event/youth-club-days-dordaak-kepup-19/
LOCATION:Dordaak Kepup – Library and Youth Innovation Hub\, 15 The Broadview\, Landsdale\, WA\, 6065\, Australia
CATEGORIES:Club,Teens
ATTACH;FMTTYPE=image/jpeg:https://buggybuddys.com.au/wp-content/uploads/2026/02/64e1552b75a58a12e8c2333cf4cf7740.jpg
END:VEVENT
BEGIN:VEVENT
DTSTART;TZID=Australia/Perth:20260408T153000
DTEND;TZID=Australia/Perth:20260408T183000
DTSTAMP:20260424T185435
CREATED:20260203T090237Z
LAST-MODIFIED:20260401T143347Z
UID:10073018-1775662200-1775673000@buggybuddys.com.au
SUMMARY:Youth Club Days @ Dordaak Kepup (Years 7 to 12)
DESCRIPTION:Join a Youth Club\, Wednesdays and Fridays at Dordaak Kepup. From gaming to music\, baking to 3D printing and everything in between.
URL:https://buggybuddys.com.au/perth-event/youth-club-days-dordaak-kepup-18/
LOCATION:Dordaak Kepup – Library and Youth Innovation Hub\, 15 The Broadview\, Landsdale\, WA\, 6065\, Australia
CATEGORIES:Club,Teens
ATTACH;FMTTYPE=image/jpeg:https://buggybuddys.com.au/wp-content/uploads/2026/02/64e1552b75a58a12e8c2333cf4cf7740.jpg
END:VEVENT
BEGIN:VEVENT
DTSTART;TZID=Australia/Perth:20260401T153000
DTEND;TZID=Australia/Perth:20260401T183000
DTSTAMP:20260424T185435
CREATED:20260203T090236Z
LAST-MODIFIED:20260203T090236Z
UID:10073017-1775057400-1775068200@buggybuddys.com.au
SUMMARY:Youth Club Days @ Dordaak Kepup
DESCRIPTION:Join a Youth Club\, Wednesdays and Fridays at Dordaak Kepup. From gaming to music\, baking to 3D printing and everything in between.
URL:https://buggybuddys.com.au/perth-event/youth-club-days-dordaak-kepup-17/
LOCATION:Dordaak Kepup – Library and Youth Innovation Hub\, 15 The Broadview\, Landsdale\, WA\, 6065\, Australia
CATEGORIES:Teens
ATTACH;FMTTYPE=image/jpeg:https://buggybuddys.com.au/wp-content/uploads/2026/02/64e1552b75a58a12e8c2333cf4cf7740.jpg
END:VEVENT
BEGIN:VEVENT
DTSTART;TZID=Australia/Perth:20260330T160000
DTEND;TZID=Australia/Perth:20260330T190000
DTSTAMP:20260424T185435
CREATED:20260203T090424Z
LAST-MODIFIED:20260203T090424Z
UID:10073048-1774886400-1774897200@buggybuddys.com.au
SUMMARY:Third Place @ Dordaak Kepup (Ages 16 to 25)
DESCRIPTION:Informal program for young people aged 16 to 25. Expect social spaces and low key activities including options for skills based workshops.
URL:https://buggybuddys.com.au/perth-event/third-place-dordaak-kepup-ages-16-to-25-7/
LOCATION:Dordaak Kepup – Library and Youth Innovation Hub\, 15 The Broadview\, Landsdale\, WA\, 6065\, Australia
CATEGORIES:Teens
ATTACH;FMTTYPE=image/jpeg:https://buggybuddys.com.au/wp-content/uploads/2026/02/64e1552b75a58a12e8c2333cf4cf7740.jpg
END:VEVENT
BEGIN:VEVENT
DTSTART;TZID=Australia/Perth:20260327T153000
DTEND;TZID=Australia/Perth:20260327T183000
DTSTAMP:20260424T185435
CREATED:20260203T090235Z
LAST-MODIFIED:20260203T090235Z
UID:10073016-1774625400-1774636200@buggybuddys.com.au
SUMMARY:Youth Club Days @ Dordaak Kepup
DESCRIPTION:Join a Youth Club\, Wednesdays and Fridays at Dordaak Kepup. From gaming to music\, baking to 3D printing and everything in between.
URL:https://buggybuddys.com.au/perth-event/youth-club-days-dordaak-kepup-16/
LOCATION:Dordaak Kepup – Library and Youth Innovation Hub\, 15 The Broadview\, Landsdale\, WA\, 6065\, Australia
CATEGORIES:Teens
ATTACH;FMTTYPE=image/jpeg:https://buggybuddys.com.au/wp-content/uploads/2026/02/64e1552b75a58a12e8c2333cf4cf7740.jpg
END:VEVENT
BEGIN:VEVENT
DTSTART;TZID=Australia/Perth:20260325T153000
DTEND;TZID=Australia/Perth:20260325T183000
DTSTAMP:20260424T185435
CREATED:20260203T090234Z
LAST-MODIFIED:20260203T090234Z
UID:10073015-1774452600-1774463400@buggybuddys.com.au
SUMMARY:Youth Club Days @ Dordaak Kepup
DESCRIPTION:Join a Youth Club\, Wednesdays and Fridays at Dordaak Kepup. From gaming to music\, baking to 3D printing and everything in between.
URL:https://buggybuddys.com.au/perth-event/youth-club-days-dordaak-kepup-15/
LOCATION:Dordaak Kepup – Library and Youth Innovation Hub\, 15 The Broadview\, Landsdale\, WA\, 6065\, Australia
CATEGORIES:Teens
ATTACH;FMTTYPE=image/jpeg:https://buggybuddys.com.au/wp-content/uploads/2026/02/64e1552b75a58a12e8c2333cf4cf7740.jpg
END:VEVENT
BEGIN:VEVENT
DTSTART;TZID=Australia/Perth:20260323T160000
DTEND;TZID=Australia/Perth:20260323T190000
DTSTAMP:20260424T185435
CREATED:20260203T090423Z
LAST-MODIFIED:20260203T090423Z
UID:10073047-1774281600-1774292400@buggybuddys.com.au
SUMMARY:Third Place @ Dordaak Kepup (Ages 16 to 25)
DESCRIPTION:Informal program for young people aged 16 to 25. Expect social spaces and low key activities including options for skills based workshops.
URL:https://buggybuddys.com.au/perth-event/third-place-dordaak-kepup-ages-16-to-25-6/
LOCATION:Dordaak Kepup – Library and Youth Innovation Hub\, 15 The Broadview\, Landsdale\, WA\, 6065\, Australia
CATEGORIES:Teens
ATTACH;FMTTYPE=image/jpeg:https://buggybuddys.com.au/wp-content/uploads/2026/02/64e1552b75a58a12e8c2333cf4cf7740.jpg
END:VEVENT
BEGIN:VEVENT
DTSTART;TZID=Australia/Perth:20260320T160000
DTEND;TZID=Australia/Perth:20260320T180000
DTSTAMP:20260424T185435
CREATED:20260206T154255Z
LAST-MODIFIED:20260206T154255Z
UID:10073281-1774022400-1774029600@buggybuddys.com.au
SUMMARY:Dungeons and Dragons Youth Club @ Dordaak Kepup
DESCRIPTION:Hosted by Dungeon Master Riley\, join the informal youth group for Dungeons and Dragons. Suitable for young people in high school.
URL:https://buggybuddys.com.au/perth-event/dungeons-and-dragons-youth-club-dordaak-kepup-3/
LOCATION:Dordaak Kepup – Library and Youth Innovation Hub\, 15 The Broadview\, Landsdale\, WA\, 6065\, Australia
CATEGORIES:Teens
ATTACH;FMTTYPE=image/jpeg:https://buggybuddys.com.au/wp-content/uploads/2026/02/d6ca8578c6ab17eb280d681ec3f78955.jpg
END:VEVENT
BEGIN:VEVENT
DTSTART;TZID=Australia/Perth:20260320T153000
DTEND;TZID=Australia/Perth:20260320T183000
DTSTAMP:20260424T185435
CREATED:20260203T090233Z
LAST-MODIFIED:20260203T090233Z
UID:10073014-1774020600-1774031400@buggybuddys.com.au
SUMMARY:Youth Club Days @ Dordaak Kepup
DESCRIPTION:Join a Youth Club\, Wednesdays and Fridays at Dordaak Kepup. From gaming to music\, baking to 3D printing and everything in between.
URL:https://buggybuddys.com.au/perth-event/youth-club-days-dordaak-kepup-14/
LOCATION:Dordaak Kepup – Library and Youth Innovation Hub\, 15 The Broadview\, Landsdale\, WA\, 6065\, Australia
CATEGORIES:Teens
ATTACH;FMTTYPE=image/jpeg:https://buggybuddys.com.au/wp-content/uploads/2026/02/64e1552b75a58a12e8c2333cf4cf7740.jpg
END:VEVENT
BEGIN:VEVENT
DTSTART;TZID=Australia/Perth:20260318T153000
DTEND;TZID=Australia/Perth:20260318T183000
DTSTAMP:20260424T185435
CREATED:20260203T090233Z
LAST-MODIFIED:20260203T090233Z
UID:10073013-1773847800-1773858600@buggybuddys.com.au
SUMMARY:Youth Club Days @ Dordaak Kepup
DESCRIPTION:Join a Youth Club\, Wednesdays and Fridays at Dordaak Kepup. From gaming to music\, baking to 3D printing and everything in between.
URL:https://buggybuddys.com.au/perth-event/youth-club-days-dordaak-kepup-13/
LOCATION:Dordaak Kepup – Library and Youth Innovation Hub\, 15 The Broadview\, Landsdale\, WA\, 6065\, Australia
CATEGORIES:Teens
ATTACH;FMTTYPE=image/jpeg:https://buggybuddys.com.au/wp-content/uploads/2026/02/64e1552b75a58a12e8c2333cf4cf7740.jpg
END:VEVENT
BEGIN:VEVENT
DTSTART;TZID=Australia/Perth:20260316T160000
DTEND;TZID=Australia/Perth:20260316T190000
DTSTAMP:20260424T185435
CREATED:20260203T090422Z
LAST-MODIFIED:20260203T090422Z
UID:10073046-1773676800-1773687600@buggybuddys.com.au
SUMMARY:Third Place @ Dordaak Kepup (Ages 16 to 25)
DESCRIPTION:Informal program for young people aged 16 to 25. Expect social spaces and low key activities including options for skills based workshops.
URL:https://buggybuddys.com.au/perth-event/third-place-dordaak-kepup-ages-16-to-25-5/
LOCATION:Dordaak Kepup – Library and Youth Innovation Hub\, 15 The Broadview\, Landsdale\, WA\, 6065\, Australia
CATEGORIES:Teens
ATTACH;FMTTYPE=image/jpeg:https://buggybuddys.com.au/wp-content/uploads/2026/02/64e1552b75a58a12e8c2333cf4cf7740.jpg
END:VEVENT
BEGIN:VEVENT
DTSTART;TZID=Australia/Perth:20260313T153000
DTEND;TZID=Australia/Perth:20260313T183000
DTSTAMP:20260424T185435
CREATED:20260203T090232Z
LAST-MODIFIED:20260203T090232Z
UID:10073012-1773415800-1773426600@buggybuddys.com.au
SUMMARY:Youth Club Days @ Dordaak Kepup
DESCRIPTION:Join a Youth Club\, Wednesdays and Fridays at Dordaak Kepup. From gaming to music\, baking to 3D printing and everything in between.
URL:https://buggybuddys.com.au/perth-event/youth-club-days-dordaak-kepup-12/
LOCATION:Dordaak Kepup – Library and Youth Innovation Hub\, 15 The Broadview\, Landsdale\, WA\, 6065\, Australia
CATEGORIES:Teens
ATTACH;FMTTYPE=image/jpeg:https://buggybuddys.com.au/wp-content/uploads/2026/02/64e1552b75a58a12e8c2333cf4cf7740.jpg
END:VEVENT
BEGIN:VEVENT
DTSTART;TZID=Australia/Perth:20260311T153000
DTEND;TZID=Australia/Perth:20260311T183000
DTSTAMP:20260424T185435
CREATED:20260203T090231Z
LAST-MODIFIED:20260203T090231Z
UID:10073011-1773243000-1773253800@buggybuddys.com.au
SUMMARY:Youth Club Days @ Dordaak Kepup
DESCRIPTION:Join a Youth Club\, Wednesdays and Fridays at Dordaak Kepup. From gaming to music\, baking to 3D printing and everything in between.
URL:https://buggybuddys.com.au/perth-event/youth-club-days-dordaak-kepup-11/
LOCATION:Dordaak Kepup – Library and Youth Innovation Hub\, 15 The Broadview\, Landsdale\, WA\, 6065\, Australia
CATEGORIES:Teens
ATTACH;FMTTYPE=image/jpeg:https://buggybuddys.com.au/wp-content/uploads/2026/02/64e1552b75a58a12e8c2333cf4cf7740.jpg
END:VEVENT
BEGIN:VEVENT
DTSTART;TZID=Australia/Perth:20260309T160000
DTEND;TZID=Australia/Perth:20260309T190000
DTSTAMP:20260424T185435
CREATED:20260203T090422Z
LAST-MODIFIED:20260203T090422Z
UID:10073045-1773072000-1773082800@buggybuddys.com.au
SUMMARY:Third Place @ Dordaak Kepup (Ages 16 to 25)
DESCRIPTION:Informal program for young people aged 16 to 25. Expect social spaces and low key activities including options for skills based workshops.
URL:https://buggybuddys.com.au/perth-event/third-place-dordaak-kepup-ages-16-to-25-4/
LOCATION:Dordaak Kepup – Library and Youth Innovation Hub\, 15 The Broadview\, Landsdale\, WA\, 6065\, Australia
CATEGORIES:Teens
ATTACH;FMTTYPE=image/jpeg:https://buggybuddys.com.au/wp-content/uploads/2026/02/64e1552b75a58a12e8c2333cf4cf7740.jpg
END:VEVENT
BEGIN:VEVENT
DTSTART;TZID=Australia/Perth:20260306T160000
DTEND;TZID=Australia/Perth:20260306T180000
DTSTAMP:20260424T185435
CREATED:20260206T154254Z
LAST-MODIFIED:20260206T154254Z
UID:10073280-1772812800-1772820000@buggybuddys.com.au
SUMMARY:Dungeons and Dragons Youth Club @ Dordaak Kepup
DESCRIPTION:Hosted by Dungeon Master Riley\, join the informal youth group for Dungeons and Dragons. Suitable for young people in high school.
URL:https://buggybuddys.com.au/perth-event/dungeons-and-dragons-youth-club-dordaak-kepup-2/
LOCATION:Dordaak Kepup – Library and Youth Innovation Hub\, 15 The Broadview\, Landsdale\, WA\, 6065\, Australia
CATEGORIES:Teens
ATTACH;FMTTYPE=image/jpeg:https://buggybuddys.com.au/wp-content/uploads/2026/02/d6ca8578c6ab17eb280d681ec3f78955.jpg
END:VEVENT
BEGIN:VEVENT
DTSTART;TZID=Australia/Perth:20260306T153000
DTEND;TZID=Australia/Perth:20260306T183000
DTSTAMP:20260424T185435
CREATED:20260203T090211Z
LAST-MODIFIED:20260203T090211Z
UID:10073010-1772811000-1772821800@buggybuddys.com.au
SUMMARY:Youth Club Days @ Dordaak Kepup
DESCRIPTION:Join a Youth Club\, Wednesdays and Fridays at Dordaak Kepup. From gaming to music\, baking to 3D printing and everything in between.
URL:https://buggybuddys.com.au/perth-event/youth-club-days-dordaak-kepup-10/
LOCATION:Dordaak Kepup – Library and Youth Innovation Hub\, 15 The Broadview\, Landsdale\, WA\, 6065\, Australia
CATEGORIES:Teens
ATTACH;FMTTYPE=image/jpeg:https://buggybuddys.com.au/wp-content/uploads/2026/02/64e1552b75a58a12e8c2333cf4cf7740.jpg
END:VEVENT
BEGIN:VEVENT
DTSTART;TZID=Australia/Perth:20260304T153000
DTEND;TZID=Australia/Perth:20260304T183000
DTSTAMP:20260424T185435
CREATED:20260203T090210Z
LAST-MODIFIED:20260203T090210Z
UID:10073009-1772638200-1772649000@buggybuddys.com.au
SUMMARY:Youth Club Days @ Dordaak Kepup
DESCRIPTION:Join a Youth Club\, Wednesdays and Fridays at Dordaak Kepup. From gaming to music\, baking to 3D printing and everything in between.
URL:https://buggybuddys.com.au/perth-event/youth-club-days-dordaak-kepup-9/
LOCATION:Dordaak Kepup – Library and Youth Innovation Hub\, 15 The Broadview\, Landsdale\, WA\, 6065\, Australia
CATEGORIES:Teens
ATTACH;FMTTYPE=image/jpeg:https://buggybuddys.com.au/wp-content/uploads/2026/02/64e1552b75a58a12e8c2333cf4cf7740.jpg
END:VEVENT
BEGIN:VEVENT
DTSTART;TZID=Australia/Perth:20260227T153000
DTEND;TZID=Australia/Perth:20260227T183000
DTSTAMP:20260424T185435
CREATED:20260203T090209Z
LAST-MODIFIED:20260203T090209Z
UID:10073008-1772206200-1772217000@buggybuddys.com.au
SUMMARY:Youth Club Days @ Dordaak Kepup
DESCRIPTION:Join a Youth Club\, Wednesdays and Fridays at Dordaak Kepup. From gaming to music\, baking to 3D printing and everything in between.
URL:https://buggybuddys.com.au/perth-event/youth-club-days-dordaak-kepup-8/
LOCATION:Dordaak Kepup – Library and Youth Innovation Hub\, 15 The Broadview\, Landsdale\, WA\, 6065\, Australia
CATEGORIES:Teens
ATTACH;FMTTYPE=image/jpeg:https://buggybuddys.com.au/wp-content/uploads/2026/02/64e1552b75a58a12e8c2333cf4cf7740.jpg
END:VEVENT
BEGIN:VEVENT
DTSTART;TZID=Australia/Perth:20260225T153000
DTEND;TZID=Australia/Perth:20260225T183000
DTSTAMP:20260424T185435
CREATED:20260203T090209Z
LAST-MODIFIED:20260203T090209Z
UID:10073007-1772033400-1772044200@buggybuddys.com.au
SUMMARY:Youth Club Days @ Dordaak Kepup
DESCRIPTION:Join a Youth Club\, Wednesdays and Fridays at Dordaak Kepup. From gaming to music\, baking to 3D printing and everything in between.
URL:https://buggybuddys.com.au/perth-event/youth-club-days-dordaak-kepup-7/
LOCATION:Dordaak Kepup – Library and Youth Innovation Hub\, 15 The Broadview\, Landsdale\, WA\, 6065\, Australia
CATEGORIES:Teens
ATTACH;FMTTYPE=image/jpeg:https://buggybuddys.com.au/wp-content/uploads/2026/02/64e1552b75a58a12e8c2333cf4cf7740.jpg
END:VEVENT
BEGIN:VEVENT
DTSTART;TZID=Australia/Perth:20260223T160000
DTEND;TZID=Australia/Perth:20260223T190000
DTSTAMP:20260424T185435
CREATED:20260203T090421Z
LAST-MODIFIED:20260203T090421Z
UID:10073044-1771862400-1771873200@buggybuddys.com.au
SUMMARY:Third Place @ Dordaak Kepup (Ages 16 to 25)
DESCRIPTION:Informal program for young people aged 16 to 25. Expect social spaces and low key activities including options for skills based workshops.
URL:https://buggybuddys.com.au/perth-event/third-place-dordaak-kepup-ages-16-to-25-3/
LOCATION:Dordaak Kepup – Library and Youth Innovation Hub\, 15 The Broadview\, Landsdale\, WA\, 6065\, Australia
CATEGORIES:Teens
ATTACH;FMTTYPE=image/jpeg:https://buggybuddys.com.au/wp-content/uploads/2026/02/64e1552b75a58a12e8c2333cf4cf7740.jpg
END:VEVENT
BEGIN:VEVENT
DTSTART;TZID=Australia/Perth:20260220T160000
DTEND;TZID=Australia/Perth:20260220T180000
DTSTAMP:20260424T185435
CREATED:20260206T154251Z
LAST-MODIFIED:20260206T154251Z
UID:10073279-1771603200-1771610400@buggybuddys.com.au
SUMMARY:Dungeons and Dragons Youth Club @ Dordaak Kepup
DESCRIPTION:Hosted by Dungeon Master Riley\, join the informal youth group for Dungeons and Dragons. Suitable for young people in high school.
URL:https://buggybuddys.com.au/perth-event/dungeons-and-dragons-youth-club-dordaak-kepup/
LOCATION:Dordaak Kepup – Library and Youth Innovation Hub\, 15 The Broadview\, Landsdale\, WA\, 6065\, Australia
CATEGORIES:Teens
ATTACH;FMTTYPE=image/jpeg:https://buggybuddys.com.au/wp-content/uploads/2026/02/d6ca8578c6ab17eb280d681ec3f78955.jpg
END:VEVENT
BEGIN:VEVENT
DTSTART;TZID=Australia/Perth:20260220T153000
DTEND;TZID=Australia/Perth:20260220T183000
DTSTAMP:20260424T185435
CREATED:20260203T090208Z
LAST-MODIFIED:20260203T090208Z
UID:10073006-1771601400-1771612200@buggybuddys.com.au
SUMMARY:Youth Club Days @ Dordaak Kepup
DESCRIPTION:Join a Youth Club\, Wednesdays and Fridays at Dordaak Kepup. From gaming to music\, baking to 3D printing and everything in between.
URL:https://buggybuddys.com.au/perth-event/youth-club-days-dordaak-kepup-6/
LOCATION:Dordaak Kepup – Library and Youth Innovation Hub\, 15 The Broadview\, Landsdale\, WA\, 6065\, Australia
CATEGORIES:Teens
ATTACH;FMTTYPE=image/jpeg:https://buggybuddys.com.au/wp-content/uploads/2026/02/64e1552b75a58a12e8c2333cf4cf7740.jpg
END:VEVENT
END:VCALENDAR